From mboxrd@z Thu Jan 1 00:00:00 1970 Return-Path: Received: from mails.dpdk.org (mails.dpdk.org [217.70.189.124]) by inbox.dpdk.org (Postfix) with ESMTP id C321148AFF for ; Fri, 14 Nov 2025 02:45:18 +0100 (CET) Received: from mails.dpdk.org (localhost [127.0.0.1]) by mails.dpdk.org (Postfix) with ESMTP id BB97540151; Fri, 14 Nov 2025 02:45:18 +0100 (CET) Received: from mail-qv1-f99.google.com (mail-qv1-f99.google.com [209.85.219.99]) by mails.dpdk.org (Postfix) with ESMTP id DA4C640151 for ; Fri, 14 Nov 2025 02:45:17 +0100 (CET) Received: by mail-qv1-f99.google.com with SMTP id 6a1803df08f44-88246401c9eso13995226d6.1 for ; Thu, 13 Nov 2025 17:45:17 -0800 (PST) DKIM-Signature: v=1; a=rsa-sha256; c=relaxed/relaxed; d=iol.unh.edu; s=unh-iol; t=1763084717; x=1763689517; darn=dpdk.org; h=references:in-reply-to:cc:to:from:subject:message-id:date:from:to :cc:subject:date:message-id:reply-to; bh=kvan9eszBCkKsR2sqvZryZ6pumwMbp6d664Xz6JD1TI=; b=N+4FyJuN8XGHBSuymne1R0KSrbrMrJCF6zZmX93aYKRkHrOrTk0Tkuehi+TbTo+evM /BwdPGm4QIFigh5XrpFgBOI7oufCEbZRktfmiYZ1pa0K4l2kwaPU19PbAx5zMksw1VFW ZMHUMlolbbpIIxsoMtQtXGzSzhH+wCnyotvRs= X-Google-DKIM-Signature: v=1; a=rsa-sha256; c=relaxed/relaxed; d=1e100.net; s=20230601; t=1763084717; x=1763689517; h=references:in-reply-to:cc:to:from:subject:message-id:date:x-gm-gg :x-gm-message-state:from:to:cc:subject:date:message-id:reply-to; bh=kvan9eszBCkKsR2sqvZryZ6pumwMbp6d664Xz6JD1TI=; b=ZAW52cFoef7hIIsLmPRDyvou8OPLWC/G135Pe4kQFBS9tHB19aVJE9QHrK8S3kYRax dq8vFdCkxAen7Ru60P74TUZQPkNr8nmouAZxhF6/Ev3Z8stfD4+1/2II2Aldv2I3OYBB j9V42xJ+Z7CbuQ1xENbKrQKZERcUYWIc9EfNF9JYiqYoT7ZgOPLFgHFHGiU+zdKq1+r1 klwviamZYGQBP+Hkn9BBmEFp9wamRlgBbIAuzu8koIf+jVkIGl2xDqkBY4B8LirB/sB+ +SAcD+vuzT04UCFKlVlXfZ25/zRQvtzBda+LP1MDvtlxHPxbpklpBxjb+ED31FE2/0eI Vf4g== X-Gm-Message-State: AOJu0YyVdyCKfwn5QLn03tD9WzTQNfi91s31WwMGXuit0B0pAcDRWoe9 V/LuTNiwigIlcZx/Y5/EiSDJYw4l4XVjVEOZAAlVMGM0jj0kSxU7ZUNoTvBfDf5m/XytENl8Sa9 0ek0CG2y3A3RWgWudcp3ErE0rRKtbgt4wq5Ad/eOOJ94O X-Gm-Gg: ASbGnctKySj8mgZ2xQn2vA606gUD7aZM/7exiVA4h9gzKfGFq/KnVlriNdQkCFPlS1/ kDRS5BtplJcJImuMVQkQs1kE4HKeSeBFpBE7UhBRV6JqMChPeIzYPNxQvN9imBSSYcsXbEfHPEg tSRq51ot6op3/H60i1jele6bIHDkyTtMFCNmeSlmB2wmdCixOv/KlWfOEHmmWicCf7CP9iGs5IH UJ4QByOuzttpFI0DBfbZ1tXRM6DVHSAdu6H7GmAkwULqNEdpLrdSuoPPI8iup7ixwnPZpTKHG92 4oJM/VMlwouTbFVvlM6D0SGYpsVj59BPubRpaey2edto/Yw69VRKdmq6ZSOnCkpLSIUM6VbTGOe leEbZFcyktxR4oZqNYmohaexq9cp8OFA= X-Google-Smtp-Source: AGHT+IEZ0LbjgUCzAf8bhuLhn8lgA03YT7BW6fQu27jQ2VPWI1siUbfBkkBhLFpdh1uVBDEfo2qmEBk8y//n X-Received: by 2002:ad4:5cae:0:b0:882:4a63:63a0 with SMTP id 6a1803df08f44-8829273fca0mr19418996d6.58.1763084717264; Thu, 13 Nov 2025 17:45:17 -0800 (PST) Received: from postal.iol.unh.edu (postal.iol.unh.edu. [132.177.123.84]) by smtp-relay.gmail.com with ESMTPS id 6a1803df08f44-8828657c6aasm3855976d6.26.2025.11.13.17.45.17 (version=TLS1_2 cipher=ECDHE-ECDSA-AES128-GCM-SHA256 bits=128/128); Thu, 13 Nov 2025 17:45:17 -0800 (PST) X-Relaying-Domain: iol.unh.edu Date: Thu, 13 Nov 2025 17:45:17 -0800 (PST) Message-ID: <691689ad.050a0220.3daff.21a8SMTPIN_ADDED_MISSING@mx.google.com> Received: from [172.21.0.2] (unknown [172.18.0.240]) by postal.iol.unh.edu (Postfix) with ESMTP id 094FF6051830; Thu, 13 Nov 2025 20:45:17 -0500 (EST) Subject: |SUCCESS| pw158744 [PATCH] net/mlx5: fix cross GVMI metadata match f From: dpdklab@iol.unh.edu To: Test Report Cc: dpdk-test-reports@iol.unh.edu In-Reply-To: <20251113071746.434067-1-getelson@nvidia.com> References: <20251113071746.434067-1-getelson@nvidia.com> Content-Type: text/plain X-BeenThere: test-report@dpdk.org X-Mailman-Version: 2.1.29 Precedence: list List-Id: automatic DPDK test reports List-Unsubscribe: , List-Archive: List-Post: List-Help: List-Subscribe: , Errors-To: test-report-bounces@dpdk.org Test-Label: iol-compile-amd64-testing Test-Status: SUCCESS http://dpdk.org/patch/158744 _Testing PASS_ Submitter: Gregory Etelson Date: Thursday, November 13 2025 07:17:45 DPDK git baseline: Repo:dpdk-next-net-mlx Branch: master CommitID:ae657d56b1f0ea979b3f611edf28d773efc2ddcf 158744 --> testing pass Upstream job id: Windows-Compile-DPDK-VS#7528 Test environment and result as below: +-------------------------------+--------------------+------------------+-------------------+ | Environment | dpdk_meson_compile | dpdk_compile_ovs | dpdk_msvc_compile | +===============================+====================+==================+===================+ | FreeBSD 14.2 | PASS | SKIPPED | SKIPPED | +-------------------------------+--------------------+------------------+-------------------+ | Ubuntu 20.04 | PASS | SKIPPED | SKIPPED | +-------------------------------+--------------------+------------------+-------------------+ | CentOS Stream 9 | PASS | SKIPPED | SKIPPED | +-------------------------------+--------------------+------------------+-------------------+ | CentOS Stream 10 | PASS | SKIPPED | SKIPPED | +-------------------------------+--------------------+------------------+-------------------+ | Debian GNU/Linux 12 | PASS | SKIPPED | SKIPPED | +-------------------------------+--------------------+------------------+-------------------+ | Fedora Linux 42 | PASS | PASS | SKIPPED | +-------------------------------+--------------------+------------------+-------------------+ | openSUSE Leap 15.6 | PASS | SKIPPED | SKIPPED | +-------------------------------+--------------------+------------------+-------------------+ | Red Hat Enterprise Linux 9.5 | PASS | SKIPPED | SKIPPED | +-------------------------------+--------------------+------------------+-------------------+ | Red Hat Enterprise Linux 8.10 | PASS | SKIPPED | SKIPPED | +-------------------------------+--------------------+------------------+-------------------+ | Ubuntu 22.04 | PASS | SKIPPED | SKIPPED | +-------------------------------+--------------------+------------------+-------------------+ | Alpine Linux 3.22.0 | PASS | SKIPPED | SKIPPED | +-------------------------------+--------------------+------------------+-------------------+ | Ubuntu 24.04 | PASS | PASS | SKIPPED | +-------------------------------+--------------------+------------------+-------------------+ | Windows Server 2022 | SKIPPED | SKIPPED | PASS | +-------------------------------+--------------------+------------------+-------------------+ FreeBSD 14.2 Kernel: 14.2-RELEASE Compiler: clang 18.1.6 Ubuntu 20.04 Kernel: 4.19 Compiler: gcc gcc (Ubuntu 9.4.0-1ubuntu1~20.04.2) 9.4.0 CentOS Stream 9 Kernel: 5.15 Compiler: gcc gcc (GCC) 11.5.0 20240719 (Red Hat 11.5.0-11) CentOS Stream 10 Kernel: 5.15 Compiler: gcc gcc (GCC) 14.2.1 20250110 (Red Hat 14.2.1-8) Debian GNU/Linux 12 Kernel: 5.15 Compiler: gcc gcc (Debian 12.2.0-14+deb12u1) 12.2.0 Fedora Linux 42 Kernel: 5.15 Compiler: clang gcc (GCC) 15.2.1 20250808 (Red Hat 15.2.1-1) openSUSE Leap 15.6 Kernel: 5.15 Compiler: gcc gcc (SUSE Linux) 7.5.0 Red Hat Enterprise Linux 9.5 Kernel: 5.15 Compiler: gcc gcc (GCC) 11.5.0 20240719 (Red Hat 11.5.0-2) Red Hat Enterprise Linux 8.10 Kernel: 5.15 Compiler: gcc gcc (GCC) 8.5.0 20210514 (Red Hat 8.5.0-22) Ubuntu 22.04 Kernel: 5.15 Compiler: gcc gcc (Ubuntu 11.4.0-1ubuntu1~22.04) 11.4.0 Alpine Linux 3.22.0 Kernel: 5.15 Compiler: gcc gcc (Alpine 14.2.0) 14.2.0 Ubuntu 24.04 Kernel: 5.15 Compiler: gcc gcc (Ubuntu 13.3.0-6ubuntu2~24.04) 13.3.0 Windows Server 2022 Kernel: 10.0.20348.2031 Compiler: clang 15.0.7, gcc 14.1.0 (MinGW), and MSVC VS 19.39.33521 To view detailed results, visit: https://lab.dpdk.org/results/dashboard/patchsets/34564/ UNH-IOL DPDK Community Lab To manage your email subscriptions, visit: https://lab.dpdk.org/results/dashboard/preferences/subscriptions/