From mboxrd@z Thu Jan 1 00:00:00 1970 Return-Path: Received: from mails.dpdk.org (mails.dpdk.org [217.70.189.124]) by inbox.dpdk.org (Postfix) with ESMTP id 7605B48AFF for ; Fri, 14 Nov 2025 02:53:26 +0100 (CET) Received: from mails.dpdk.org (localhost [127.0.0.1]) by mails.dpdk.org (Postfix) with ESMTP id 641CA40657; Fri, 14 Nov 2025 02:53:26 +0100 (CET) Received: from mail-io1-f99.google.com (mail-io1-f99.google.com [209.85.166.99]) by mails.dpdk.org (Postfix) with ESMTP id 12F4840151 for ; Fri, 14 Nov 2025 02:53:25 +0100 (CET) Received: by mail-io1-f99.google.com with SMTP id ca18e2360f4ac-948d45692b1so54619939f.0 for ; Thu, 13 Nov 2025 17:53:25 -0800 (PST) DKIM-Signature: v=1; a=rsa-sha256; c=relaxed/relaxed; d=iol.unh.edu; s=unh-iol; t=1763085204; x=1763690004; darn=dpdk.org; h=references:in-reply-to:cc:to:from:subject:message-id:date:from:to :cc:subject:date:message-id:reply-to; bh=WPb5moY6JEwRz118BDAoA76CNhPXbK1ThR6xI1UNOto=; b=LfiNmQ94NQhgA1JqTHcOMzzhVm7qpT1iy20Hc8SQSCvyoJk45j3pUmr1uaZDxNK2V9 8t5DnW5WstPWoIdbS1bqAr2rf/FwYfAyBC76FKJkfnH1F5otP6Wo5tuyv63vgCKP71Ny yrdQ5RqzXGH2JLiiEYtX6fOULC5dMx6Uy3ors= X-Google-DKIM-Signature: v=1; a=rsa-sha256; c=relaxed/relaxed; d=1e100.net; s=20230601; t=1763085204; x=1763690004; h=references:in-reply-to:cc:to:from:subject:message-id:date:x-gm-gg :x-gm-message-state:from:to:cc:subject:date:message-id:reply-to; bh=WPb5moY6JEwRz118BDAoA76CNhPXbK1ThR6xI1UNOto=; b=xJxxdG6ByzjUOt8JXz1ePooH9uPWFd0rVwnfI7ck0xpCdR33O2L91tyd6xuBKHOfTt hIQA8GwjcOmJ/hDZlS/cJ2XuxtJe194rvaWjXdOb1zoUuRLtzMBQgRJMu9kikyWr6oaC 1YxEqix3d2Gf8JibucfDDNp1rjzeFdYazUnYWNiJNW2FxAJTYPugKIAOUKavs9xNymfY j0xaf1wuXlNinhcqNPWuzg9yOixsqHf22vGV40mRA91KTwOLeLA1BHhUX7MHKaXHzd65 NxR7ghv8gSuua1DlpuxdHzeKQdix8CzUCtORJdI9ho3drZ4F3XnhHryACGyGh/NLSUSQ XdaA== X-Gm-Message-State: AOJu0YwBKkOlWrFepxS8/BFfCKY7DEbsBsQxsA30JkVM7kbZeMFvk27/ pENqaSxK5xKbkhdj2n0Nyt333aXV4gBzu9vaVQhWO7drlDzo3JWkaWVRyFrXpfxqdUZ9LRSz3LM 5PsBGQweKui7p4/tE/Fz7uXue8AS/+nI6DyTh4Gww29ewUGxKyVw30dWlXqLK X-Gm-Gg: ASbGnctjA67ZeSWsEqAMly2/1cAqfyAYiHAtAAnXfREZuUfn9/cXqyTVVYJVl+0fZXn +Yxwly1iGSmN5RlV173U5WQS1GPWksafk76eGO2OxCi8wPkW+efKybgJakeVxUBzWUy3psL6/1u ZQy5mi86KIs/7P6XSch32u6Jyf3elDqvsddoc/9gaHthBXZguYv9tUMNjpk+tTush3udhRGAgt5 7rpmDD+lPlqx4WCkZk9OL71qWr9Ogtfb22pZ40BdWU3v3jJgNW+Q+3YHE3lOCfTEXdaF2Eq7a65 m0FTOg/zQZ+XPl6YCixcqHLkkCOAM/rYEe5jYeMJ9YYtRvleuUF+3+LDF2oO6SRnsCOs0YIi0xn LaTSfwgm1 X-Google-Smtp-Source: AGHT+IH0KZiD+WGGFavXCQtXwnAyCh7Zyc4W72W9q0qR+6pxhZQdB831IkEMTqN1NBd6km79MOF1Oa3lScHC X-Received: by 2002:a05:6638:ac87:b0:5ad:1e7e:45a4 with SMTP id 8926c6da1cb9f-5b7c9c36affmr192808173.3.1763085204297; Thu, 13 Nov 2025 17:53:24 -0800 (PST) Received: from postal.iol.unh.edu (postal.iol.unh.edu. [2606:4100:3880:1234::84]) by smtp-relay.gmail.com with ESMTPS id 8926c6da1cb9f-5b7bd3352aasm295452173.33.2025.11.13.17.53.24 (version=TLS1_2 cipher=ECDHE-ECDSA-AES128-GCM-SHA256 bits=128/128); Thu, 13 Nov 2025 17:53:24 -0800 (PST) X-Relaying-Domain: iol.unh.edu Date: Thu, 13 Nov 2025 17:53:24 -0800 (PST) Message-ID: <69168b94.050a0220.1da6a3.e24bSMTPIN_ADDED_MISSING@mx.google.com> Received: from [172.21.0.3] (unknown [172.18.0.240]) by postal.iol.unh.edu (Postfix) with ESMTP id 9913F6051830; Thu, 13 Nov 2025 20:53:23 -0500 (EST) Subject: |SUCCESS| pw158754 [PATCH] net/ice: add MAC anti-spoof disable optio From: dpdklab@iol.unh.edu To: Test Report Cc: dpdk-test-reports@iol.unh.edu, Bruce Richardson In-Reply-To: <20251113105914.34949-1-anurag.mandal@intel.com> References: <20251113105914.34949-1-anurag.mandal@intel.com> Content-Type: text/plain X-BeenThere: test-report@dpdk.org X-Mailman-Version: 2.1.29 Precedence: list List-Id: automatic DPDK test reports List-Unsubscribe: , List-Archive: List-Post: List-Help: List-Subscribe: , Errors-To: test-report-bounces@dpdk.org Test-Label: iol-compile-amd64-testing Test-Status: SUCCESS http://dpdk.org/patch/158754 _Testing PASS_ Submitter: Anurag Mandal Date: Thursday, November 13 2025 10:59:14 DPDK git baseline: Repo:dpdk-next-net-intel Branch: master CommitID:123703be5bdd0fa45e4fda14f36a0d941d1f7e63 158754 --> testing pass Upstream job id: Generic-DPDK-Compile-Meson#443984 Test environment and result as below: +-------------------------------+--------------------+-------------------------+------------------+ | Environment | dpdk_meson_compile | dpdk_llvm_clang_compile | dpdk_compile_ovs | +===============================+====================+=========================+==================+ | Ubuntu 20.04 | PASS | SKIPPED | SKIPPED | +-------------------------------+--------------------+-------------------------+------------------+ | FreeBSD 14.2 | PASS | SKIPPED | SKIPPED | +-------------------------------+--------------------+-------------------------+------------------+ | CentOS Stream 9 | PASS | SKIPPED | SKIPPED | +-------------------------------+--------------------+-------------------------+------------------+ | CentOS Stream 10 | PASS | SKIPPED | SKIPPED | +-------------------------------+--------------------+-------------------------+------------------+ | Debian GNU/Linux 12 | PASS | SKIPPED | SKIPPED | +-------------------------------+--------------------+-------------------------+------------------+ | Fedora Linux 42 | PASS | SKIPPED | PASS | +-------------------------------+--------------------+-------------------------+------------------+ | openSUSE Leap 15.6 | PASS | SKIPPED | SKIPPED | +-------------------------------+--------------------+-------------------------+------------------+ | Red Hat Enterprise Linux 8.10 | PASS | SKIPPED | SKIPPED | +-------------------------------+--------------------+-------------------------+------------------+ | Red Hat Enterprise Linux 9.5 | PASS | SKIPPED | SKIPPED | +-------------------------------+--------------------+-------------------------+------------------+ | Ubuntu 22.04 | PASS | SKIPPED | SKIPPED | +-------------------------------+--------------------+-------------------------+------------------+ | Ubuntu 24.04 | PASS | SKIPPED | PASS | +-------------------------------+--------------------+-------------------------+------------------+ | Alpine Linux 3.22.0 | PASS | SKIPPED | SKIPPED | +-------------------------------+--------------------+-------------------------+------------------+ | Windows Server 2022 | SKIPPED | PASS | SKIPPED | +-------------------------------+--------------------+-------------------------+------------------+ Ubuntu 20.04 Kernel: 4.19 Compiler: gcc gcc (Ubuntu 9.4.0-1ubuntu1~20.04.2) 9.4.0 FreeBSD 14.2 Kernel: 14.2-RELEASE Compiler: clang 18.1.6 CentOS Stream 9 Kernel: 5.15 Compiler: gcc gcc (GCC) 11.5.0 20240719 (Red Hat 11.5.0-11) CentOS Stream 10 Kernel: 5.15 Compiler: gcc gcc (GCC) 14.2.1 20250110 (Red Hat 14.2.1-8) Debian GNU/Linux 12 Kernel: 5.15 Compiler: gcc gcc (Debian 12.2.0-14+deb12u1) 12.2.0 Fedora Linux 42 Kernel: 5.15 Compiler: clang gcc (GCC) 15.2.1 20250808 (Red Hat 15.2.1-1) openSUSE Leap 15.6 Kernel: 5.15 Compiler: gcc gcc (SUSE Linux) 7.5.0 Red Hat Enterprise Linux 8.10 Kernel: 5.15 Compiler: gcc gcc (GCC) 8.5.0 20210514 (Red Hat 8.5.0-22) Red Hat Enterprise Linux 9.5 Kernel: 5.15 Compiler: gcc gcc (GCC) 11.5.0 20240719 (Red Hat 11.5.0-2) Ubuntu 22.04 Kernel: 5.15 Compiler: gcc gcc (Ubuntu 11.4.0-1ubuntu1~22.04) 11.4.0 Ubuntu 24.04 Kernel: 5.15 Compiler: gcc gcc (Ubuntu 13.3.0-6ubuntu2~24.04) 13.3.0 Alpine Linux 3.22.0 Kernel: 5.15 Compiler: gcc gcc (Alpine 14.2.0) 14.2.0 Windows Server 2022 Kernel: 10.0.20348.2031 Compiler: clang 15.0.7, gcc 14.1.0 (MinGW), and MSVC VS 19.39.33521 To view detailed results, visit: https://lab.dpdk.org/results/dashboard/patchsets/34571/ UNH-IOL DPDK Community Lab To manage your email subscriptions, visit: https://lab.dpdk.org/results/dashboard/preferences/subscriptions/