From mboxrd@z Thu Jan 1 00:00:00 1970 Return-Path: Received: from mails.dpdk.org (mails.dpdk.org [217.70.189.124]) by inbox.dpdk.org (Postfix) with ESMTP id 75EF248AFF for ; Fri, 14 Nov 2025 03:12:14 +0100 (CET) Received: from mails.dpdk.org (localhost [127.0.0.1]) by mails.dpdk.org (Postfix) with ESMTP id 7045140151; Fri, 14 Nov 2025 03:12:14 +0100 (CET) Received: from mail-il1-f228.google.com (mail-il1-f228.google.com [209.85.166.228]) by mails.dpdk.org (Postfix) with ESMTP id C7B2D40151 for ; Fri, 14 Nov 2025 03:12:12 +0100 (CET) Received: by mail-il1-f228.google.com with SMTP id e9e14a558f8ab-43323851d03so5891925ab.0 for ; Thu, 13 Nov 2025 18:12:12 -0800 (PST) DKIM-Signature: v=1; a=rsa-sha256; c=relaxed/relaxed; d=iol.unh.edu; s=unh-iol; t=1763086332; x=1763691132; darn=dpdk.org; h=cc:to:from:subject:message-id:date:from:to:cc:subject:date :message-id:reply-to; bh=Q6KpK7lLRgba7+/Z53VgLWYVRFRPtnVulGo2MvlasV8=; b=Xyss2hFSdcvhfIrxPgXCxCArmqwThiMFndpZkrDoMFOt+Wk6HSAfDRXfdwYT+s5kwW pnmS1jTzUa57hA4K0Fc1GJ2VjYkwVyRVuLvMz3jiDb40UgevUyx5wgKD9bq25o0QfQDv cO+tHnHYk4B5ppjcctiKKAkZ0XA3w+PIrqKBc= X-Google-DKIM-Signature: v=1; a=rsa-sha256; c=relaxed/relaxed; d=1e100.net; s=20230601; t=1763086332; x=1763691132; h=cc:to:from:subject:message-id:date:x-gm-gg:x-gm-message-state:from :to:cc:subject:date:message-id:reply-to; bh=Q6KpK7lLRgba7+/Z53VgLWYVRFRPtnVulGo2MvlasV8=; b=gm9qmAqcI9rxUO8nD9vVzndlBRCtr7PakWtTV6qcuCetobIbllS05OAiV33R5xFX4c VPnwXJR9xFHKmc8rcXPP3zevazcwJn9037yfWGLFrTfcwUDktWwOXgZh9fJswmU2I/sw +zQDBUXpq9POVp19mwW6u9dE4JzUbGLew63UEX6rlWA5PVbaHiAm3VwklSpB2gfIr3AW 8/6jmpE10KkVSBMzvVWJK2Wq7fy3XocGAXpacxDVkWecw3kiRwfn6ktWIAwA9XejvkLT jHMUxC9CIkSvZclLNXMqK7uXYwDb2m2UdGffxCFNMH11XwAH2dw/9WOR8fNW/vohV8S9 hEFg== X-Gm-Message-State: AOJu0YxcCAYOXksxO/HnfX7077z/RLQHZWOt/4USwWdYB21m9ckyMa3i k+xjNeX4J+D2kM6qRvya10osn0AUbPl5A1Offt94b19ex8quDdOYPj8p6+52P0rDuNHxHpCmCbi 3H9QXgSLqKoRAArLnDYTXYi8sHqCJQYZDOk9kanXip7ahDBncLK8l X-Gm-Gg: ASbGncuYjdIBOUB4E220tal2kE5jV0hBlIr3ivkOXWvVrrWiu6trFBbYW/bSMPzcn0I CqzGHsODJ2tpKnywsffeGFptOOiHfEqfNBGlRK/xLHkWxpKBXIvYi3hr+4jN1KFrhDkMOW073yu TfO+e70ZmNwyV1RzaOSxiwc4XwCx9Qz6Fs0N3ETTq2uRhSrNXzK3oeNDL5RJFjXqubIe9CDNQcj xKcv3riXbsZQ9Q21dXmFyQHrwbl66PPWIk709AqtzeYBwGKjbzW+hN5dZRc4ZKIZ8wjz4TucCiD HuyeZ4KwG0c6acTR6GfV5z8mHRZbuj5rQPFJQUC77UsHLxo6SlGx9kRuM/Cifqr+n97VB1b4LSB 4CzquJ+5U X-Google-Smtp-Source: AGHT+IEbpurplYJijePgqto0im8qEVuI89Fd6FYby35SzSpX+5yFChvSJLmmAslqxA+jvjVjThhYSOAZ24fi X-Received: by 2002:a05:6e02:3a06:b0:433:8347:2e69 with SMTP id e9e14a558f8ab-4348c8dee08mr27981885ab.14.1763086332117; Thu, 13 Nov 2025 18:12:12 -0800 (PST) Received: from postal.iol.unh.edu (postal.iol.unh.edu. [2606:4100:3880:1234::84]) by smtp-relay.gmail.com with ESMTPS id e9e14a558f8ab-43483992526sm3075685ab.16.2025.11.13.18.12.12 (version=TLS1_2 cipher=ECDHE-ECDSA-AES128-GCM-SHA256 bits=128/128); Thu, 13 Nov 2025 18:12:12 -0800 (PST) X-Relaying-Domain: iol.unh.edu Date: Thu, 13 Nov 2025 18:12:12 -0800 (PST) Message-ID: <69168ffc.050a0220.1692da.e1dbSMTPIN_ADDED_MISSING@mx.google.com> Received: from [172.21.0.2] (unknown [172.18.0.240]) by postal.iol.unh.edu (Postfix) with ESMTP id 70D1F6051830; Thu, 13 Nov 2025 21:12:11 -0500 (EST) Subject: |SUCCESS| [GIT MASTER] 0bd935abcb823f581ce53986986aa54eaf6f8140 From: dpdklab@iol.unh.edu To: Test Report Cc: dpdk-test-reports@iol.unh.edu, Xueming Li , Christian Ehrhardt , Kevin Traynor , Luca Boccassi Content-Type: text/plain X-BeenThere: test-report@dpdk.org X-Mailman-Version: 2.1.29 Precedence: list List-Id: automatic DPDK test reports List-Unsubscribe: , List-Archive: List-Post: List-Help: List-Subscribe: , Errors-To: test-report-bounces@dpdk.org _Testing PASS_ Branch: tags/v24.11 0bd935abcb823f581ce53986986aa54eaf6f8140 --> testing pass Upstream job id: Generic-Unit-Test-DPDK#391799 Test environment and result as below: +------------------------------+----------------+---------------------------+--------------+------------------------------+ | Environment | dpdk_unit_test | cryptodev_sw_zuc_autotest | lpm_autotest | cryptodev_sw_snow3g_autotest | +==============================+================+===========================+==============+==============================+ | Debian GNU/Linux 12 | PASS | SKIPPED | SKIPPED | SKIPPED | +------------------------------+----------------+---------------------------+--------------+------------------------------+ | CentOS Stream 10 | PASS | SKIPPED | SKIPPED | SKIPPED | +------------------------------+----------------+---------------------------+--------------+------------------------------+ | Red Hat Enterprise Linux 9.5 | PASS | SKIPPED | SKIPPED | SKIPPED | +------------------------------+----------------+---------------------------+--------------+------------------------------+ | CentOS Stream 9 | PASS | SKIPPED | SKIPPED | SKIPPED | +------------------------------+----------------+---------------------------+--------------+------------------------------+ | Fedora Linux 41 | PASS | SKIPPED | SKIPPED | SKIPPED | +------------------------------+----------------+---------------------------+--------------+------------------------------+ | Ubuntu 22.04 | PASS | SKIPPED | SKIPPED | SKIPPED | +------------------------------+----------------+---------------------------+--------------+------------------------------+ | Fedora Linux 40 | PASS | SKIPPED | SKIPPED | SKIPPED | +------------------------------+----------------+---------------------------+--------------+------------------------------+ | Fedora Linux 42 | PASS | SKIPPED | SKIPPED | SKIPPED | +------------------------------+----------------+---------------------------+--------------+------------------------------+ | Ubuntu 20.04 | PASS | SKIPPED | PASS | SKIPPED | +------------------------------+----------------+---------------------------+--------------+------------------------------+ | Ubuntu 24.04 | PASS | SKIPPED | SKIPPED | SKIPPED | +------------------------------+----------------+---------------------------+--------------+------------------------------+ | Debian 12 (arm) | SKIPPED | PASS | SKIPPED | PASS | +------------------------------+----------------+---------------------------+--------------+------------------------------+ Debian GNU/Linux 12 Kernel: 5.4 Compiler: gcc gcc (Debian 12.2.0-14+deb12u1) 12.2.0 CentOS Stream 10 Kernel: 5.4 Compiler: gcc gcc (GCC) 14.2.1 20250110 (Red Hat 14.2.1-8) Red Hat Enterprise Linux 9.5 Kernel: 5.4 Compiler: gcc gcc (GCC) 11.5.0 20240719 (Red Hat 11.5.0-2) CentOS Stream 9 Kernel: 5.4 Compiler: gcc gcc (GCC) 11.5.0 20240719 (Red Hat 11.5.0-11) Fedora Linux 41 Kernel: 5.4 Compiler: gcc gcc (GCC) 14.3.1 20250523 (Red Hat 14.3.1-1) Ubuntu 22.04 Kernel: 5.15 Compiler: gcc gcc (Ubuntu 11.4.0-1ubuntu1~22.04.2) 11.4.0 Fedora Linux 40 Kernel: 5.4 Compiler: clang gcc (GCC) 14.2.1 20240912 (Red Hat 14.2.1-3) Fedora Linux 42 Kernel: 5.4 Compiler: clang gcc (GCC) 15.2.1 20250808 (Red Hat 15.2.1-1) Ubuntu 20.04 Kernel: 5.4 Compiler: gcc gcc (Ubuntu 9.4.0-1ubuntu1~20.04.2) 9.4.0 Ubuntu 24.04 Kernel: 5.4 Compiler: gcc gcc (Ubuntu 13.3.0-6ubuntu2~24.04) 13.3.0 Debian 12 (arm) Kernel: Depends on container host Compiler: gcc (Debian 12.2.0-14) 12.2.0 To view detailed results, visit: https://lab.dpdk.org/results/dashboard/tarballs/35565/ UNH-IOL DPDK Community Lab To manage your email subscriptions, visit: https://lab.dpdk.org/results/dashboard/preferences/subscriptions/