From mboxrd@z Thu Jan 1 00:00:00 1970 Return-Path: Received: from mails.dpdk.org (mails.dpdk.org [217.70.189.124]) by inbox.dpdk.org (Postfix) with ESMTP id 2F46548AFF for ; Fri, 14 Nov 2025 03:17:44 +0100 (CET) Received: from mails.dpdk.org (localhost [127.0.0.1]) by mails.dpdk.org (Postfix) with ESMTP id 26DB740151; Fri, 14 Nov 2025 03:17:44 +0100 (CET) Received: from mail-io1-f98.google.com (mail-io1-f98.google.com [209.85.166.98]) by mails.dpdk.org (Postfix) with ESMTP id D608E40151 for ; Fri, 14 Nov 2025 03:17:42 +0100 (CET) Received: by mail-io1-f98.google.com with SMTP id ca18e2360f4ac-948a3979af4so82668239f.0 for ; Thu, 13 Nov 2025 18:17:42 -0800 (PST) DKIM-Signature: v=1; a=rsa-sha256; c=relaxed/relaxed; d=iol.unh.edu; s=unh-iol; t=1763086662; x=1763691462; darn=dpdk.org; h=references:in-reply-to:cc:to:from:subject:message-id:date:from:to :cc:subject:date:message-id:reply-to; bh=WfBat/yM7GMV4u4C/y3UBekTBVGeL3cZCbynvyAlWec=; b=PIWlkje5wo6Q+wsDJN5RaqAgvE9GP+OaHmjR8kaRlLLCq9lmane6qh9jc7ns89xfAp 7oJMos74Rj8XM9YhYEp8wBqinuz9G3tyhhmXFDZ4IR2Y+5QXR2+u2WxXRg82oPMRhN1j 2nZgOYP2IMm9A+b8mm3mXdGcN/f+Va77ia8Wk= X-Google-DKIM-Signature: v=1; a=rsa-sha256; c=relaxed/relaxed; d=1e100.net; s=20230601; t=1763086662; x=1763691462; h=references:in-reply-to:cc:to:from:subject:message-id:date:x-gm-gg :x-gm-message-state:from:to:cc:subject:date:message-id:reply-to; bh=WfBat/yM7GMV4u4C/y3UBekTBVGeL3cZCbynvyAlWec=; b=m63kkPAqHI+Uhlwz6aG4X9voQ7KrTRzuIEtHLYChlmiI571VVD2/JywT/Bc4eMvHoE 8yUMWHWsK8KuxB+/bwQTaz5ZSV03Oc/4870gZ5eAVJA0SumX4WlssVMDinVelzaFA/Wq F1mge9TJq7YB/53W8IJygEsuKcQkQ+qpBoFSJSC4caxe7SiKtgZBlV6DXMGXPEY7yqkF QgfQCNKTApnzDcNLNQiCKcPcBu6pKKHOjE2aUqeU2QS/fYGxVGwuqu0P9b3H4OLbj91n 61BvVKY6jW/rRL0M7V1TSSUN+5VfHGn9WKTjzWL+QeTTcNdbEZaLLQERQjbqmlqBIq+u 3JYA== X-Gm-Message-State: AOJu0Yw9Yhm1v0FuVCqPICsqIJp22fnk69NzI7g+zcHNR8yNUzNu1NH0 I/2P64K6KKOOopP0dPhNiZ75yidoRozEEFiWbz9W4CBwdDSbNejWIBFD8zKtDzdqKSt1gz1IBH5 abo7cSpaLc7bx8aWNEseGF3a/a7cmXfcKr3zHJa6aBRmw X-Gm-Gg: ASbGncuLrvavsK6mpixpUUbrqSdLaKMt6tqUlLA9dd1OXJ5QG9pZvGGT+Vn/kuaQ8Mf 3wX3G4sElYtQxp0zCxIGttREbx8NhydPZraM9/AE4e9pT2py+SB9cMUk3WsMwnoD3tmULjEneEJ os4DZ5NBNSe5O8BRLS7uNNkTB7VxsN6/h8Eb3qqmiwKHW6kTSNt/TNStRcymc5/ANVz27kuvxNL VXZ2c4KJEYx7ilnkldZwyR712HGoOgmnCGzA75EqZ9NILjd3uw5Cj1TbIGdm/zc07ajXjrvEv7F Oi63gEikcjE7e/uiMFTf2It20sFRgFJvQEZVCS+hRaE9rQcoohGRbldItSOKnFrmGCBV7gvF4ls 5DL5mBBRcpHTgUzaSrf1QqATDbOYh68I= X-Google-Smtp-Source: AGHT+IFAAz4Kp5INsG1Xo6RIRIQlkBoddT0QzuN2pctMHnNg23o4vw6TMib+ntz/ejlkl+w8Axu2Vh/FnjSU X-Received: by 2002:a05:6602:8206:b0:940:e0bd:ed8b with SMTP id ca18e2360f4ac-948cf5a13e0mr566165539f.0.1763086662127; Thu, 13 Nov 2025 18:17:42 -0800 (PST) Received: from postal.iol.unh.edu (postal.iol.unh.edu. [132.177.123.84]) by smtp-relay.gmail.com with ESMTPS id 8926c6da1cb9f-5b7bd334839sm273646173.27.2025.11.13.18.17.42 (version=TLS1_2 cipher=ECDHE-ECDSA-AES128-GCM-SHA256 bits=128/128); Thu, 13 Nov 2025 18:17:42 -0800 (PST) X-Relaying-Domain: iol.unh.edu Date: Thu, 13 Nov 2025 18:17:42 -0800 (PST) Message-ID: <69169146.050a0220.78718.ca2bSMTPIN_ADDED_MISSING@mx.google.com> Received: from [172.21.0.2] (unknown [172.18.0.240]) by postal.iol.unh.edu (Postfix) with ESMTP id A6EF26051830; Thu, 13 Nov 2025 21:17:41 -0500 (EST) Subject: |SUCCESS| pw158745 [PATCH] [v3] net/ice: fix statistics read error From: dpdklab@iol.unh.edu To: Test Report Cc: dpdk-test-reports@iol.unh.edu, Bruce Richardson In-Reply-To: <20251113074710.8251-1-zhichaox.zeng@intel.com> References: <20251113074710.8251-1-zhichaox.zeng@intel.com> Content-Type: text/plain X-BeenThere: test-report@dpdk.org X-Mailman-Version: 2.1.29 Precedence: list List-Id: automatic DPDK test reports List-Unsubscribe: , List-Archive: List-Post: List-Help: List-Subscribe: , Errors-To: test-report-bounces@dpdk.org Test-Label: iol-compile-amd64-testing Test-Status: SUCCESS http://dpdk.org/patch/158745 _Testing PASS_ Submitter: Zhichao Zeng Date: Thursday, November 13 2025 07:47:10 DPDK git baseline: Repo:dpdk-next-net-intel Branch: master CommitID:c63646d076330fb2ef3282cbd413aaf93f0509e6 158745 --> testing pass Upstream job id: Windows-Compile-DPDK-VS#7529 Test environment and result as below: +-------------------------------+--------------------+-------------------------+------------------+-------------------+ | Environment | dpdk_meson_compile | dpdk_llvm_clang_compile | dpdk_compile_ovs | dpdk_msvc_compile | +===============================+====================+=========================+==================+===================+ | FreeBSD 14.2 | PASS | SKIPPED | SKIPPED | SKIPPED | +-------------------------------+--------------------+-------------------------+------------------+-------------------+ | Ubuntu 20.04 | PASS | SKIPPED | SKIPPED | SKIPPED | +-------------------------------+--------------------+-------------------------+------------------+-------------------+ | CentOS Stream 9 | PASS | SKIPPED | SKIPPED | SKIPPED | +-------------------------------+--------------------+-------------------------+------------------+-------------------+ | CentOS Stream 10 | PASS | SKIPPED | SKIPPED | SKIPPED | +-------------------------------+--------------------+-------------------------+------------------+-------------------+ | Debian GNU/Linux 12 | PASS | SKIPPED | SKIPPED | SKIPPED | +-------------------------------+--------------------+-------------------------+------------------+-------------------+ | Fedora Linux 42 | PASS | SKIPPED | PASS | SKIPPED | +-------------------------------+--------------------+-------------------------+------------------+-------------------+ | openSUSE Leap 15.6 | PASS | SKIPPED | SKIPPED | SKIPPED | +-------------------------------+--------------------+-------------------------+------------------+-------------------+ | Red Hat Enterprise Linux 8.10 | PASS | SKIPPED | SKIPPED | SKIPPED | +-------------------------------+--------------------+-------------------------+------------------+-------------------+ | Red Hat Enterprise Linux 9.5 | PASS | SKIPPED | SKIPPED | SKIPPED | +-------------------------------+--------------------+-------------------------+------------------+-------------------+ | Ubuntu 22.04 | PASS | SKIPPED | SKIPPED | SKIPPED | +-------------------------------+--------------------+-------------------------+------------------+-------------------+ | Ubuntu 24.04 | PASS | SKIPPED | PASS | SKIPPED | +-------------------------------+--------------------+-------------------------+------------------+-------------------+ | Alpine Linux 3.22.0 | PASS | SKIPPED | SKIPPED | SKIPPED | +-------------------------------+--------------------+-------------------------+------------------+-------------------+ | Windows Server 2022 | SKIPPED | PASS | SKIPPED | PASS | +-------------------------------+--------------------+-------------------------+------------------+-------------------+ FreeBSD 14.2 Kernel: 14.2-RELEASE Compiler: clang 18.1.6 Ubuntu 20.04 Kernel: 4.19 Compiler: gcc gcc (Ubuntu 9.4.0-1ubuntu1~20.04.2) 9.4.0 CentOS Stream 9 Kernel: 5.15 Compiler: gcc gcc (GCC) 11.5.0 20240719 (Red Hat 11.5.0-11) CentOS Stream 10 Kernel: 5.15 Compiler: gcc gcc (GCC) 14.2.1 20250110 (Red Hat 14.2.1-8) Debian GNU/Linux 12 Kernel: 5.15 Compiler: gcc gcc (Debian 12.2.0-14+deb12u1) 12.2.0 Fedora Linux 42 Kernel: 5.15 Compiler: clang gcc (GCC) 15.2.1 20250808 (Red Hat 15.2.1-1) openSUSE Leap 15.6 Kernel: 5.15 Compiler: gcc gcc (SUSE Linux) 7.5.0 Red Hat Enterprise Linux 8.10 Kernel: 5.15 Compiler: gcc gcc (GCC) 8.5.0 20210514 (Red Hat 8.5.0-22) Red Hat Enterprise Linux 9.5 Kernel: 5.15 Compiler: gcc gcc (GCC) 11.5.0 20240719 (Red Hat 11.5.0-2) Ubuntu 22.04 Kernel: 5.15 Compiler: gcc gcc (Ubuntu 11.4.0-1ubuntu1~22.04) 11.4.0 Ubuntu 24.04 Kernel: 5.15 Compiler: gcc gcc (Ubuntu 13.3.0-6ubuntu2~24.04) 13.3.0 Alpine Linux 3.22.0 Kernel: 5.15 Compiler: gcc gcc (Alpine 14.2.0) 14.2.0 Windows Server 2022 Kernel: 10.0.20348.2031 Compiler: clang 15.0.7, gcc 14.1.0 (MinGW), and MSVC VS 19.39.33521 To view detailed results, visit: https://lab.dpdk.org/results/dashboard/patchsets/34565/ UNH-IOL DPDK Community Lab To manage your email subscriptions, visit: https://lab.dpdk.org/results/dashboard/preferences/subscriptions/