From mboxrd@z Thu Jan 1 00:00:00 1970 Return-Path: Received: from mails.dpdk.org (mails.dpdk.org [217.70.189.124]) by inbox.dpdk.org (Postfix) with ESMTP id 934D148AFF for ; Fri, 14 Nov 2025 03:19:34 +0100 (CET) Received: from mails.dpdk.org (localhost [127.0.0.1]) by mails.dpdk.org (Postfix) with ESMTP id 5863C40151; Fri, 14 Nov 2025 03:19:34 +0100 (CET) Received: from mail-qv1-f100.google.com (mail-qv1-f100.google.com [209.85.219.100]) by mails.dpdk.org (Postfix) with ESMTP id 38D4E40151 for ; Fri, 14 Nov 2025 03:19:33 +0100 (CET) Received: by mail-qv1-f100.google.com with SMTP id 6a1803df08f44-880503ab181so13877036d6.2 for ; Thu, 13 Nov 2025 18:19:33 -0800 (PST) DKIM-Signature: v=1; a=rsa-sha256; c=relaxed/relaxed; d=iol.unh.edu; s=unh-iol; t=1763086772; x=1763691572; darn=dpdk.org; h=cc:to:from:subject:message-id:date:from:to:cc:subject:date :message-id:reply-to; bh=oQ2sDehJT/AAUFYtkxCG2uXIeKYro9eIWKZYx0IHYbo=; b=Gu9fdYe0GQygpis5uc8NeXntuURVrHOsk3OS30G11yjZdCYrafALGrhA6qRQtZR71M /Ul4OqvJSXHzgjDMbiVQTrc4KKgnw3RdAF3kAh7+2Hie/SXaIcbsurFVq2VpaR3+CR94 HworKkso7oYOKZ1++YQ6I2NFhzWg0jkIPRAnQ= X-Google-DKIM-Signature: v=1; a=rsa-sha256; c=relaxed/relaxed; d=1e100.net; s=20230601; t=1763086772; x=1763691572; h=cc:to:from:subject:message-id:date:x-gm-gg:x-gm-message-state:from :to:cc:subject:date:message-id:reply-to; bh=oQ2sDehJT/AAUFYtkxCG2uXIeKYro9eIWKZYx0IHYbo=; b=SBe4A/K64ifZv5gQ+MOCModtnhrRvpXw6AYuKzyiaQixTHVaGU3uhARWPYxeLapsQ8 /yTItgwgesworFj8jrTJagu2iPH7M4E3OYilGJWiedOr+gY5h9YnMRacA//1/QqoH+ML gQqnyW65ZhkN2d2nt+Aa9QexoEXKE4ZLP+i01dbHncV5dgxO8RG+fZVL3faojDHE2EnP 11GMGSFlDl8ImMFojjMb6/g0ieFJGA8yLBrVgUTKaBDT4U++C8zD/8U1AbFoMwTMYMHR WlU8SqaH/N1nveJ/7ypVuHj59zt8FMgZqGvt7wIqWTqfMWAQALFD9Equ6vsnlByXVoif FgiQ== X-Gm-Message-State: AOJu0YysFk3WISgCHj7ZXv55I0uagXfjABhYdmknhb68nmdde0cf94ds vCgjdJsYiJF+fr5oQMkGDhZ7e1WijmAOOrSaTkaOD0FErlOQR+Mn+6sHmqan5RjnrLM3NVk7TWX HXVlA49Y6VlvM0iBOXlwBve7IwPnnOV8zjZXr9yfytJxPijc4LRxs9ekc6R6g X-Gm-Gg: ASbGncvp/9gfl3+5zG5g2ae7qvuKam9eXR5Hr/2qH+Xpjq9GyaH8erAoJhO8dStSutY qLLlmDSjQSqmVnZC9PnJVN0yv1er2vL7o8xIVYE+0LHUL7FKH7GnLcRMzHu7dFoyIVNaIF/hYMA vkCHSZ4RvtM3jn0JuntaXAEoq2JmRipXrMp9aSCIZ2cNzjfs3KT5ZfXx5GIz5IoHMsSapXwR+6e GH0LBj7BIrXyU67dnpFCJuPUMrd/C6vDwKgGy6jvsXh1mgpuPH6X0wjBrY7uQ+2VAEQ3v0Jh7G4 exK+sFBZQhcmqC59ba69tpJ22iGC9iJEadoV4aTylw69Ew/rAWMtrSPzSlm7lkrdeccD3cJnByc 8Hov1UNNy X-Google-Smtp-Source: AGHT+IEnPmvO8dQ2CWgoRApNbmFOi4eHtWsdDTal4ZGlk23J69CHRr7q03a8N4J8OFMYxrh65yIl2pCx42Sg X-Received: by 2002:ad4:5aa1:0:b0:882:6974:1d67 with SMTP id 6a1803df08f44-882925ba8d3mr20733406d6.8.1763086772515; Thu, 13 Nov 2025 18:19:32 -0800 (PST) Received: from postal.iol.unh.edu (postal.iol.unh.edu. [2606:4100:3880:1234::84]) by smtp-relay.gmail.com with ESMTPS id 6a1803df08f44-88286572dd5sm3900516d6.25.2025.11.13.18.19.32 (version=TLS1_2 cipher=ECDHE-ECDSA-AES128-GCM-SHA256 bits=128/128); Thu, 13 Nov 2025 18:19:32 -0800 (PST) X-Relaying-Domain: iol.unh.edu Date: Thu, 13 Nov 2025 18:19:32 -0800 (PST) Message-ID: <691691b4.050a0220.21433e.28d3SMTPIN_ADDED_MISSING@mx.google.com> Received: from [172.21.0.2] (unknown [172.18.0.240]) by postal.iol.unh.edu (Postfix) with ESMTP id 3D8AC6051830; Thu, 13 Nov 2025 21:19:32 -0500 (EST) Subject: |SUCCESS| [GIT MASTER] be0112878b4fc3a1b918370ed2fe615c52039d77 From: dpdklab@iol.unh.edu To: Test Report Cc: dpdk-test-reports@iol.unh.edu Content-Type: text/plain X-BeenThere: test-report@dpdk.org X-Mailman-Version: 2.1.29 Precedence: list List-Id: automatic DPDK test reports List-Unsubscribe: , List-Archive: List-Post: List-Help: List-Subscribe: , Errors-To: test-report-bounces@dpdk.org _Testing PASS_ Branch: dpdk be0112878b4fc3a1b918370ed2fe615c52039d77 --> testing pass Upstream job id: Windows-Compile-DPDK-Native#32307 Test environment and result as below: +-------------------------------+--------------------+------------------+-------------------+-------------------------+----------------------+ | Environment | dpdk_meson_compile | dpdk_compile_ovs | dpdk_msvc_compile | dpdk_llvm_clang_compile | dpdk_mingw64_compile | +===============================+====================+==================+===================+=========================+======================+ | Ubuntu 20.04 | PASS | SKIPPED | SKIPPED | SKIPPED | SKIPPED | +-------------------------------+--------------------+------------------+-------------------+-------------------------+----------------------+ | FreeBSD 14.2 | PASS | SKIPPED | SKIPPED | SKIPPED | SKIPPED | +-------------------------------+--------------------+------------------+-------------------+-------------------------+----------------------+ | CentOS Stream 9 | PASS | SKIPPED | SKIPPED | SKIPPED | SKIPPED | +-------------------------------+--------------------+------------------+-------------------+-------------------------+----------------------+ | CentOS Stream 10 | PASS | SKIPPED | SKIPPED | SKIPPED | SKIPPED | +-------------------------------+--------------------+------------------+-------------------+-------------------------+----------------------+ | Debian GNU/Linux 12 | PASS | SKIPPED | SKIPPED | SKIPPED | SKIPPED | +-------------------------------+--------------------+------------------+-------------------+-------------------------+----------------------+ | Fedora Linux 42 | PASS | PASS | SKIPPED | SKIPPED | SKIPPED | +-------------------------------+--------------------+------------------+-------------------+-------------------------+----------------------+ | openSUSE Leap 15.6 | PASS | SKIPPED | SKIPPED | SKIPPED | SKIPPED | +-------------------------------+--------------------+------------------+-------------------+-------------------------+----------------------+ | Red Hat Enterprise Linux 8.10 | PASS | SKIPPED | SKIPPED | SKIPPED | SKIPPED | +-------------------------------+--------------------+------------------+-------------------+-------------------------+----------------------+ | Red Hat Enterprise Linux 9.5 | PASS | SKIPPED | SKIPPED | SKIPPED | SKIPPED | +-------------------------------+--------------------+------------------+-------------------+-------------------------+----------------------+ | Ubuntu 22.04 | PASS | SKIPPED | SKIPPED | SKIPPED | SKIPPED | +-------------------------------+--------------------+------------------+-------------------+-------------------------+----------------------+ | Ubuntu 24.04 | PASS | PASS | SKIPPED | SKIPPED | SKIPPED | +-------------------------------+--------------------+------------------+-------------------+-------------------------+----------------------+ | Alpine Linux 3.22.0 | PASS | SKIPPED | SKIPPED | SKIPPED | SKIPPED | +-------------------------------+--------------------+------------------+-------------------+-------------------------+----------------------+ | Arch Linux 20250613.0.365270 | PASS | SKIPPED | SKIPPED | SKIPPED | SKIPPED | +-------------------------------+--------------------+------------------+-------------------+-------------------------+----------------------+ | Windows Server 2022 | SKIPPED | SKIPPED | PASS | PASS | PASS | +-------------------------------+--------------------+------------------+-------------------+-------------------------+----------------------+ Ubuntu 20.04 Kernel: 4.19 Compiler: gcc gcc (Ubuntu 9.4.0-1ubuntu1~20.04.2) 9.4.0 FreeBSD 14.2 Kernel: 14.2-RELEASE Compiler: clang 18.1.6 CentOS Stream 9 Kernel: 5.15 Compiler: gcc gcc (GCC) 11.5.0 20240719 (Red Hat 11.5.0-11) CentOS Stream 10 Kernel: 5.15 Compiler: gcc gcc (GCC) 14.2.1 20250110 (Red Hat 14.2.1-8) Debian GNU/Linux 12 Kernel: 5.15 Compiler: gcc gcc (Debian 12.2.0-14+deb12u1) 12.2.0 Fedora Linux 42 Kernel: 5.15 Compiler: clang gcc (GCC) 15.2.1 20250808 (Red Hat 15.2.1-1) openSUSE Leap 15.6 Kernel: 5.15 Compiler: gcc gcc (SUSE Linux) 7.5.0 Red Hat Enterprise Linux 8.10 Kernel: 5.15 Compiler: gcc gcc (GCC) 8.5.0 20210514 (Red Hat 8.5.0-22) Red Hat Enterprise Linux 9.5 Kernel: 5.15 Compiler: gcc gcc (GCC) 11.5.0 20240719 (Red Hat 11.5.0-2) Ubuntu 22.04 Kernel: 5.15 Compiler: gcc gcc (Ubuntu 11.4.0-1ubuntu1~22.04) 11.4.0 Ubuntu 24.04 Kernel: 5.15 Compiler: gcc gcc (Ubuntu 13.3.0-6ubuntu2~24.04) 13.3.0 Alpine Linux 3.22.0 Kernel: 5.15 Compiler: gcc gcc (Alpine 14.2.0) 14.2.0 Arch Linux 20250613.0.365270 Kernel: 5.15 Compiler: gcc gcc (GCC) 15.1.1 20250425 Windows Server 2022 Kernel: 10.0.20348.2031 Compiler: clang 15.0.7, gcc 14.1.0 (MinGW), and MSVC VS 19.39.33521 To view detailed results, visit: https://lab.dpdk.org/results/dashboard/tarballs/35547/ UNH-IOL DPDK Community Lab To manage your email subscriptions, visit: https://lab.dpdk.org/results/dashboard/preferences/subscriptions/