From mboxrd@z Thu Jan 1 00:00:00 1970 Return-Path: Received: from mails.dpdk.org (mails.dpdk.org [217.70.189.124]) by inbox.dpdk.org (Postfix) with ESMTP id 49F4648AFF for ; Fri, 14 Nov 2025 03:28:17 +0100 (CET) Received: from mails.dpdk.org (localhost [127.0.0.1]) by mails.dpdk.org (Postfix) with ESMTP id 39C6B40151; Fri, 14 Nov 2025 03:28:17 +0100 (CET) Received: from mail-qv1-f100.google.com (mail-qv1-f100.google.com [209.85.219.100]) by mails.dpdk.org (Postfix) with ESMTP id 3069240151 for ; Fri, 14 Nov 2025 03:28:15 +0100 (CET) Received: by mail-qv1-f100.google.com with SMTP id 6a1803df08f44-8804650ca32so14047506d6.0 for ; Thu, 13 Nov 2025 18:28:15 -0800 (PST) DKIM-Signature: v=1; a=rsa-sha256; c=relaxed/relaxed; d=iol.unh.edu; s=unh-iol; t=1763087294; x=1763692094; darn=dpdk.org; h=cc:to:from:subject:message-id:date:from:to:cc:subject:date :message-id:reply-to; bh=N1/GtGcRiHydzdqroPtpzs++Kw1dubuG6MPgb/7WjsU=; b=JqwSJnHW8WSR2enR8TAv+gqkkIzr8Ato1yd4ZjMjgKAz5B1Ft8a/KoPfIitHJNxyjk Hkv3hUKyhCUyQO6ANrSfQq1IUAaxU1WJNxGVtToOpTn/uEJsbhuZJTomYHhXBw/lQQhe e7WYnOXYotracogLPEuWVqkj+yaA/gVedjc5c= X-Google-DKIM-Signature: v=1; a=rsa-sha256; c=relaxed/relaxed; d=1e100.net; s=20230601; t=1763087294; x=1763692094; h=cc:to:from:subject:message-id:date:x-gm-gg:x-gm-message-state:from :to:cc:subject:date:message-id:reply-to; bh=N1/GtGcRiHydzdqroPtpzs++Kw1dubuG6MPgb/7WjsU=; b=vdXTac+E0SBbBRLnp13iQfj7oydsarbMB10NBuoEPyr7iDhHR00CWNEE45pu0gCXpC qMp6+n9MlIekbJzjxL9lFRgGy5QdnUYH/rHQ8xswjN7lIJqBQ5aXTy2LZ+SAJ14y7ujf Q9lJ+F1jcmfZ8stG1/Na+QKEkrwoKHMk11XlfAEqH/Nv5XvVB5gspI4yZaDy1WhbOLZL /DPlBtYYUS6Ji5D99OSbLE60MSbqQYV0ggSaZswtxW/ApJm+vFB/w3ozpPi9Ij2L34KL 49oB3N7W4K6bnuAN94s8h/JEM83Gyfty897P5osTperuD1vFi7wE8iwa+siBRDMn3ZK3 wafA== X-Gm-Message-State: AOJu0Yzm53b7Gg4AgCuBVdMlo4oS3ghbGuABNIpaozeMvsPdjFD1wDEO RclEKSqF+8KRUZTKULB9a2X2Kix4drx0hbuJJed5yr9HsifFRonu30jsBnXpwJCWwM6sLFOIMGe +jWauidt+Cy+hZEIP+5ANEnz3qonk4q3xnTRACPCPqlG31pPF6jGH X-Gm-Gg: ASbGncvs1+oZ5FsnAbL0Ll2wl7cfyLfBq3p5oEKMeyQnXaC+93UtL6+ThtmWecpKphX qb2C4fcNrdzrjXec+zSOx63irVr2Ib7uP2vOCNvKEdHlQVnTNN143WFM4oWgtINLzO2iawHeKCJ 1pCy1Yh2KgByBRcGaoWt9S5R3SAVC7dGr1GbVNCggkCtLZZnYnPC0mq3MMagoWSNHy/f+bpZt9w EifUWb5J2chjjRRPSzS7JWHyDHRGqBPwss2j7SFbF5m11/f1BL2j3BiioIu6bmjGDl+i2Q4lLMx MzSXmkE8WJfGoNNX0UQV1U1dKm2sucD6NwQBjlfjkGtW3JZnd7B1F73ekT62CDXMaE1vD3UYJhp mhbOnwe68 X-Google-Smtp-Source: AGHT+IHqVnDMHh4KUIKWDEly1hWChst1Xojm9eVimzkVtu76AoanVz4X4yWdv2FSwtivk7U/DwJp4S/mb4n+ X-Received: by 2002:a05:6214:dcf:b0:86b:9167:b0e9 with SMTP id 6a1803df08f44-882925ec5a7mr20778426d6.4.1763087294481; Thu, 13 Nov 2025 18:28:14 -0800 (PST) Received: from postal.iol.unh.edu (postal.iol.unh.edu. [2606:4100:3880:1234::84]) by smtp-relay.gmail.com with ESMTPS id 6a1803df08f44-8828656bc0dsm3900876d6.24.2025.11.13.18.28.14 (version=TLS1_2 cipher=ECDHE-ECDSA-AES128-GCM-SHA256 bits=128/128); Thu, 13 Nov 2025 18:28:14 -0800 (PST) X-Relaying-Domain: iol.unh.edu Date: Thu, 13 Nov 2025 18:28:14 -0800 (PST) Message-ID: <691693be.050a0220.1cabc0.270bSMTPIN_ADDED_MISSING@mx.google.com> Received: from [172.21.0.2] (unknown [172.18.0.240]) by postal.iol.unh.edu (Postfix) with ESMTP id 36A006051830; Thu, 13 Nov 2025 21:28:14 -0500 (EST) Subject: |SUCCESS| [GIT MASTER] 0bd935abcb823f581ce53986986aa54eaf6f8140 From: dpdklab@iol.unh.edu To: Test Report Cc: dpdk-test-reports@iol.unh.edu, Xueming Li , Christian Ehrhardt , Kevin Traynor , Luca Boccassi Content-Type: text/plain X-BeenThere: test-report@dpdk.org X-Mailman-Version: 2.1.29 Precedence: list List-Id: automatic DPDK test reports List-Unsubscribe: , List-Archive: List-Post: List-Help: List-Subscribe: , Errors-To: test-report-bounces@dpdk.org _Testing PASS_ Branch: tags/v24.11 0bd935abcb823f581ce53986986aa54eaf6f8140 --> testing pass Upstream job id: Generic-VM-Unit-Test-DPDK#32511 Test environment and result as below: +-------------------------------+----------------+ | Environment | dpdk_unit_test | +===============================+================+ | CentOS Stream 9 | PASS | +-------------------------------+----------------+ | Debian GNU/Linux 12 | PASS | +-------------------------------+----------------+ | CentOS Stream 10 | PASS | +-------------------------------+----------------+ | Fedora Linux 40 | PASS | +-------------------------------+----------------+ | Fedora Linux 41 | PASS | +-------------------------------+----------------+ | Red Hat Enterprise Linux 9.5 | PASS | +-------------------------------+----------------+ | Ubuntu 22.04 | PASS | +-------------------------------+----------------+ | Ubuntu 20.04 | PASS | +-------------------------------+----------------+ | Red Hat Enterprise Linux 8.10 | PASS | +-------------------------------+----------------+ | Fedora Linux 42 | PASS | +-------------------------------+----------------+ | Ubuntu 24.04 | PASS | +-------------------------------+----------------+ | Windows Server 2022 | PASS | +-------------------------------+----------------+ CentOS Stream 9 Kernel: 5.15 Compiler: gcc gcc (GCC) 11.5.0 20240719 (Red Hat 11.5.0-11) Debian GNU/Linux 12 Kernel: 5.15 Compiler: gcc gcc (Debian 12.2.0-14+deb12u1) 12.2.0 CentOS Stream 10 Kernel: 5.15 Compiler: gcc gcc (GCC) 14.2.1 20250110 (Red Hat 14.2.1-8) Fedora Linux 40 Kernel: 5.15 Compiler: gcc gcc (GCC) 14.2.1 20240912 (Red Hat 14.2.1-3) Fedora Linux 41 Kernel: 5.15 Compiler: clang gcc (GCC) 14.3.1 20250523 (Red Hat 14.3.1-1) Red Hat Enterprise Linux 9.5 Kernel: 5.15 Compiler: gcc gcc (GCC) 11.5.0 20240719 (Red Hat 11.5.0-2) Ubuntu 22.04 Kernel: 5.15 Compiler: gcc gcc (Ubuntu 11.4.0-1ubuntu1~22.04) 11.4.0 Ubuntu 20.04 Kernel: 5.15 Compiler: gcc gcc (Ubuntu 9.4.0-1ubuntu1~20.04.2) 9.4.0 Red Hat Enterprise Linux 8.10 Kernel: 5.15 Compiler: gcc gcc (GCC) 8.5.0 20210514 (Red Hat 8.5.0-22) Fedora Linux 42 Kernel: 5.15 Compiler: clang gcc (GCC) 15.2.1 20250808 (Red Hat 15.2.1-1) Ubuntu 24.04 Kernel: 5.15 Compiler: gcc gcc (Ubuntu 13.3.0-6ubuntu2~24.04) 13.3.0 Windows Server 2022 Kernel: 10.0.20348.2031 Compiler: clang 15.0.7, gcc 14.1.0 (MinGW), and MSVC VS 19.39.33521 To view detailed results, visit: https://lab.dpdk.org/results/dashboard/tarballs/35565/ UNH-IOL DPDK Community Lab To manage your email subscriptions, visit: https://lab.dpdk.org/results/dashboard/preferences/subscriptions/