From mboxrd@z Thu Jan 1 00:00:00 1970 Return-Path: Received: from mails.dpdk.org (mails.dpdk.org [217.70.189.124]) by inbox.dpdk.org (Postfix) with ESMTP id 38AB848AFF for ; Fri, 14 Nov 2025 03:37:34 +0100 (CET) Received: from mails.dpdk.org (localhost [127.0.0.1]) by mails.dpdk.org (Postfix) with ESMTP id 195F740151; Fri, 14 Nov 2025 03:37:34 +0100 (CET) Received: from mail-pj1-f99.google.com (mail-pj1-f99.google.com [209.85.216.99]) by mails.dpdk.org (Postfix) with ESMTP id 39B8A40151 for ; Fri, 14 Nov 2025 03:37:32 +0100 (CET) Received: by mail-pj1-f99.google.com with SMTP id 98e67ed59e1d1-3437ea05540so1519457a91.0 for ; Thu, 13 Nov 2025 18:37:32 -0800 (PST) DKIM-Signature: v=1; a=rsa-sha256; c=relaxed/relaxed; d=iol.unh.edu; s=unh-iol; t=1763087851; x=1763692651; darn=dpdk.org; h=cc:to:from:subject:message-id:date:from:to:cc:subject:date :message-id:reply-to; bh=pt4QqnzP/mjlvzOvlWC9jpJjkf2xJoGjN+6wd9QnfzY=; b=GqlB5YiLtsIzLn+Y4aj6SQ83BNaIyr6bW9XKf5AMxDXQ98HHbsGh7QA54vpsbuvrot RzbHlea6NY7hkDGnS+yzySp8GGRz85GWihpm5fjq4a3DDJtAX1ApmWUp2OMBLp7vXxyr 4bi1Z/PKv4L90PWEV6FGIBqv9Za9tR3weK7Ak= X-Google-DKIM-Signature: v=1; a=rsa-sha256; c=relaxed/relaxed; d=1e100.net; s=20230601; t=1763087851; x=1763692651; h=cc:to:from:subject:message-id:date:x-gm-gg:x-gm-message-state:from :to:cc:subject:date:message-id:reply-to; bh=pt4QqnzP/mjlvzOvlWC9jpJjkf2xJoGjN+6wd9QnfzY=; b=INRcUag8YQwjwlCptAf5TNAkvr243qBP0KEYLZpuDe8j9dmzpLfv2IJflGjngiGsr8 clsNjNNkpY+PR1SPvTqJjqMFKP4PY5uZ/30CrZecdLocDHsAJtq5po60Zjfh6Zu++2Q5 eJB8tFDrNlLoTh0rVL1k5ipYh0fUvXbkhVbCElR3rNBX2LRTfXmb889w7LTKtx2JbsoS G2jf/sZW98aMVLjM4N2xL/StNsR9T3vLQAJptQXJHCNQAuEmGVGJVQSH7V3G+ZdC00JQ u6iee43Nkvz3OHQMPdnhn3RqH1vXZj/EAalLEFlXz3fpeTFYavpASLNpEYZG4g7VBUIa l10Q== X-Gm-Message-State: AOJu0YwFsdsUpbtJW0TOyEMGa59tJNUTM7Po813oOGTNO8oEeC9koiae /exoA95AYW3262cIwvy52FdeeIUrv94CGqBNW3dAjZD8atsCBHUzDtGxvxsQporXuB5RV8Agf5Z NZL932dk6NiJaM4dgvaD8rfc9MTdRsut42yk5 X-Gm-Gg: ASbGncvKKKBs21ObVuNhiOG+8fU36JU6hyVE54GQaz99udVTjo2snG9fLRAU/gv0TiH kxpdARZiNu0TmhzyU/laZAoPwR8NBM76V0n3wS0prja/ymqC1bbRqYqCScSUhKBuO5Irpg7+Awr Jy8zb9xsJVAsKZ10KfbGr1yULe/DxWdkmXcT+D2ZFk6x9U8S6fCyfudZD6R8HriLf3ZiLWheHfC wBKOliqoKCfg3aDq9F/jM+JiVnxOcVBJpuya/zqH0Mka13LEoMqCoDuAkDf1c0e0s0lZokMso+s 1ReiKww5uUlH4dzr6iCHVMFM3GcsgKtniwRPb+NSwyaK7iXG1vdQe4m6NdD+k5DA33//bSWy2/0 yVPHr5T0+G11hLX7Et0XxmXq58sNnZQA= X-Google-Smtp-Source: AGHT+IG7wlFqTEAx5ddhReUV1Jw3GysnOt+8qLt6UB9xLvu/QgqqQj1umW3vrNpcsjwJwBBpmwrunWZqKwG5 X-Received: by 2002:a17:90b:4b04:b0:340:d578:f2a2 with SMTP id 98e67ed59e1d1-343f9d906c9mr1548659a91.6.1763087851244; Thu, 13 Nov 2025 18:37:31 -0800 (PST) Received: from postal.iol.unh.edu (postal.iol.unh.edu. [132.177.123.84]) by smtp-relay.gmail.com with ESMTPS id 98e67ed59e1d1-343ed3810ccsm393199a91.0.2025.11.13.18.37.31 (version=TLS1_2 cipher=ECDHE-ECDSA-AES128-GCM-SHA256 bits=128/128); Thu, 13 Nov 2025 18:37:31 -0800 (PST) X-Relaying-Domain: iol.unh.edu Date: Thu, 13 Nov 2025 18:37:31 -0800 (PST) Message-ID: <691695eb.170a0220.37bcb5.2f56SMTPIN_ADDED_MISSING@mx.google.com> Received: from [172.21.0.2] (unknown [172.18.0.240]) by postal.iol.unh.edu (Postfix) with ESMTP id 726E96051830; Thu, 13 Nov 2025 21:37:30 -0500 (EST) Subject: |SUCCESS| [GIT MASTER] 0bd935abcb823f581ce53986986aa54eaf6f8140 From: dpdklab@iol.unh.edu To: Test Report Cc: dpdk-test-reports@iol.unh.edu, Xueming Li , Christian Ehrhardt , Kevin Traynor , Luca Boccassi Content-Type: text/plain X-BeenThere: test-report@dpdk.org X-Mailman-Version: 2.1.29 Precedence: list List-Id: automatic DPDK test reports List-Unsubscribe: , List-Archive: List-Post: List-Help: List-Subscribe: , Errors-To: test-report-bounces@dpdk.org _Testing PASS_ Branch: tags/v24.11 0bd935abcb823f581ce53986986aa54eaf6f8140 --> testing pass Upstream job id: Generic-VM-Unit-Test-DPDK#32512 Test environment and result as below: +-------------------------------+----------------+ | Environment | dpdk_unit_test | +===============================+================+ | CentOS Stream 9 | PASS | +-------------------------------+----------------+ | Debian GNU/Linux 12 | PASS | +-------------------------------+----------------+ | CentOS Stream 10 | PASS | +-------------------------------+----------------+ | Fedora Linux 40 | PASS | +-------------------------------+----------------+ | Fedora Linux 41 | PASS | +-------------------------------+----------------+ | Red Hat Enterprise Linux 9.5 | PASS | +-------------------------------+----------------+ | Ubuntu 22.04 | PASS | +-------------------------------+----------------+ | Ubuntu 20.04 | PASS | +-------------------------------+----------------+ | Red Hat Enterprise Linux 8.10 | PASS | +-------------------------------+----------------+ | Fedora Linux 42 | PASS | +-------------------------------+----------------+ | Ubuntu 24.04 | PASS | +-------------------------------+----------------+ | Windows Server 2022 | PASS | +-------------------------------+----------------+ CentOS Stream 9 Kernel: 5.15 Compiler: gcc gcc (GCC) 11.5.0 20240719 (Red Hat 11.5.0-11) Debian GNU/Linux 12 Kernel: 5.15 Compiler: gcc gcc (Debian 12.2.0-14+deb12u1) 12.2.0 CentOS Stream 10 Kernel: 5.15 Compiler: gcc gcc (GCC) 14.2.1 20250110 (Red Hat 14.2.1-8) Fedora Linux 40 Kernel: 5.15 Compiler: gcc gcc (GCC) 14.2.1 20240912 (Red Hat 14.2.1-3) Fedora Linux 41 Kernel: 5.15 Compiler: clang gcc (GCC) 14.3.1 20250523 (Red Hat 14.3.1-1) Red Hat Enterprise Linux 9.5 Kernel: 5.15 Compiler: gcc gcc (GCC) 11.5.0 20240719 (Red Hat 11.5.0-2) Ubuntu 22.04 Kernel: 5.15 Compiler: gcc gcc (Ubuntu 11.4.0-1ubuntu1~22.04) 11.4.0 Ubuntu 20.04 Kernel: 5.15 Compiler: gcc gcc (Ubuntu 9.4.0-1ubuntu1~20.04.2) 9.4.0 Red Hat Enterprise Linux 8.10 Kernel: 5.15 Compiler: gcc gcc (GCC) 8.5.0 20210514 (Red Hat 8.5.0-22) Fedora Linux 42 Kernel: 5.15 Compiler: clang gcc (GCC) 15.2.1 20250808 (Red Hat 15.2.1-1) Ubuntu 24.04 Kernel: 5.15 Compiler: gcc gcc (Ubuntu 13.3.0-6ubuntu2~24.04) 13.3.0 Windows Server 2022 Kernel: 10.0.20348.2031 Compiler: clang 15.0.7, gcc 14.1.0 (MinGW), and MSVC VS 19.39.33521 To view detailed results, visit: https://lab.dpdk.org/results/dashboard/tarballs/35565/ UNH-IOL DPDK Community Lab To manage your email subscriptions, visit: https://lab.dpdk.org/results/dashboard/preferences/subscriptions/