From mboxrd@z Thu Jan 1 00:00:00 1970 Return-Path: Received: from mails.dpdk.org (mails.dpdk.org [217.70.189.124]) by inbox.dpdk.org (Postfix) with ESMTP id 1690E48AFF for ; Fri, 14 Nov 2025 03:53:00 +0100 (CET) Received: from mails.dpdk.org (localhost [127.0.0.1]) by mails.dpdk.org (Postfix) with ESMTP id EB72740151; Fri, 14 Nov 2025 03:52:59 +0100 (CET) Received: from mail-il1-f228.google.com (mail-il1-f228.google.com [209.85.166.228]) by mails.dpdk.org (Postfix) with ESMTP id 8027540151 for ; Fri, 14 Nov 2025 03:52:59 +0100 (CET) Received: by mail-il1-f228.google.com with SMTP id e9e14a558f8ab-434709e7cc9so7818715ab.1 for ; Thu, 13 Nov 2025 18:52:59 -0800 (PST) DKIM-Signature: v=1; a=rsa-sha256; c=relaxed/relaxed; d=iol.unh.edu; s=unh-iol; t=1763088779; x=1763693579; darn=dpdk.org; h=references:in-reply-to:cc:to:from:subject:message-id:date:from:to :cc:subject:date:message-id:reply-to; bh=SaJaUZgqCOJaTzZidBc+9EtsnsCMjz9Gkalb8uXZN4g=; b=OA/dZ3HMBbe+UZmFDbi6omktXeTrdyBbz/HQstfq703TXylrj+a5FIeJRDLcsfaPwS X2SJEjO0e0qMpNG2A07HKyeq8br2Jz54lxA/w3a+VpJpgkio1RVDIioKBwES90pxLsXA 0Vea1iqWG3tmXPNivbjpkKKGVPDh0FaOcFL5s= X-Google-DKIM-Signature: v=1; a=rsa-sha256; c=relaxed/relaxed; d=1e100.net; s=20230601; t=1763088779; x=1763693579; h=references:in-reply-to:cc:to:from:subject:message-id:date:x-gm-gg :x-gm-message-state:from:to:cc:subject:date:message-id:reply-to; bh=SaJaUZgqCOJaTzZidBc+9EtsnsCMjz9Gkalb8uXZN4g=; b=wUYsO91t7auPntss+UkLKo2QHlR4yFMswAoDehfzN8mQiXC4e7YhoukjAmQEWJBqZW smd95tj7tWbAC7uMUWZIBELBBcOBwEQTqAfGHJxbZx1AS3GFh6WTky4RwCwrBMThKzte E2aRcm5EXxTasgqTgN10RSHGaJKrjarF5iTD5xXoOSI4dp85VW+qt4sXED6L0Yx+3ZnG zgAEG0ShD9Ccny/hhkIl8rA0oyrzxl+JlLsrQ6d/MelWUsbqwXYD7fpYpHtiM2THJ+J+ Jy9xOpicq8bgLB4lFsf/o0qkl4eAFfP6hn11QRSjAIJX0Iw7NKPCVPiH801VDmSPojEL e3VQ== X-Gm-Message-State: AOJu0Yww16/duuwrsf7Xi05XUr4AWpCDLci8yYKBOZLTrnBOzX8NmvcU Qrad9DX+rQEkND2XsM3THIu7mg2aSoMb9YyTC2mBfILd5Jv6eMusPawhu9ItvXfG8lHm3jdea+r FhAjs4EeNW/G7mD+lo3fQvE0crLAK2h+P72w0rsEmDV+N1mcIHnfB6b55/Kr2 X-Gm-Gg: ASbGncsdsE+hzwXU9Lg9PDd3s9k6j3SRCxF5ys5UVNbhnFBp9mcQR6z3QxHm6CocNDj 2vEN+s0EQi4okfeEycDE1Y4d3Umh3W6fy2dTJJagsIEPMDY1Was9rxapZBQ/3wPkMGp7ciiyNCR aRlr5N4eQk/Io+Z40pDgkBQu2abqylZyX/YpnUeJfX/Io5z0l6hDnYmnNzUfo+2zHLRzSvfMu+r apTNK3V5PQKYlJdtWMPh89lW2y4R0o/Zuae84yP11rLDMGg2xDmzzOtMNh1Cfy3BV2/sx+D1t18 2cB3J1KzANNT1JSOuY6xUYAiPulfRDHOvoDBfBCUvqOMpZD8c1nBoQAVN48qQPiEoWGThY7qfFm LUN1CTUPB X-Google-Smtp-Source: AGHT+IEJaal0RN6H1KAUBkCd3R7LHpFkxQopvuspnKph613oNjEIuWKGAOCtf1kXZ7XKutS1tTvuHXsxJTI+ X-Received: by 2002:a92:cd8e:0:b0:433:4ac7:13bb with SMTP id e9e14a558f8ab-4348c865bedmr31936035ab.11.1763088778791; Thu, 13 Nov 2025 18:52:58 -0800 (PST) Received: from postal.iol.unh.edu (postal.iol.unh.edu. [2606:4100:3880:1234::84]) by smtp-relay.gmail.com with ESMTPS id e9e14a558f8ab-43483991e0csm2984245ab.21.2025.11.13.18.52.58 (version=TLS1_2 cipher=ECDHE-ECDSA-AES128-GCM-SHA256 bits=128/128); Thu, 13 Nov 2025 18:52:58 -0800 (PST) X-Relaying-Domain: iol.unh.edu Date: Thu, 13 Nov 2025 18:52:58 -0800 (PST) Message-ID: <6916998a.050a0220.2af7c8.e2a9SMTPIN_ADDED_MISSING@mx.google.com> Received: from [172.21.0.2] (unknown [172.18.0.240]) by postal.iol.unh.edu (Postfix) with ESMTP id 56C306051830; Thu, 13 Nov 2025 21:52:58 -0500 (EST) Subject: |SUCCESS| pw158780-158781 [PATCH] [2/2] dts: shorten a too long line From: dpdklab@iol.unh.edu To: Test Report Cc: dpdk-test-reports@iol.unh.edu In-Reply-To: <20251113232954.273454-3-probb@iol.unh.edu> References: <20251113232954.273454-3-probb@iol.unh.edu> Content-Type: text/plain X-BeenThere: test-report@dpdk.org X-Mailman-Version: 2.1.29 Precedence: list List-Id: automatic DPDK test reports List-Unsubscribe: , List-Archive: List-Post: List-Help: List-Subscribe: , Errors-To: test-report-bounces@dpdk.org Test-Label: iol-unit-amd64-testing Test-Status: SUCCESS http://dpdk.org/patch/158781 _Testing PASS_ Submitter: Patrick Robb Date: Thursday, November 13 2025 23:29:54 DPDK git baseline: Repo:dpdk-next-dts Branch: master CommitID:8dcc93a520b22330e0ad59d360a4594b854f9ddd 158780-158781 --> testing pass Upstream job id: Generic-Unit-Test-DPDK#392560 Test environment and result as below: +-------------------------------+----------------+ | Environment | dpdk_unit_test | +===============================+================+ | CentOS Stream 9 | PASS | +-------------------------------+----------------+ | Debian GNU/Linux 12 | PASS | +-------------------------------+----------------+ | CentOS Stream 10 | PASS | +-------------------------------+----------------+ | Fedora Linux 40 | PASS | +-------------------------------+----------------+ | Fedora Linux 41 | PASS | +-------------------------------+----------------+ | Fedora Linux 42 | PASS | +-------------------------------+----------------+ | Red Hat Enterprise Linux 8.10 | PASS | +-------------------------------+----------------+ | Ubuntu 20.04 | PASS | +-------------------------------+----------------+ | Ubuntu 22.04 | PASS | +-------------------------------+----------------+ | Red Hat Enterprise Linux 9.5 | PASS | +-------------------------------+----------------+ | Ubuntu 24.04 | PASS | +-------------------------------+----------------+ CentOS Stream 9 Kernel: 5.15 Compiler: gcc gcc (GCC) 11.5.0 20240719 (Red Hat 11.5.0-11) Debian GNU/Linux 12 Kernel: 5.15 Compiler: gcc gcc (Debian 12.2.0-14+deb12u1) 12.2.0 CentOS Stream 10 Kernel: 5.15 Compiler: gcc gcc (GCC) 14.2.1 20250110 (Red Hat 14.2.1-8) Fedora Linux 40 Kernel: 5.15 Compiler: gcc gcc (GCC) 14.2.1 20240912 (Red Hat 14.2.1-3) Fedora Linux 41 Kernel: 5.15 Compiler: gcc gcc (GCC) 14.3.1 20250523 (Red Hat 14.3.1-1) Fedora Linux 42 Kernel: 5.15 Compiler: gcc gcc (GCC) 15.2.1 20250808 (Red Hat 15.2.1-1) Red Hat Enterprise Linux 8.10 Kernel: 5.15 Compiler: gcc gcc (GCC) 8.5.0 20210514 (Red Hat 8.5.0-22) Ubuntu 20.04 Kernel: 5.15 Compiler: gcc gcc (Ubuntu 9.4.0-1ubuntu1~20.04.2) 9.4.0 Ubuntu 22.04 Kernel: 5.15 Compiler: gcc gcc (Ubuntu 11.4.0-1ubuntu1~22.04) 11.4.0 Red Hat Enterprise Linux 9.5 Kernel: 5.15 Compiler: gcc gcc (GCC) 11.5.0 20240719 (Red Hat 11.5.0-2) Ubuntu 24.04 Kernel: 5.15 Compiler: gcc gcc (Ubuntu 13.3.0-6ubuntu2~24.04) 13.3.0 To view detailed results, visit: https://lab.dpdk.org/results/dashboard/patchsets/34586/ UNH-IOL DPDK Community Lab To manage your email subscriptions, visit: https://lab.dpdk.org/results/dashboard/preferences/subscriptions/