From mboxrd@z Thu Jan 1 00:00:00 1970 Return-Path: Received: from mails.dpdk.org (mails.dpdk.org [217.70.189.124]) by inbox.dpdk.org (Postfix) with ESMTP id 81C7A48AFF for ; Fri, 14 Nov 2025 03:57:42 +0100 (CET) Received: from mails.dpdk.org (localhost [127.0.0.1]) by mails.dpdk.org (Postfix) with ESMTP id 74ACE40151; Fri, 14 Nov 2025 03:57:42 +0100 (CET) Received: from mail-il1-f226.google.com (mail-il1-f226.google.com [209.85.166.226]) by mails.dpdk.org (Postfix) with ESMTP id 5C3FF40151 for ; Fri, 14 Nov 2025 03:57:41 +0100 (CET) Received: by mail-il1-f226.google.com with SMTP id e9e14a558f8ab-433261f2045so6256215ab.3 for ; Thu, 13 Nov 2025 18:57:41 -0800 (PST) DKIM-Signature: v=1; a=rsa-sha256; c=relaxed/relaxed; d=iol.unh.edu; s=unh-iol; t=1763089060; x=1763693860; darn=dpdk.org; h=references:in-reply-to:cc:to:from:subject:message-id:date:from:to :cc:subject:date:message-id:reply-to; bh=XkjjCRJxKPA2xI/KuQH+nsR3QwrpqvWQCIjdjwmzwLU=; b=S7AbkRz5rJhzEh0etW4eMaFFmOouxVmSs/bu/6Zt2hT5lcmzAsJ4gZXsrliONik0ni bhYlYck99ouYx7aNpsoaqc0LJPTicfiOOLsh09AS7h1PFi3w0FNhuKgofrSDoRgHGoYg CTsOiwcdeMK6h+QfgMUZMJkd3J7timPz0Gc5s= X-Google-DKIM-Signature: v=1; a=rsa-sha256; c=relaxed/relaxed; d=1e100.net; s=20230601; t=1763089060; x=1763693860; h=references:in-reply-to:cc:to:from:subject:message-id:date:x-gm-gg :x-gm-message-state:from:to:cc:subject:date:message-id:reply-to; bh=XkjjCRJxKPA2xI/KuQH+nsR3QwrpqvWQCIjdjwmzwLU=; b=SizSaCrCWHGiGdPyfuf3upMi6znP2ngvINnb3XvJTK8OQNNNaUUDa85KVOmt41Uvjp FTEwfWdRX5oFVKrKtO608aCSIOblICB9UGNNyQAkeirAz39qJ3SB0+wUoCBUoQbscAgT SBoIgcQsbJ/DRpK00R6eamxYp36kdW57L8iCzSmG8txREfbrgb+jahEfY6zSkSKhl1GA eVd12CS6hvgS9TWVtl3WyOy+s0HiQ1MIujU7Yj72QmGkL/kQmdlIoslgKeWKKcrDWLuw UX1xi4aMe9sGJ+oElI8wuVL+amiO9Q/RZDMh2iclrNkV53X5iNIOaRFPW5noj18X6brV enVQ== X-Gm-Message-State: AOJu0YxLvkdPXUf+hrnNfH5okaoNuQb6Lha89SoaKPmvev1xRPFuMNWj ifb5OUGJ3ma2JvQvCvKs3wQFc1jUK8GTopBwwZc2x76EjXaeR4qxFX8Vx9pRXgj9oQqzZJjJxeb 0S3Xy3CRLmTapOpu9mVNjyFeL3VJ91rA2rP70b7a3u//WIbzjY3UPyxrMT/14 X-Gm-Gg: ASbGncseiDzachG8gYW90Qm89dbgTdYW9dWuyr1QbqFqvQpHpHoQxoN+WfUUv4i6OmO wWpfv7lZ24UIg59mmypxXA69lCemkPp1cFv1Ku6tgC1OrXC+OL9DUiP66NKZ+Z7dhkjps4hp6yd CBnJi8Gd6LNzAq71S74IQsqQGRcd+vG30rbISMMfiKqpI4HF4AoFk4DbzKgRfPJouy8Vvp29REV HOIAvAED/HlKVZ1Uw2PdRuP27RaDxzY6vHcoeFwsBaNV2L19HcJEXYnRllvqkbmZcbiU3gMdsJP uEuzODrvGb6dYC6dAKNBplPPxV6coOk3hCXWwTyBo9tY0ZNGdv+oL4WK2Rmjz9EtLOd6Ac/Lyyc j6blJMAlA X-Google-Smtp-Source: AGHT+IHaWDc+c1sCJd3k0LPHlIxENZ4z/t05/Zq5vCiGAj3qnmbADzhm9sDYlBzNctprcshoYe9QXy1QJ6iI X-Received: by 2002:a05:6e02:e:b0:433:23f0:1ebf with SMTP id e9e14a558f8ab-4348c8659aemr27433715ab.9.1763089060690; Thu, 13 Nov 2025 18:57:40 -0800 (PST) Received: from postal.iol.unh.edu (postal.iol.unh.edu. [2606:4100:3880:1234::84]) by smtp-relay.gmail.com with ESMTPS id e9e14a558f8ab-434839b238asm3201125ab.24.2025.11.13.18.57.40 (version=TLS1_2 cipher=ECDHE-ECDSA-AES128-GCM-SHA256 bits=128/128); Thu, 13 Nov 2025 18:57:40 -0800 (PST) X-Relaying-Domain: iol.unh.edu Date: Thu, 13 Nov 2025 18:57:40 -0800 (PST) Message-ID: <69169aa4.050a0220.ea2aa.f818SMTPIN_ADDED_MISSING@mx.google.com> Received: from [172.21.0.2] (unknown [172.18.0.240]) by postal.iol.unh.edu (Postfix) with ESMTP id 3EDB76051830; Thu, 13 Nov 2025 21:57:40 -0500 (EST) Subject: |SUCCESS| pw158746 [PATCH] app/proc-info: allow overriding defaults From: dpdklab@iol.unh.edu To: Test Report Cc: dpdk-test-reports@iol.unh.edu In-Reply-To: <20251112130326.2674728-1-mprajapat@marvell.com> References: <20251112130326.2674728-1-mprajapat@marvell.com> Content-Type: text/plain X-BeenThere: test-report@dpdk.org X-Mailman-Version: 2.1.29 Precedence: list List-Id: automatic DPDK test reports List-Unsubscribe: , List-Archive: List-Post: List-Help: List-Subscribe: , Errors-To: test-report-bounces@dpdk.org Test-Label: iol-compile-amd64-testing Test-Status: SUCCESS http://dpdk.org/patch/158746 _Testing PASS_ Submitter: Mohit Kumar Parjapat Date: Wednesday, November 12 2025 13:03:13 DPDK git baseline: Repo:dpdk Branch: master CommitID:be0112878b4fc3a1b918370ed2fe615c52039d77 158746 --> testing pass Upstream job id: Windows-Compile-DPDK-VS#7530 Test environment and result as below: +-------------------------------+--------------------+------------------+-------------------+ | Environment | dpdk_meson_compile | dpdk_compile_ovs | dpdk_msvc_compile | +===============================+====================+==================+===================+ | Ubuntu 20.04 | PASS | SKIPPED | SKIPPED | +-------------------------------+--------------------+------------------+-------------------+ | FreeBSD 14.2 | PASS | SKIPPED | SKIPPED | +-------------------------------+--------------------+------------------+-------------------+ | CentOS Stream 9 | PASS | SKIPPED | SKIPPED | +-------------------------------+--------------------+------------------+-------------------+ | CentOS Stream 10 | PASS | SKIPPED | SKIPPED | +-------------------------------+--------------------+------------------+-------------------+ | Debian GNU/Linux 12 | PASS | SKIPPED | SKIPPED | +-------------------------------+--------------------+------------------+-------------------+ | Fedora Linux 42 | PASS | PASS | SKIPPED | +-------------------------------+--------------------+------------------+-------------------+ | openSUSE Leap 15.6 | PASS | SKIPPED | SKIPPED | +-------------------------------+--------------------+------------------+-------------------+ | Red Hat Enterprise Linux 8.10 | PASS | SKIPPED | SKIPPED | +-------------------------------+--------------------+------------------+-------------------+ | Red Hat Enterprise Linux 9.5 | PASS | SKIPPED | SKIPPED | +-------------------------------+--------------------+------------------+-------------------+ | Ubuntu 22.04 | PASS | SKIPPED | SKIPPED | +-------------------------------+--------------------+------------------+-------------------+ | Ubuntu 24.04 | PASS | PASS | SKIPPED | +-------------------------------+--------------------+------------------+-------------------+ | Alpine Linux 3.22.0 | PASS | SKIPPED | SKIPPED | +-------------------------------+--------------------+------------------+-------------------+ | Windows Server 2022 | SKIPPED | SKIPPED | PASS | +-------------------------------+--------------------+------------------+-------------------+ Ubuntu 20.04 Kernel: 4.19 Compiler: gcc gcc (Ubuntu 9.4.0-1ubuntu1~20.04.2) 9.4.0 FreeBSD 14.2 Kernel: 14.2-RELEASE Compiler: clang 18.1.6 CentOS Stream 9 Kernel: 5.15 Compiler: gcc gcc (GCC) 11.5.0 20240719 (Red Hat 11.5.0-11) CentOS Stream 10 Kernel: 5.15 Compiler: gcc gcc (GCC) 14.2.1 20250110 (Red Hat 14.2.1-8) Debian GNU/Linux 12 Kernel: 5.15 Compiler: gcc gcc (Debian 12.2.0-14+deb12u1) 12.2.0 Fedora Linux 42 Kernel: 5.15 Compiler: clang gcc (GCC) 15.2.1 20250808 (Red Hat 15.2.1-1) openSUSE Leap 15.6 Kernel: 5.15 Compiler: gcc gcc (SUSE Linux) 7.5.0 Red Hat Enterprise Linux 8.10 Kernel: 5.15 Compiler: gcc gcc (GCC) 8.5.0 20210514 (Red Hat 8.5.0-22) Red Hat Enterprise Linux 9.5 Kernel: 5.15 Compiler: gcc gcc (GCC) 11.5.0 20240719 (Red Hat 11.5.0-2) Ubuntu 22.04 Kernel: 5.15 Compiler: gcc gcc (Ubuntu 11.4.0-1ubuntu1~22.04) 11.4.0 Ubuntu 24.04 Kernel: 5.15 Compiler: gcc gcc (Ubuntu 13.3.0-6ubuntu2~24.04) 13.3.0 Alpine Linux 3.22.0 Kernel: 5.15 Compiler: gcc gcc (Alpine 14.2.0) 14.2.0 Windows Server 2022 Kernel: 10.0.20348.2031 Compiler: clang 15.0.7, gcc 14.1.0 (MinGW), and MSVC VS 19.39.33521 To view detailed results, visit: https://lab.dpdk.org/results/dashboard/patchsets/34566/ UNH-IOL DPDK Community Lab To manage your email subscriptions, visit: https://lab.dpdk.org/results/dashboard/preferences/subscriptions/