From mboxrd@z Thu Jan 1 00:00:00 1970 Return-Path: Received: from mails.dpdk.org (mails.dpdk.org [217.70.189.124]) by inbox.dpdk.org (Postfix) with ESMTP id E64FA48B00 for ; Fri, 14 Nov 2025 04:01:39 +0100 (CET) Received: from mails.dpdk.org (localhost [127.0.0.1]) by mails.dpdk.org (Postfix) with ESMTP id D05FB40151; Fri, 14 Nov 2025 04:01:39 +0100 (CET) Received: from mail-ot1-f99.google.com (mail-ot1-f99.google.com [209.85.210.99]) by mails.dpdk.org (Postfix) with ESMTP id BA02040151 for ; Fri, 14 Nov 2025 04:01:38 +0100 (CET) Received: by mail-ot1-f99.google.com with SMTP id 46e09a7af769-7c6d3676455so521829a34.2 for ; Thu, 13 Nov 2025 19:01:38 -0800 (PST) DKIM-Signature: v=1; a=rsa-sha256; c=relaxed/relaxed; d=iol.unh.edu; s=unh-iol; t=1763089298; x=1763694098; darn=dpdk.org; h=references:in-reply-to:cc:to:from:subject:message-id:date:from:to :cc:subject:date:message-id:reply-to; bh=uAZ69EjfykfkdkbilUWPjrw0LOosF2396W6KPF4tBQ4=; b=hYeRzIHFUa9RH/h+lTMggRajzpU6lvDNd0fOuPuqBDO0RbpS0tOXbzA0yP7HnLBKcD /5ujdFrhH2SOHcDM6dBhRsalKTrHIqs8PlvCdoWpNWLUML0sFYoYdTALdqIE75Z1vfAL V2TxIKHRzPtuC8GmGcvY30pcUNuWf7Z5ux7zQ= X-Google-DKIM-Signature: v=1; a=rsa-sha256; c=relaxed/relaxed; d=1e100.net; s=20230601; t=1763089298; x=1763694098; h=references:in-reply-to:cc:to:from:subject:message-id:date:x-gm-gg :x-gm-message-state:from:to:cc:subject:date:message-id:reply-to; bh=uAZ69EjfykfkdkbilUWPjrw0LOosF2396W6KPF4tBQ4=; b=FW3lRVXwAY472MZJmnIBpXLOUkLHL2q821egO0PGD05nj00+Wwq3U4mUc1EHCHCjjM rS74AKPYg4gK8JY9IWrU2FvQkQRLrgw8ETqHFBysfmaEJyYqn0ehOzMbbnSav/9aT8Pv CpSt6zn9RElhTwa9+xgK0QLsAK0lCKEIVQhKwrQ/2y/IdkqIyauo5yXfv6agz0vvUam2 sbiPUFCAIBwIilS/jOEb8L6Q199OEiy+8V36EFnLJzVweO2WzUT5BxY6C/0E7cxZIWPK +btxVhBh8dirdsLM3oI64hDnaKSVNr8kOuaJPem9Dk84PoQJw4y0JhTnSf4DbiQSx7jW Chjw== X-Gm-Message-State: AOJu0Ywr22Peor8r7m7RyNlagKwntxxUiAz4ubDEqqCCyE0u7DY/yqtF ij2FqBjEqTal8Qvik39ejeES+4jp9EPHnwNUYbK86zSkxsZCWqJJlS7+t0le1YojKBnPdacwCSA mxSK1ehv8Gk0JFZDX+KA/uX9nDJjW89MEzidtNkR/ju3pB3XcVE7Iz6DrDXG5 X-Gm-Gg: ASbGncsYHYvigE9vhbhhBYbO2i4awUUQmOHU+wDMgymAIJDk9JmwmP/nFg8NNy9OaiC izo4UWpKHjiIIr1BPDJAfMqd1OgdqRoR+azG7XFL8rsfn29d1YcAcnB6nE1UYC9qdnimtgnk4vE qiCSulUJait5XtcHJlAX6ofw5jM+CtoyG5M8fgIDTG3l7gDr89I+NZGo7zyZvqW/usTI+tjz3AG K5EpPLuKuSi2F8LupgUCo4FPznYTL2oyeafdiRNzlz2XckbMBDVm9YeqokOB/eQH+baYAQSvVYk dgXxLiGbWYgUZewfbdiIo7m4f14Qe/I+o1yrCjeSRHtNqzF+fBM/SLXehBs2TVzUFaa+h5WyjvP RHeT3PHhK X-Google-Smtp-Source: AGHT+IH8YoZz0Llra5oWtTl9lGxgcZIJLuZq2xp2NPbxwBEQgr7w0rwiHpCtyVrW8FYTh0uE5JQjbpC9XLMx X-Received: by 2002:a05:6830:43ac:b0:799:c0c8:e9d1 with SMTP id 46e09a7af769-7c7445d7b15mr1309707a34.24.1763089298058; Thu, 13 Nov 2025 19:01:38 -0800 (PST) Received: from postal.iol.unh.edu (postal.iol.unh.edu. [2606:4100:3880:1234::84]) by smtp-relay.gmail.com with ESMTPS id 46e09a7af769-7c73a34a50csm353372a34.5.2025.11.13.19.01.37 (version=TLS1_2 cipher=ECDHE-ECDSA-AES128-GCM-SHA256 bits=128/128); Thu, 13 Nov 2025 19:01:38 -0800 (PST) X-Relaying-Domain: iol.unh.edu Date: Thu, 13 Nov 2025 19:01:38 -0800 (PST) Message-ID: <69169b92.050a0220.1f9d45.0b07SMTPIN_ADDED_MISSING@mx.google.com> Received: from [172.21.0.3] (unknown [172.18.0.240]) by postal.iol.unh.edu (Postfix) with ESMTP id 8681D6051830; Thu, 13 Nov 2025 22:01:37 -0500 (EST) Subject: |SUCCESS| pw158684-158685 [PATCH] [v6,2/2] bpf: add test for Rx and From: dpdklab@iol.unh.edu To: Test Report Cc: dpdk-test-reports@iol.unh.edu In-Reply-To: <20251111225719.540140-3-stephen@networkplumber.org> References: <20251111225719.540140-3-stephen@networkplumber.org> Content-Type: text/plain X-BeenThere: test-report@dpdk.org X-Mailman-Version: 2.1.29 Precedence: list List-Id: automatic DPDK test reports List-Unsubscribe: , List-Archive: List-Post: List-Help: List-Subscribe: , Errors-To: test-report-bounces@dpdk.org Test-Label: iol-compile-amd64-testing Test-Status: SUCCESS http://dpdk.org/patch/158685 _Testing PASS_ Submitter: Stephen Hemminger Date: Tuesday, November 11 2025 22:55:47 DPDK git baseline: Repo:dpdk Branch: master CommitID:be0112878b4fc3a1b918370ed2fe615c52039d77 158684-158685 --> testing pass Upstream job id: Windows-Compile-DPDK-Native#32308 Test environment and result as below: +-------------------------------+--------------------+------------------+-------------------+-------------------------+ | Environment | dpdk_meson_compile | dpdk_compile_ovs | dpdk_msvc_compile | dpdk_llvm_clang_compile | +===============================+====================+==================+===================+=========================+ | Ubuntu 20.04 | PASS | SKIPPED | SKIPPED | SKIPPED | +-------------------------------+--------------------+------------------+-------------------+-------------------------+ | FreeBSD 14.2 | PASS | SKIPPED | SKIPPED | SKIPPED | +-------------------------------+--------------------+------------------+-------------------+-------------------------+ | CentOS Stream 9 | PASS | SKIPPED | SKIPPED | SKIPPED | +-------------------------------+--------------------+------------------+-------------------+-------------------------+ | CentOS Stream 10 | PASS | SKIPPED | SKIPPED | SKIPPED | +-------------------------------+--------------------+------------------+-------------------+-------------------------+ | Debian GNU/Linux 12 | PASS | SKIPPED | SKIPPED | SKIPPED | +-------------------------------+--------------------+------------------+-------------------+-------------------------+ | Fedora Linux 42 | PASS | PASS | SKIPPED | SKIPPED | +-------------------------------+--------------------+------------------+-------------------+-------------------------+ | openSUSE Leap 15.6 | PASS | SKIPPED | SKIPPED | SKIPPED | +-------------------------------+--------------------+------------------+-------------------+-------------------------+ | Red Hat Enterprise Linux 8.10 | PASS | SKIPPED | SKIPPED | SKIPPED | +-------------------------------+--------------------+------------------+-------------------+-------------------------+ | Red Hat Enterprise Linux 9.5 | PASS | SKIPPED | SKIPPED | SKIPPED | +-------------------------------+--------------------+------------------+-------------------+-------------------------+ | Ubuntu 22.04 | PASS | SKIPPED | SKIPPED | SKIPPED | +-------------------------------+--------------------+------------------+-------------------+-------------------------+ | Ubuntu 24.04 | PASS | PASS | SKIPPED | SKIPPED | +-------------------------------+--------------------+------------------+-------------------+-------------------------+ | Alpine Linux 3.22.0 | PASS | SKIPPED | SKIPPED | SKIPPED | +-------------------------------+--------------------+------------------+-------------------+-------------------------+ | Windows Server 2022 | SKIPPED | SKIPPED | PASS | PASS | +-------------------------------+--------------------+------------------+-------------------+-------------------------+ Ubuntu 20.04 Kernel: 4.19 Compiler: gcc gcc (Ubuntu 9.4.0-1ubuntu1~20.04.2) 9.4.0 FreeBSD 14.2 Kernel: 14.2-RELEASE Compiler: clang 18.1.6 CentOS Stream 9 Kernel: 5.15 Compiler: gcc gcc (GCC) 11.5.0 20240719 (Red Hat 11.5.0-11) CentOS Stream 10 Kernel: 5.15 Compiler: gcc gcc (GCC) 14.2.1 20250110 (Red Hat 14.2.1-8) Debian GNU/Linux 12 Kernel: 5.15 Compiler: gcc gcc (Debian 12.2.0-14+deb12u1) 12.2.0 Fedora Linux 42 Kernel: 5.15 Compiler: clang gcc (GCC) 15.2.1 20250808 (Red Hat 15.2.1-1) openSUSE Leap 15.6 Kernel: 5.15 Compiler: gcc gcc (SUSE Linux) 7.5.0 Red Hat Enterprise Linux 8.10 Kernel: 5.15 Compiler: gcc gcc (GCC) 8.5.0 20210514 (Red Hat 8.5.0-22) Red Hat Enterprise Linux 9.5 Kernel: 5.15 Compiler: gcc gcc (GCC) 11.5.0 20240719 (Red Hat 11.5.0-2) Ubuntu 22.04 Kernel: 5.15 Compiler: gcc gcc (Ubuntu 11.4.0-1ubuntu1~22.04) 11.4.0 Ubuntu 24.04 Kernel: 5.15 Compiler: gcc gcc (Ubuntu 13.3.0-6ubuntu2~24.04) 13.3.0 Alpine Linux 3.22.0 Kernel: 5.15 Compiler: gcc gcc (Alpine 14.2.0) 14.2.0 Windows Server 2022 Kernel: 10.0.20348.2031 Compiler: clang 15.0.7, gcc 14.1.0 (MinGW), and MSVC VS 19.39.33521 To view detailed results, visit: https://lab.dpdk.org/results/dashboard/patchsets/34542/ UNH-IOL DPDK Community Lab To manage your email subscriptions, visit: https://lab.dpdk.org/results/dashboard/preferences/subscriptions/