From mboxrd@z Thu Jan 1 00:00:00 1970 Return-Path: Received: from mails.dpdk.org (mails.dpdk.org [217.70.189.124]) by inbox.dpdk.org (Postfix) with ESMTP id DB0F048B00 for ; Fri, 14 Nov 2025 04:11:09 +0100 (CET) Received: from mails.dpdk.org (localhost [127.0.0.1]) by mails.dpdk.org (Postfix) with ESMTP id D3E5240151; Fri, 14 Nov 2025 04:11:09 +0100 (CET) Received: from mail-pl1-f226.google.com (mail-pl1-f226.google.com [209.85.214.226]) by mails.dpdk.org (Postfix) with ESMTP id 4895140151 for ; Fri, 14 Nov 2025 04:11:08 +0100 (CET) Received: by mail-pl1-f226.google.com with SMTP id d9443c01a7336-2980d9b7df5so14099675ad.3 for ; Thu, 13 Nov 2025 19:11:08 -0800 (PST) DKIM-Signature: v=1; a=rsa-sha256; c=relaxed/relaxed; d=iol.unh.edu; s=unh-iol; t=1763089867; x=1763694667; darn=dpdk.org; h=references:in-reply-to:cc:to:from:subject:message-id:date:from:to :cc:subject:date:message-id:reply-to; bh=s/bN/WIOG7toGaLred1z9WaTCosvLuF27I3vMGYgRF8=; b=WLpZxYlkuCUKxQYvLbagQjWteyZ6IPp4qpnBKCGcsH9YszzhBJbHKfQ19pVZ3hPdJR REGoDhsMndlmoKdxMZ9n2mVdfWTU4vMlcoG4vbYxQklNS0LsedtQngzYf88rjGPn5o5R qGmK1ITwNXZQl6eeU/W7EfoV0/63yPyIxNaYU= X-Google-DKIM-Signature: v=1; a=rsa-sha256; c=relaxed/relaxed; d=1e100.net; s=20230601; t=1763089867; x=1763694667; h=references:in-reply-to:cc:to:from:subject:message-id:date:x-gm-gg :x-gm-message-state:from:to:cc:subject:date:message-id:reply-to; bh=s/bN/WIOG7toGaLred1z9WaTCosvLuF27I3vMGYgRF8=; b=Ly8KNTFnAZdN7joXRyYCS3GWRyTdbzDuxYb6k5fkS9uXbhfkHvjsJVhS5CXnmmjCcV GTAr0vVz0dVLWSjPLjWS93DBKTCFsQoQR23FjSaU/8WVQVRrYrA6ZJDUpSzmL56PMYpO JacR7SlxtdrT0sa5mDwixva9j7NwwXBBOoWLqtl+hHJp3oPkx2ESQzxU9y6mg9ZpQvGo KaG/mePYNRwzZ229xd8LKRMeLWFb9mJuoo0opQh+RYKVDXShEHG5rCq4fbuOkluF5PHk du4AeV0u1D+BQBzR41oppev65JQl8A4dBwWIedt48iYy9DovLbvMjHx5wWDzfcwgQ52a HQYw== X-Gm-Message-State: AOJu0Yxi8AbOtmPuCRUFWEjRUr/P0fyDBFXOAD6fcsVo9/xiMBm1qeB5 fThSIrZs6Mb8IoSSxgXpU7HSIXoqtr63I9ahb5PpRKAlvqpzHt/FcnXB+OsgNMnqw0r19NSotT6 sb1+0t+P8HwN5Gif3W60WT8hZb3ROBPF9FjZch/+L7FRV X-Gm-Gg: ASbGncs+qak/257HyNiBQZ1JwMbIDuqw/Z5zcCzv4xu5YBUWOVo5K8wRYwEQ6C85F0B e3Xwy83cp2fF/aWL4hZRFZpS+cd4tv8kmSn4RvXzWM7VezlyUi4/09/8wkd6WWPOGg5bbkeGKfp lZ1BPeiul8c+PswoGdRg1HvWhJ4NqiMjEUfF0pZYPxB45Iq6Rb2ZiqT00l5RdkziFFv7clAQncQ 33oIGZ+RumPqRYQsmx/nZpdV/3ZIaMHM2BBsP66XCfD5gtEWYblOykd6jGdQJjRwb275YjYlVQY v2xiuxNWPHVO2gJRzxp6ZSgafXebhKNJHL7aqpmk4Hig4MPIfKt5xpaZI5QIGCtdrj+75ZTTYv6 ydLsPiK1NPI1UONjEU8NjLvBSxHaEJbc= X-Google-Smtp-Source: AGHT+IE/gjWJyX89KcXTc4CL1hhjs36zYfDfwn7YvqQOUAqYO8q/4G94g5cXv8l3ecjDJIE5wKyrCXQfHwGV X-Received: by 2002:a17:902:f603:b0:295:5b68:9967 with SMTP id d9443c01a7336-2986a752d17mr14884625ad.49.1763089867547; Thu, 13 Nov 2025 19:11:07 -0800 (PST) Received: from postal.iol.unh.edu (postal.iol.unh.edu. [132.177.123.84]) by smtp-relay.gmail.com with ESMTPS id d9443c01a7336-2985c2540dasm3876045ad.27.2025.11.13.19.11.07 (version=TLS1_2 cipher=ECDHE-ECDSA-AES128-GCM-SHA256 bits=128/128); Thu, 13 Nov 2025 19:11:07 -0800 (PST) X-Relaying-Domain: iol.unh.edu Date: Thu, 13 Nov 2025 19:11:07 -0800 (PST) Message-ID: <69169dcb.170a0220.e2f2e.21b5SMTPIN_ADDED_MISSING@mx.google.com> Received: from [172.21.0.2] (unknown [172.18.0.240]) by postal.iol.unh.edu (Postfix) with ESMTP id CC9BC6051830; Thu, 13 Nov 2025 22:11:06 -0500 (EST) Subject: |SUCCESS| pw158713-158715 [PATCH] [v7,3/3] dts: add performance test From: dpdklab@iol.unh.edu To: Test Report Cc: dpdk-test-reports@iol.unh.edu In-Reply-To: <20251113012732.1059669-4-probb@iol.unh.edu> References: <20251113012732.1059669-4-probb@iol.unh.edu> Content-Type: text/plain X-BeenThere: test-report@dpdk.org X-Mailman-Version: 2.1.29 Precedence: list List-Id: automatic DPDK test reports List-Unsubscribe: , List-Archive: List-Post: List-Help: List-Subscribe: , Errors-To: test-report-bounces@dpdk.org Test-Label: iol-unit-amd64-testing Test-Status: SUCCESS http://dpdk.org/patch/158715 _Testing PASS_ Submitter: Patrick Robb Date: Thursday, November 13 2025 01:27:32 DPDK git baseline: Repo:dpdk-next-dts Branch: master CommitID:8dcc93a520b22330e0ad59d360a4594b854f9ddd 158713-158715 --> testing pass Upstream job id: Generic-VM-Unit-Test-DPDK#32513 Test environment and result as below: +-------------------------------+----------------+ | Environment | dpdk_unit_test | +===============================+================+ | Fedora Linux 40 | PASS | +-------------------------------+----------------+ | CentOS Stream 9 | PASS | +-------------------------------+----------------+ | Debian GNU/Linux 12 | PASS | +-------------------------------+----------------+ | CentOS Stream 10 | PASS | +-------------------------------+----------------+ | Fedora Linux 41 | PASS | +-------------------------------+----------------+ | Fedora Linux 42 | PASS | +-------------------------------+----------------+ | Red Hat Enterprise Linux 9.5 | PASS | +-------------------------------+----------------+ | Red Hat Enterprise Linux 8.10 | PASS | +-------------------------------+----------------+ | Ubuntu 20.04 | PASS | +-------------------------------+----------------+ | Ubuntu 22.04 | PASS | +-------------------------------+----------------+ | Ubuntu 24.04 | PASS | +-------------------------------+----------------+ | Windows Server 2022 | PASS | +-------------------------------+----------------+ Fedora Linux 40 Kernel: 5.15 Compiler: gcc gcc (GCC) 14.2.1 20240912 (Red Hat 14.2.1-3) CentOS Stream 9 Kernel: 5.15 Compiler: gcc gcc (GCC) 11.5.0 20240719 (Red Hat 11.5.0-11) Debian GNU/Linux 12 Kernel: 5.15 Compiler: gcc gcc (Debian 12.2.0-14+deb12u1) 12.2.0 CentOS Stream 10 Kernel: 5.15 Compiler: gcc gcc (GCC) 14.2.1 20250110 (Red Hat 14.2.1-8) Fedora Linux 41 Kernel: 5.15 Compiler: gcc gcc (GCC) 14.3.1 20250523 (Red Hat 14.3.1-1) Fedora Linux 42 Kernel: 5.15 Compiler: gcc gcc (GCC) 15.2.1 20250808 (Red Hat 15.2.1-1) Red Hat Enterprise Linux 9.5 Kernel: 5.15 Compiler: gcc gcc (GCC) 11.5.0 20240719 (Red Hat 11.5.0-2) Red Hat Enterprise Linux 8.10 Kernel: 5.15 Compiler: gcc gcc (GCC) 8.5.0 20210514 (Red Hat 8.5.0-22) Ubuntu 20.04 Kernel: 5.15 Compiler: gcc gcc (Ubuntu 9.4.0-1ubuntu1~20.04.2) 9.4.0 Ubuntu 22.04 Kernel: 5.15 Compiler: gcc gcc (Ubuntu 11.4.0-1ubuntu1~22.04) 11.4.0 Ubuntu 24.04 Kernel: 5.15 Compiler: gcc gcc (Ubuntu 13.3.0-6ubuntu2~24.04) 13.3.0 Windows Server 2022 Kernel: 10.0.20348.2031 Compiler: clang 15.0.7, gcc 14.1.0 (MinGW), and MSVC VS 19.39.33521 To view detailed results, visit: https://lab.dpdk.org/results/dashboard/patchsets/34561/ UNH-IOL DPDK Community Lab To manage your email subscriptions, visit: https://lab.dpdk.org/results/dashboard/preferences/subscriptions/