From mboxrd@z Thu Jan 1 00:00:00 1970 Return-Path: Received: from mails.dpdk.org (mails.dpdk.org [217.70.189.124]) by inbox.dpdk.org (Postfix) with ESMTP id 6ED3348B00 for ; Fri, 14 Nov 2025 04:16:20 +0100 (CET) Received: from mails.dpdk.org (localhost [127.0.0.1]) by mails.dpdk.org (Postfix) with ESMTP id 655A840151; Fri, 14 Nov 2025 04:16:20 +0100 (CET) Received: from mail-vs1-f97.google.com (mail-vs1-f97.google.com [209.85.217.97]) by mails.dpdk.org (Postfix) with ESMTP id B121A40151 for ; Fri, 14 Nov 2025 04:16:18 +0100 (CET) Received: by mail-vs1-f97.google.com with SMTP id ada2fe7eead31-5dd6fbe50c0so645906137.2 for ; Thu, 13 Nov 2025 19:16:18 -0800 (PST) DKIM-Signature: v=1; a=rsa-sha256; c=relaxed/relaxed; d=iol.unh.edu; s=unh-iol; t=1763090178; x=1763694978; darn=dpdk.org; h=references:in-reply-to:cc:to:from:subject:message-id:date:from:to :cc:subject:date:message-id:reply-to; bh=UN+/EQUYH0SiTWFg0RJm+ISedfdTj/lSalEwjQn194k=; b=FMK4k7shQyNV673Yqyf+4itdcgaQ8S6z9+230etSRt4xpjezkx3ry+Iy1fsurie3L2 obkTeUXNgPhcV+sz2NA5dBikTPecAIL/BPAczf8v5fkEJIUdB2RkTRIJ0ju7h7JWGtJv G56iX94PImBwaGU3wtppLJPGMErR1grh67qtI= X-Google-DKIM-Signature: v=1; a=rsa-sha256; c=relaxed/relaxed; d=1e100.net; s=20230601; t=1763090178; x=1763694978; h=references:in-reply-to:cc:to:from:subject:message-id:date:x-gm-gg :x-gm-message-state:from:to:cc:subject:date:message-id:reply-to; bh=UN+/EQUYH0SiTWFg0RJm+ISedfdTj/lSalEwjQn194k=; b=buLOhAxq8WDTGG26KC6fhXoUF+X3Tpk5/Xl6Mk+ZK93Ovihr73U7UVMSAa6J2W0chF /RHI/+V5/OzLpH67NN5ij55WxRIoD8gYnNtYTb9vjHGKADEE6uLrOJ3DXgmUZibSkX+7 bkPrfJGlFRjscXgS88wVmtIrWbHLC6WY4sLJQNpmgGuKC4fHzfLvE5vV30dFe1zFHryb w/5c1z5vRVmu2s4habp0phTxX4hjXFFFsBqQFIkPdxwuJsB/gbb+b1J5gVx8Z/TMP8u5 TDz4hVvQPI6ecDWtXmBsY80nhbpbYb8jPt1k7bO74cFUa3mTAf07uwEAd0+TphxLmT10 IiGA== X-Gm-Message-State: AOJu0Yy/V0srPWACSu8AXON+hvvWRk/Cq7HPi2IN6ujtWYn8upgIitHC diIVvwC5c0PRZVDHJCvkTepLll0xedf84dh+uH7lTL52FMtvJFMOoggUEpgrb3HzmYZuiCVqZYJ o4R2Ye3yav58khMKbI/3wDfmFD9KVNqMl03CjWK4EzesG5d45gzLixVk6vgPO X-Gm-Gg: ASbGnct4ZrfTj/vRKge9X5J47xuZqSXs2xclnDJ1l+w4nUd8p3floxKUW0ozJaQKKez yeO64+iT2gvVPw32jsc8nxRKMpsS9nL6gH324wyMIDqg0NauxG3gtOLFoupQcQ5M8kKcIoSL+c0 LRii+Qbs6xaDkbeKcilAPW+iGwhFwRhXC5Fy64oc19rBP2YzKahgHk8AnKtvAg3r7MNBjbCIofI Nv4sPh9D1fRaXsAJ3gnO5JJTnptQoZMsDsWIxjh6RmxhhhtaMbuawYWrzo9X6T+agUB/peMHMyh CXAihtkdVq2yp1Ddxp1pU0wnVc9hNLVW9i6FTLpp1rzTj6kjRl3KTKoHZOC71sRV/++BcPi/tVB Oo8Cv/KRM X-Google-Smtp-Source: AGHT+IEiVQx78umAUBLINhA6J8CwhiOwhmxd1xRUmTfzPlKZ2ozYIOBV+OBqQG8NYO9ZG4xzxAM5RnW8FJKi X-Received: by 2002:a05:6102:424b:b0:5db:f710:497e with SMTP id ada2fe7eead31-5dfc5b70395mr788324137.21.1763090177977; Thu, 13 Nov 2025 19:16:17 -0800 (PST) Received: from postal.iol.unh.edu (postal.iol.unh.edu. [2606:4100:3880:1234::84]) by smtp-relay.gmail.com with ESMTPS id ada2fe7eead31-5dfb725baccsm423118137.5.2025.11.13.19.16.17 (version=TLS1_2 cipher=ECDHE-ECDSA-AES128-GCM-SHA256 bits=128/128); Thu, 13 Nov 2025 19:16:17 -0800 (PST) X-Relaying-Domain: iol.unh.edu Date: Thu, 13 Nov 2025 19:16:17 -0800 (PST) Message-ID: <69169f01.050a0220.176da4.3ddcSMTPIN_ADDED_MISSING@mx.google.com> Received: from [172.21.0.2] (unknown [172.18.0.240]) by postal.iol.unh.edu (Postfix) with ESMTP id 1ECF16051830; Thu, 13 Nov 2025 22:16:17 -0500 (EST) Subject: |SUCCESS| pw158755 [PATCH] [v1] net/axgbe: fix the build warninig fo From: dpdklab@iol.unh.edu To: Test Report Cc: dpdk-test-reports@iol.unh.edu, Stephen Hemminger In-Reply-To: <20251113113055.371-1-VenkatKumar.Ande@amd.com> References: <20251113113055.371-1-VenkatKumar.Ande@amd.com> Content-Type: text/plain X-BeenThere: test-report@dpdk.org X-Mailman-Version: 2.1.29 Precedence: list List-Id: automatic DPDK test reports List-Unsubscribe: , List-Archive: List-Post: List-Help: List-Subscribe: , Errors-To: test-report-bounces@dpdk.org Test-Label: iol-compile-amd64-testing Test-Status: SUCCESS http://dpdk.org/patch/158755 _Testing PASS_ Submitter: Venkat Kumar Ande Date: Thursday, November 13 2025 11:30:55 DPDK git baseline: Repo:dpdk-next-net Branch: master CommitID:29807269854f9bfc72f1323273de8e23adc724d4 158755 --> testing pass Upstream job id: Generic-DPDK-Compile-Meson#443987 Test environment and result as below: +------------------+--------------------+ | Environment | dpdk_meson_compile | +==================+====================+ | Ubuntu 20.04 | PASS | +------------------+--------------------+ | FreeBSD 14.2 | PASS | +------------------+--------------------+ | CentOS Stream 10 | PASS | +------------------+--------------------+ | CentOS Stream 9 | PASS | +------------------+--------------------+ Ubuntu 20.04 Kernel: 4.19 Compiler: gcc gcc (Ubuntu 9.4.0-1ubuntu1~20.04.2) 9.4.0 FreeBSD 14.2 Kernel: 14.2-RELEASE Compiler: clang 18.1.6 CentOS Stream 10 Kernel: 5.15 Compiler: gcc gcc (GCC) 14.2.1 20250110 (Red Hat 14.2.1-8) CentOS Stream 9 Kernel: 5.15 Compiler: gcc gcc (GCC) 11.5.0 20240719 (Red Hat 11.5.0-11) To view detailed results, visit: https://lab.dpdk.org/results/dashboard/patchsets/34572/ UNH-IOL DPDK Community Lab To manage your email subscriptions, visit: https://lab.dpdk.org/results/dashboard/preferences/subscriptions/