From mboxrd@z Thu Jan 1 00:00:00 1970 Return-Path: Received: from mails.dpdk.org (mails.dpdk.org [217.70.189.124]) by inbox.dpdk.org (Postfix) with ESMTP id CD0A948B00 for ; Fri, 14 Nov 2025 04:19:24 +0100 (CET) Received: from mails.dpdk.org (localhost [127.0.0.1]) by mails.dpdk.org (Postfix) with ESMTP id ADE0840151; Fri, 14 Nov 2025 04:19:24 +0100 (CET) Received: from mail-qv1-f99.google.com (mail-qv1-f99.google.com [209.85.219.99]) by mails.dpdk.org (Postfix) with ESMTP id 4C21B40151 for ; Fri, 14 Nov 2025 04:19:23 +0100 (CET) Received: by mail-qv1-f99.google.com with SMTP id 6a1803df08f44-8824ce98111so19078846d6.0 for ; Thu, 13 Nov 2025 19:19:23 -0800 (PST) DKIM-Signature: v=1; a=rsa-sha256; c=relaxed/relaxed; d=iol.unh.edu; s=unh-iol; t=1763090362; x=1763695162; darn=dpdk.org; h=references:in-reply-to:cc:to:from:subject:message-id:date:from:to :cc:subject:date:message-id:reply-to; bh=PCD/oj0DyNUDau7cNuQBl18qQVCJr2nghUXf8AhVKYU=; b=i6lX8jk3IKCn3KMjJw1aIJhjyfMG6b6t8j7Sug+WAHOEWOUsPJRbODfqY0CXhcuT3I xjDs4ThDL71m6Kj4ouukY4jNp2iTEyK5cMFKejf+8gz0hSEurDXoFYsiKYUrIpTar3Uz ySJhOxomEEgvShFgsMcmHjIhk0WZ1zL0XNQgs= X-Google-DKIM-Signature: v=1; a=rsa-sha256; c=relaxed/relaxed; d=1e100.net; s=20230601; t=1763090362; x=1763695162; h=references:in-reply-to:cc:to:from:subject:message-id:date:x-gm-gg :x-gm-message-state:from:to:cc:subject:date:message-id:reply-to; bh=PCD/oj0DyNUDau7cNuQBl18qQVCJr2nghUXf8AhVKYU=; b=CdCqVVX55iOTQ7kiKdA1tXk9FEPMJj9F6aEruy9HD/yY0j01YOcQyMxs5lqUSfgVL+ XNZ3WSviFLfjNDr9DkJVwKUbhZxtXqKNUTqnYID+Laew6xYFhxxmk0yFOI2I3REfYJX0 wPA4eN6r6izb5bZCQG0uAGGtGI6oadKH2lQFAPw9z+XV3uhurmNbS+/2c1GFXav/fujy WwLOXzV6V1DZuf9nihGNigilJBtxGx1VHir0e5MohTEPw4s7nMmlFWgFaP0koFToACAo ZYgzkr+6YD1L2r5FUYcaIePV6T9bEclwuGzZ8rVqDnPcD6GxRxHr+C+tQhnYebiEl2sQ 1FzA== X-Gm-Message-State: AOJu0YyD2xaFuA893w5hY0wlM92+fW9+D+DZ/dXX+WsZg6zPsGbHHlT2 TVsbq9nz27vPPgAxgLEK0shniqpGZg4XygWVhJMoTdvnKYoHiRaR0uMmX2MdYgkkZV9E64a/MFK Ckzf2Q7kSRLDJDuoFzWn2Vuoz3cKiYgRw70gsWT+TXLYlBfbN4zxJZDBMTud7 X-Gm-Gg: ASbGnctTZwuG3wY5y7I8PaYYbtt+MOMlNLu6YDA2VRhGlN6YakhpNRM+sMsPjxPZ4qm n0iJUvkThoIHHKENMY/s3vedX1Z2Qj+tAsLX6tg26n7qP60XDkkVsaQbu0sOfvDkMBcNi0XTH2S 4VQC+QYmq+fj4SkntF0mpjcfQnEPi+9ysnAVhB1A1p0vnvl5s5LAUDIcb3KgjWrG0aN5D91ONOs LVFLZQ0vtzM2QFSW6ttUiPCRFt5+wZZmV/wcdSck7nSZ/WE4qD7JRqhHTUzdQkFGk0GxWnWXu6v A6sgSnU9PXbEXjwE2Vlqobeabx6X43qBXQ7eMOm8NW3xoh06esQuT7uv2l5YgfqmoTttEmAMPDd cSDM1oWc+ X-Google-Smtp-Source: AGHT+IH2Oraf8wlzkwGUUR/S1T+RGwaISsBcRNJMNjYU18SeMljhp8G+LEbm1vkw8kW641hjapo5XpV4ZDja X-Received: by 2002:a05:6214:27ee:b0:87c:2847:f7bf with SMTP id 6a1803df08f44-882925b1becmr18737976d6.17.1763090362449; Thu, 13 Nov 2025 19:19:22 -0800 (PST) Received: from postal.iol.unh.edu (postal.iol.unh.edu. [2606:4100:3880:1234::84]) by smtp-relay.gmail.com with ESMTPS id 6a1803df08f44-882862b348asm4172576d6.2.2025.11.13.19.19.22 (version=TLS1_2 cipher=ECDHE-ECDSA-AES128-GCM-SHA256 bits=128/128); Thu, 13 Nov 2025 19:19:22 -0800 (PST) X-Relaying-Domain: iol.unh.edu Date: Thu, 13 Nov 2025 19:19:22 -0800 (PST) Message-ID: <69169fba.050a0220.bc0de.34d8SMTPIN_ADDED_MISSING@mx.google.com> Received: from [172.21.0.2] (unknown [172.18.0.240]) by postal.iol.unh.edu (Postfix) with ESMTP id AD14E6051830; Thu, 13 Nov 2025 22:19:21 -0500 (EST) Subject: |SUCCESS| pw158755 [PATCH] [v1] net/axgbe: fix the build warninig fo From: dpdklab@iol.unh.edu To: Test Report Cc: dpdk-test-reports@iol.unh.edu, Stephen Hemminger In-Reply-To: <20251113113055.371-1-VenkatKumar.Ande@amd.com> References: <20251113113055.371-1-VenkatKumar.Ande@amd.com> Content-Type: text/plain X-BeenThere: test-report@dpdk.org X-Mailman-Version: 2.1.29 Precedence: list List-Id: automatic DPDK test reports List-Unsubscribe: , List-Archive: List-Post: List-Help: List-Subscribe: , Errors-To: test-report-bounces@dpdk.org Test-Label: iol-compile-amd64-testing Test-Status: SUCCESS http://dpdk.org/patch/158755 _Testing PASS_ Submitter: Venkat Kumar Ande Date: Thursday, November 13 2025 11:30:55 DPDK git baseline: Repo:dpdk-next-net Branch: master CommitID:29807269854f9bfc72f1323273de8e23adc724d4 158755 --> testing pass Upstream job id: Generic-DPDK-Compile-Meson#443988 Test environment and result as below: +---------------------+--------------------+ | Environment | dpdk_meson_compile | +=====================+====================+ | Ubuntu 20.04 | PASS | +---------------------+--------------------+ | FreeBSD 14.2 | PASS | +---------------------+--------------------+ | CentOS Stream 10 | PASS | +---------------------+--------------------+ | CentOS Stream 9 | PASS | +---------------------+--------------------+ | Debian GNU/Linux 12 | PASS | +---------------------+--------------------+ Ubuntu 20.04 Kernel: 4.19 Compiler: gcc gcc (Ubuntu 9.4.0-1ubuntu1~20.04.2) 9.4.0 FreeBSD 14.2 Kernel: 14.2-RELEASE Compiler: clang 18.1.6 CentOS Stream 10 Kernel: 5.15 Compiler: gcc gcc (GCC) 14.2.1 20250110 (Red Hat 14.2.1-8) CentOS Stream 9 Kernel: 5.15 Compiler: gcc gcc (GCC) 11.5.0 20240719 (Red Hat 11.5.0-11) Debian GNU/Linux 12 Kernel: 5.15 Compiler: gcc gcc (Debian 12.2.0-14+deb12u1) 12.2.0 To view detailed results, visit: https://lab.dpdk.org/results/dashboard/patchsets/34572/ UNH-IOL DPDK Community Lab To manage your email subscriptions, visit: https://lab.dpdk.org/results/dashboard/preferences/subscriptions/