From mboxrd@z Thu Jan 1 00:00:00 1970 Return-Path: Received: from mails.dpdk.org (mails.dpdk.org [217.70.189.124]) by inbox.dpdk.org (Postfix) with ESMTP id CC82548B00 for ; Fri, 14 Nov 2025 04:29:48 +0100 (CET) Received: from mails.dpdk.org (localhost [127.0.0.1]) by mails.dpdk.org (Postfix) with ESMTP id C817540151; Fri, 14 Nov 2025 04:29:48 +0100 (CET) Received: from mail-ot1-f97.google.com (mail-ot1-f97.google.com [209.85.210.97]) by mails.dpdk.org (Postfix) with ESMTP id D93D940151 for ; Fri, 14 Nov 2025 04:29:46 +0100 (CET) Received: by mail-ot1-f97.google.com with SMTP id 46e09a7af769-7c704bdd57aso765465a34.3 for ; Thu, 13 Nov 2025 19:29:46 -0800 (PST) DKIM-Signature: v=1; a=rsa-sha256; c=relaxed/relaxed; d=iol.unh.edu; s=unh-iol; t=1763090986; x=1763695786; darn=dpdk.org; h=references:in-reply-to:cc:to:from:subject:message-id:date:from:to :cc:subject:date:message-id:reply-to; bh=ooBWguNnL+kNvwDBVyZoitGHAAU+pa4ma3XcqkvTwnA=; b=CL3ny/JCxUfNcf5Ygc3daIZzfLqxQhSEQnS4CX/Rw9HZXsSZsHtKWdxBr4SJRwJ3Sp YmZDTY1FAWdJkg6a0Dgrnc3z80WmCMc3l2MIE0JqKaEbYi/lzgHwDMomX5CwSlPX9Bv3 Acl4AMp4E6XDbYOtv5HqsgzaS+AiqU7EdSXf8= X-Google-DKIM-Signature: v=1; a=rsa-sha256; c=relaxed/relaxed; d=1e100.net; s=20230601; t=1763090986; x=1763695786; h=references:in-reply-to:cc:to:from:subject:message-id:date:x-gm-gg :x-gm-message-state:from:to:cc:subject:date:message-id:reply-to; bh=ooBWguNnL+kNvwDBVyZoitGHAAU+pa4ma3XcqkvTwnA=; b=ncSOl0k1JSDeePdrukDJvcM51QybaHkj7A940ElnrjY6OoEfBDvCHc5s7WpjKCKRA6 eguhNMaAXQftUcxhNWOmoDTaQoeBIk6BcuvAirjir8Z/fMr5wubtqxTCQVWOU2Wn76xp bwUJCUQsgjHfWP8wGJMeQHV8xmR+WpWi01vYoGlkUhhjUi6sHbomLQb7Vcowmb84i5Y7 npFN90az8k2pkdnGRjCNE+89efM+OVIvHaBWgSHc19/b7Rz7BaI7DgLl5t2WLcv1cYWG MyiSpfiBROoc4OrFMq9YX6H2YezfA7TWPIX6XB1n0ceClU7lkTJUKxdp4PfKozo3pOy6 hq8g== X-Gm-Message-State: AOJu0YyUbSeWjmcHPnqvR+IQmhALTCl6P8svmsU/ULhPCiCMWb9ia4RK /FZkJq2JLTNSwD9AIJA3pHuDeJUOA7r1xwd59OIJ1pAMG+hFz7TfbtwzCITf9RKUGfq6hUjDKzu K5qtLNsiZv8EONOYy3VYb0IyCY6B7RRsLs7Um9i+8pyrk X-Gm-Gg: ASbGnctb1xPtq5iinSizUtvXYcAFGiehQ1V+EUKNKTCM/PQu0+JauvLOYpyZGrG98fc itR54UOAG/cnrRDuZZbqp1OuQMZG4JDE58eA5nJET70zhXAkCeb2IqJ8Mt5rJnKGlMxMBE8U3Xs srF6ef68cOxIpLODA0u4Qk+NSQ9bRskIcedhm3NHnACGAFkdGDvJ8z75/DBNbYTxt6fHHdubXCv py141B0/g6HlPc5xhF2c7vadF07krQ5WOT3N1i0onah8ImRNYjHmQfBeUIBATJWjqfd9cLgecvt sfYeLzd09+nmWZ9Kx+PKoj8zlb+gZ7KX8i88Lj7d6fdzasHBtrfTTgI7S2A9sXtuRCNnbOMSz08 Z3StKCF2qDvHFly6fKDkthx6b3/1FAQA= X-Google-Smtp-Source: AGHT+IEWRkk0/0l0jIJAgsL5I5+XuB/zlMZgOOfHlMfKDfPKLVh8v6+7s6Yw/rEog9RNVscpdB+SlorSBBOV X-Received: by 2002:a05:6830:2695:b0:7c6:b6da:e2ad with SMTP id 46e09a7af769-7c7445ac4e3mr1143132a34.33.1763090986108; Thu, 13 Nov 2025 19:29:46 -0800 (PST) Received: from postal.iol.unh.edu (postal.iol.unh.edu. [132.177.123.84]) by smtp-relay.gmail.com with ESMTPS id 46e09a7af769-7c73a35fcdfsm344649a34.8.2025.11.13.19.29.46 (version=TLS1_2 cipher=ECDHE-ECDSA-AES128-GCM-SHA256 bits=128/128); Thu, 13 Nov 2025 19:29:46 -0800 (PST) X-Relaying-Domain: iol.unh.edu Date: Thu, 13 Nov 2025 19:29:46 -0800 (PST) Message-ID: <6916a22a.050a0220.3b910.ffedSMTPIN_ADDED_MISSING@mx.google.com> Received: from [172.21.0.2] (unknown [172.18.0.240]) by postal.iol.unh.edu (Postfix) with ESMTP id 7DDC46051830; Thu, 13 Nov 2025 22:29:45 -0500 (EST) Subject: |SUCCESS| pw158713-158715 [PATCH] [v7,3/3] dts: add performance test From: dpdklab@iol.unh.edu To: Test Report Cc: dpdk-test-reports@iol.unh.edu In-Reply-To: <20251113012732.1059669-4-probb@iol.unh.edu> References: <20251113012732.1059669-4-probb@iol.unh.edu> Content-Type: text/plain X-BeenThere: test-report@dpdk.org X-Mailman-Version: 2.1.29 Precedence: list List-Id: automatic DPDK test reports List-Unsubscribe: , List-Archive: List-Post: List-Help: List-Subscribe: , Errors-To: test-report-bounces@dpdk.org Test-Label: iol-unit-arm64-testing Test-Status: SUCCESS http://dpdk.org/patch/158715 _Testing PASS_ Submitter: Patrick Robb Date: Thursday, November 13 2025 01:27:32 DPDK git baseline: Repo:dpdk-next-dts Branch: master CommitID:8dcc93a520b22330e0ad59d360a4594b854f9ddd 158713-158715 --> testing pass Upstream job id: Generic-Unit-Test-DPDK#391814 Test environment and result as below: +------------------------------+------------------------------+--------------+---------------------------+----------------+ | Environment | cryptodev_sw_snow3g_autotest | lpm_autotest | cryptodev_sw_zuc_autotest | dpdk_unit_test | +==============================+==============================+==============+===========================+================+ | Debian 12 (arm) | PASS | SKIPPED | PASS | SKIPPED | +------------------------------+------------------------------+--------------+---------------------------+----------------+ | Ubuntu 20.04 | SKIPPED | PASS | SKIPPED | PASS | +------------------------------+------------------------------+--------------+---------------------------+----------------+ | CentOS Stream 10 | SKIPPED | SKIPPED | SKIPPED | PASS | +------------------------------+------------------------------+--------------+---------------------------+----------------+ | CentOS Stream 9 | SKIPPED | SKIPPED | SKIPPED | PASS | +------------------------------+------------------------------+--------------+---------------------------+----------------+ | Debian GNU/Linux 12 | SKIPPED | SKIPPED | SKIPPED | PASS | +------------------------------+------------------------------+--------------+---------------------------+----------------+ | Fedora Linux 40 | SKIPPED | SKIPPED | SKIPPED | PASS | +------------------------------+------------------------------+--------------+---------------------------+----------------+ | Fedora Linux 41 | SKIPPED | SKIPPED | SKIPPED | PASS | +------------------------------+------------------------------+--------------+---------------------------+----------------+ | Fedora Linux 42 | SKIPPED | SKIPPED | SKIPPED | PASS | +------------------------------+------------------------------+--------------+---------------------------+----------------+ | Ubuntu 22.04 | SKIPPED | SKIPPED | SKIPPED | PASS | +------------------------------+------------------------------+--------------+---------------------------+----------------+ | Red Hat Enterprise Linux 9.5 | SKIPPED | SKIPPED | SKIPPED | PASS | +------------------------------+------------------------------+--------------+---------------------------+----------------+ | Ubuntu 24.04 | SKIPPED | SKIPPED | SKIPPED | PASS | +------------------------------+------------------------------+--------------+---------------------------+----------------+ Debian 12 (arm) Kernel: Depends on container host Compiler: gcc (Debian 12.2.0-14) 12.2.0 Ubuntu 20.04 Kernel: 5.4 Compiler: gcc gcc (Ubuntu 9.4.0-1ubuntu1~20.04.2) 9.4.0 CentOS Stream 10 Kernel: 5.4 Compiler: gcc gcc (GCC) 14.2.1 20250110 (Red Hat 14.2.1-8) CentOS Stream 9 Kernel: 5.4 Compiler: gcc gcc (GCC) 11.5.0 20240719 (Red Hat 11.5.0-11) Debian GNU/Linux 12 Kernel: 5.4 Compiler: gcc gcc (Debian 12.2.0-14+deb12u1) 12.2.0 Fedora Linux 40 Kernel: 5.4 Compiler: clang gcc (GCC) 14.2.1 20240912 (Red Hat 14.2.1-3) Fedora Linux 41 Kernel: 5.4 Compiler: clang gcc (GCC) 14.3.1 20250523 (Red Hat 14.3.1-1) Fedora Linux 42 Kernel: 5.4 Compiler: clang gcc (GCC) 15.2.1 20250808 (Red Hat 15.2.1-1) Ubuntu 22.04 Kernel: 5.4 Compiler: gcc gcc (Ubuntu 11.4.0-1ubuntu1~22.04) 11.4.0 Red Hat Enterprise Linux 9.5 Kernel: 5.4 Compiler: gcc gcc (GCC) 11.5.0 20240719 (Red Hat 11.5.0-2) Ubuntu 24.04 Kernel: 5.4 Compiler: gcc gcc (Ubuntu 13.3.0-6ubuntu2~24.04) 13.3.0 To view detailed results, visit: https://lab.dpdk.org/results/dashboard/patchsets/34561/ UNH-IOL DPDK Community Lab To manage your email subscriptions, visit: https://lab.dpdk.org/results/dashboard/preferences/subscriptions/