From mboxrd@z Thu Jan 1 00:00:00 1970 Return-Path: Received: from mails.dpdk.org (mails.dpdk.org [217.70.189.124]) by inbox.dpdk.org (Postfix) with ESMTP id 61F0F48B00 for ; Fri, 14 Nov 2025 04:34:45 +0100 (CET) Received: from mails.dpdk.org (localhost [127.0.0.1]) by mails.dpdk.org (Postfix) with ESMTP id 39DA940151; Fri, 14 Nov 2025 04:34:45 +0100 (CET) Received: from mail-ot1-f99.google.com (mail-ot1-f99.google.com [209.85.210.99]) by mails.dpdk.org (Postfix) with ESMTP id AF1B840151 for ; Fri, 14 Nov 2025 04:34:43 +0100 (CET) Received: by mail-ot1-f99.google.com with SMTP id 46e09a7af769-7c704bdd57aso766647a34.3 for ; Thu, 13 Nov 2025 19:34:43 -0800 (PST) DKIM-Signature: v=1; a=rsa-sha256; c=relaxed/relaxed; d=iol.unh.edu; s=unh-iol; t=1763091283; x=1763696083; darn=dpdk.org; h=references:in-reply-to:cc:to:from:subject:message-id:date:from:to :cc:subject:date:message-id:reply-to; bh=UYN3GrUl8M/lkXByRvfceWERTRPT8ndv+0RHP0ZKYp0=; b=PvHClbEuh0V6yStIdds9RXS8QWF9Y1ASNpgOQCuDJkok+TFgYHyHITaJExeTM9vZGo gJZywQcMOGntruvXhHYkcqDpe9z3vePf3vDFF+gp9G/GksxriYmeWlHt6jqvN3ZeVGA7 ADX5tE5GwLG8miL3dpbhuJOQIQ3Sv4uBTrfzQ= X-Google-DKIM-Signature: v=1; a=rsa-sha256; c=relaxed/relaxed; d=1e100.net; s=20230601; t=1763091283; x=1763696083; h=references:in-reply-to:cc:to:from:subject:message-id:date:x-gm-gg :x-gm-message-state:from:to:cc:subject:date:message-id:reply-to; bh=UYN3GrUl8M/lkXByRvfceWERTRPT8ndv+0RHP0ZKYp0=; b=q87lsoC31rs0uvIiPhW9WqHBOgTfMRCjM+YAxA9+qX+PKcg8WubthwwEuwX/LmJDBe MBnNsUnaMlLBZbNQbJiNI/X65npsOpc1OgV7DVq2f+xhbU1Rl7Mul/CG3s8Vn1WXqkKI 1Qzqs4IoWni5CSxb0Ft4xW9wy+gMRIkpGenWMZLLSAg0Y7dPwUrc06mBu83r3zQVZsqv 9iqHtPxRLuY71GfQWckqyiOqym3gMB4Qpu+1QYFmN07YmXiZWkOEPhwnaIahDRkokE6b Hrs65X4irajyA+f9ugWiSyn55Q+CumECoa3BsdFDtX6KLQZLHydl2IS4igeysYPIOeHr 7Okg== X-Gm-Message-State: AOJu0YwIOAzafhNGjc3FwsdmBbBeMhnZ4LIDpAcDCpU4XWaV6VGR6j72 Fbt3CJYD/lWnDuQoT8YqPLFeXuN/6mHcXDl8dgFkGwiT3rl6yyzKzg8Qi+K3vBk08FZ/sn0PRvf hMbeWPWWtmKtEWNp2FbwTRFGYZmmH0yDMnaZqNUkn332LISIPaiTvJawfvJ4c X-Gm-Gg: ASbGncssxFOQUHJpvg29eClLlDbNz3IiDn1g+SynqUi8F05UU+7xqYRMBNKBwjAjn/3 eJdY5o064EN4f1KxQGOafbAIxyg47Rr/8l8PhRLxKlCxJMMLRv9yAwelCAjZ12pyj0U8RhwMLAW gJVbkytfe9oQJ2YmhS2NULY3wWeecF/PweGdnzuHR2+Uqfo1b9SroMxg0/Cv7x4xgfUQE8ke8Bq 5sV9TEV7rcY+uD0tVIC9jr99iwpwxxqw6rUNRE2E20hNghNuWMaFi/e1BUK/6WTO1Ab0+Tpa9A/ takKqu/AqFlpdPpIcC4GUuMnUPFay/6NH3ib4rkzPKe7rjZyai1EEhzR5UQFiKEEVbDqg114kuh fRaP+HVdU X-Google-Smtp-Source: AGHT+IHb8ws5N95IlauTw68W5WhgCLH+ldroaFXNsXy5uEypf+hN0d+r7Z64AavnY+C/RrV1neRF+rCxKR9P X-Received: by 2002:a05:6808:2185:b0:450:4e1:3afc with SMTP id 5614622812f47-450975b1462mr670301b6e.36.1763091282908; Thu, 13 Nov 2025 19:34:42 -0800 (PST) Received: from postal.iol.unh.edu (postal.iol.unh.edu. [2606:4100:3880:1234::84]) by smtp-relay.gmail.com with ESMTPS id 586e51a60fabf-3e85200d466sm350852fac.5.2025.11.13.19.34.42 (version=TLS1_2 cipher=ECDHE-ECDSA-AES128-GCM-SHA256 bits=128/128); Thu, 13 Nov 2025 19:34:42 -0800 (PST) X-Relaying-Domain: iol.unh.edu Date: Thu, 13 Nov 2025 19:34:42 -0800 (PST) Message-ID: <6916a352.050a0220.114e80.07d1SMTPIN_ADDED_MISSING@mx.google.com> Received: from [172.21.0.2] (unknown [172.18.0.240]) by postal.iol.unh.edu (Postfix) with ESMTP id 4AACD6051830; Thu, 13 Nov 2025 22:34:42 -0500 (EST) Subject: |SUCCESS| pw158713-158715 [PATCH] [v7,3/3] dts: add performance test From: dpdklab@iol.unh.edu To: Test Report Cc: dpdk-test-reports@iol.unh.edu In-Reply-To: <20251113012732.1059669-4-probb@iol.unh.edu> References: <20251113012732.1059669-4-probb@iol.unh.edu> Content-Type: text/plain X-BeenThere: test-report@dpdk.org X-Mailman-Version: 2.1.29 Precedence: list List-Id: automatic DPDK test reports List-Unsubscribe: , List-Archive: List-Post: List-Help: List-Subscribe: , Errors-To: test-report-bounces@dpdk.org Test-Label: iol-unit-amd64-testing Test-Status: SUCCESS http://dpdk.org/patch/158715 _Testing PASS_ Submitter: Patrick Robb Date: Thursday, November 13 2025 01:27:32 DPDK git baseline: Repo:dpdk-next-dts Branch: master CommitID:8dcc93a520b22330e0ad59d360a4594b854f9ddd 158713-158715 --> testing pass Upstream job id: Generic-VM-Unit-Test-DPDK#32514 Test environment and result as below: +-------------------------------+----------------+ | Environment | dpdk_unit_test | +===============================+================+ | Fedora Linux 40 | PASS | +-------------------------------+----------------+ | CentOS Stream 9 | PASS | +-------------------------------+----------------+ | Debian GNU/Linux 12 | PASS | +-------------------------------+----------------+ | CentOS Stream 10 | PASS | +-------------------------------+----------------+ | Fedora Linux 41 | PASS | +-------------------------------+----------------+ | Fedora Linux 42 | PASS | +-------------------------------+----------------+ | Red Hat Enterprise Linux 9.5 | PASS | +-------------------------------+----------------+ | Red Hat Enterprise Linux 8.10 | PASS | +-------------------------------+----------------+ | Ubuntu 20.04 | PASS | +-------------------------------+----------------+ | Ubuntu 22.04 | PASS | +-------------------------------+----------------+ | Ubuntu 24.04 | PASS | +-------------------------------+----------------+ | Windows Server 2022 | PASS | +-------------------------------+----------------+ Fedora Linux 40 Kernel: 5.15 Compiler: gcc gcc (GCC) 14.2.1 20240912 (Red Hat 14.2.1-3) CentOS Stream 9 Kernel: 5.15 Compiler: gcc gcc (GCC) 11.5.0 20240719 (Red Hat 11.5.0-11) Debian GNU/Linux 12 Kernel: 5.15 Compiler: gcc gcc (Debian 12.2.0-14+deb12u1) 12.2.0 CentOS Stream 10 Kernel: 5.15 Compiler: gcc gcc (GCC) 14.2.1 20250110 (Red Hat 14.2.1-8) Fedora Linux 41 Kernel: 5.15 Compiler: gcc gcc (GCC) 14.3.1 20250523 (Red Hat 14.3.1-1) Fedora Linux 42 Kernel: 5.15 Compiler: gcc gcc (GCC) 15.2.1 20250808 (Red Hat 15.2.1-1) Red Hat Enterprise Linux 9.5 Kernel: 5.15 Compiler: gcc gcc (GCC) 11.5.0 20240719 (Red Hat 11.5.0-2) Red Hat Enterprise Linux 8.10 Kernel: 5.15 Compiler: gcc gcc (GCC) 8.5.0 20210514 (Red Hat 8.5.0-22) Ubuntu 20.04 Kernel: 5.15 Compiler: gcc gcc (Ubuntu 9.4.0-1ubuntu1~20.04.2) 9.4.0 Ubuntu 22.04 Kernel: 5.15 Compiler: gcc gcc (Ubuntu 11.4.0-1ubuntu1~22.04) 11.4.0 Ubuntu 24.04 Kernel: 5.15 Compiler: gcc gcc (Ubuntu 13.3.0-6ubuntu2~24.04) 13.3.0 Windows Server 2022 Kernel: 10.0.20348.2031 Compiler: clang 15.0.7, gcc 14.1.0 (MinGW), and MSVC VS 19.39.33521 To view detailed results, visit: https://lab.dpdk.org/results/dashboard/patchsets/34561/ UNH-IOL DPDK Community Lab To manage your email subscriptions, visit: https://lab.dpdk.org/results/dashboard/preferences/subscriptions/