From mboxrd@z Thu Jan 1 00:00:00 1970 Return-Path: Received: from mails.dpdk.org (mails.dpdk.org [217.70.189.124]) by inbox.dpdk.org (Postfix) with ESMTP id 973EB48B00 for ; Fri, 14 Nov 2025 04:37:55 +0100 (CET) Received: from mails.dpdk.org (localhost [127.0.0.1]) by mails.dpdk.org (Postfix) with ESMTP id 7DC4240151; Fri, 14 Nov 2025 04:37:55 +0100 (CET) Received: from mail-pg1-f228.google.com (mail-pg1-f228.google.com [209.85.215.228]) by mails.dpdk.org (Postfix) with ESMTP id E38A340151 for ; Fri, 14 Nov 2025 04:37:53 +0100 (CET) Received: by mail-pg1-f228.google.com with SMTP id 41be03b00d2f7-bb7799edea8so1188518a12.3 for ; Thu, 13 Nov 2025 19:37:53 -0800 (PST) DKIM-Signature: v=1; a=rsa-sha256; c=relaxed/relaxed; d=iol.unh.edu; s=unh-iol; t=1763091473; x=1763696273; darn=dpdk.org; h=references:in-reply-to:cc:to:from:subject:message-id:date:from:to :cc:subject:date:message-id:reply-to; bh=R6dAzeImKJPHjW86bAkm0Qc+uE2Lu2H93JxZeadTwIo=; b=XOol9Mv+tPniErWGaITvI3DbgSKjyY9DEQwhptHVblcJ3PlFaXfv9nb4oWVoEUeLfo l0PweIFKJq1KtyovOekmOkLZiKcuiP3GI3VgjOw2z/7O7EdAJVMZfvJqt2fAxob/qjgc azJJNAHjk7NEvP6AprLq++74oxWNd3NfDAjwY= X-Google-DKIM-Signature: v=1; a=rsa-sha256; c=relaxed/relaxed; d=1e100.net; s=20230601; t=1763091473; x=1763696273; h=references:in-reply-to:cc:to:from:subject:message-id:date:x-gm-gg :x-gm-message-state:from:to:cc:subject:date:message-id:reply-to; bh=R6dAzeImKJPHjW86bAkm0Qc+uE2Lu2H93JxZeadTwIo=; b=KSnjD5MDCj7qAlueFyiH9a2Y/OwLoar5hw3mTS/RpLP6X5nCOpxGMrFsAGFniPh37n WnIRstfW3kx3F5YgF1gyhdAo31QYEXBc+Guyladd61XpSFRjppY1YHe2/rWPbK7OiNrd oWES2JC7DBf/cDHV28w8hqpVmz3eOvOEqNCbBVLft4CT1/DjBLlppBLNGR8KUgr6/1QQ VliIM0qZB70ufnmmDcVHvSSrEGOuC0WF0WuVU7vu3vSsTC35JQBoMRYnv59nBgXX604O 8DrMnQgt3o0gluzdKvjShLX7iTLHDiK7VovULVSmy9Qd5j7Cb+d5PSKxwjNEhPcHlPQm qaKQ== X-Gm-Message-State: AOJu0Ywwjzgs94K7CT88K5OsGi0yWrXrZagx/sL94wXydt7DIFN0gx0P jBfTyoGeNgxr37md4DL0wY2K68n5FokgFyC3tt5ntiOk1yldYxkaInG4xSFuLeSBG++7fYnpHA+ 0LCsB+eTrcbSxTnJMB7V3mVSWzU7G+eKc1vW+RTk7FeJN8yhKIbVJERlwXnsh X-Gm-Gg: ASbGncuIwPEG19e6mIngoGdOt1l+oAeXfIm74CI+OESkxbbLWFvM51iq7wVWtEMxM5l njZ98BQjzZMg+XzrSjqrqpRtrRip8804t8Erg1WKfluRi02rv+pGNpMXgjmR1dnNBLedo8fQuJz K6Ohuu3aRhFeZV8A48yTEd1fHXtQpIDqK/NkO0kg+jCScGk5fO+S7RuuqkTyX9RbnqB+6Jd7FcK +BEoujr2uSya0+pTHiWzRDEjP5byym2SReV419akA9gpERufjygv87AwSqwdhA3Te9i0uH/7zkG GIffzQBxIaFmQ1iOGMBlOYxYj6OYJIq8mn8zRTprCABuA0up0YwD1UQaCLMzZLNe/nxoZcFwxbx Kj+7EdGrX X-Google-Smtp-Source: AGHT+IHtV5/HbatwpaczGohgXgcdXP6wx1GtVAXQd8OyJ8wbn55ajmSnjhbj+4YpfqFMAuVCYCr9fIOh2naQ X-Received: by 2002:a05:7022:639d:b0:119:e569:fbb4 with SMTP id a92af1059eb24-11b4120dbafmr628117c88.35.1763091472881; Thu, 13 Nov 2025 19:37:52 -0800 (PST) Received: from postal.iol.unh.edu (postal.iol.unh.edu. [2606:4100:3880:1234::84]) by smtp-relay.gmail.com with ESMTPS id a92af1059eb24-11b06091247sm135742c88.1.2025.11.13.19.37.52 (version=TLS1_2 cipher=ECDHE-ECDSA-AES128-GCM-SHA256 bits=128/128); Thu, 13 Nov 2025 19:37:52 -0800 (PST) X-Relaying-Domain: iol.unh.edu Date: Thu, 13 Nov 2025 19:37:52 -0800 (PST) Message-ID: <6916a410.050a0220.fda54.6abdSMTPIN_ADDED_MISSING@mx.google.com> Received: from [172.21.0.2] (unknown [172.18.0.240]) by postal.iol.unh.edu (Postfix) with ESMTP id E529A6051830; Thu, 13 Nov 2025 22:37:51 -0500 (EST) Subject: |SUCCESS| pw158744 [PATCH] net/mlx5: fix cross GVMI metadata match f From: dpdklab@iol.unh.edu To: Test Report Cc: dpdk-test-reports@iol.unh.edu In-Reply-To: <20251113071746.434067-1-getelson@nvidia.com> References: <20251113071746.434067-1-getelson@nvidia.com> Content-Type: text/plain X-BeenThere: test-report@dpdk.org X-Mailman-Version: 2.1.29 Precedence: list List-Id: automatic DPDK test reports List-Unsubscribe: , List-Archive: List-Post: List-Help: List-Subscribe: , Errors-To: test-report-bounces@dpdk.org Test-Label: iol-compile-arm64-testing Test-Status: SUCCESS http://dpdk.org/patch/158744 _Testing PASS_ Submitter: Gregory Etelson Date: Thursday, November 13 2025 07:17:45 DPDK git baseline: Repo:dpdk-next-net-mlx Branch: master CommitID:ae657d56b1f0ea979b3f611edf28d773efc2ddcf 158744 --> testing pass Upstream job id: Generic-DPDK-Compile-Meson#443779 Test environment and result as below: +------------------------------+--------------------+ | Environment | dpdk_meson_compile | +==============================+====================+ | Red Hat Enterprise Linux 9.5 | PASS | +------------------------------+--------------------+ | Ubuntu 20.04 | PASS | +------------------------------+--------------------+ | Debian GNU/Linux 12 | PASS | +------------------------------+--------------------+ | Fedora Linux 42 | PASS | +------------------------------+--------------------+ | Ubuntu 22.04 | PASS | +------------------------------+--------------------+ | CentOS Stream 9 | PASS | +------------------------------+--------------------+ | Ubuntu 24.04 | PASS | +------------------------------+--------------------+ | CentOS Stream 10 | PASS | +------------------------------+--------------------+ Red Hat Enterprise Linux 9.5 Kernel: 5.4 Compiler: gcc gcc (GCC) 11.5.0 20240719 (Red Hat 11.5.0-2) Ubuntu 20.04 Kernel: 5.15 Compiler: aarch64-linux-gnu-gcc gcc (Ubuntu 9.4.0-1ubuntu1~20.04.2) 9.4.0 Debian GNU/Linux 12 Kernel: 5.4 Compiler: gcc gcc (Debian 12.2.0-14+deb12u1) 12.2.0 Fedora Linux 42 Kernel: 5.4 Compiler: gcc gcc (GCC) 15.2.1 20250808 (Red Hat 15.2.1-1) Ubuntu 22.04 Kernel: 5.4 Compiler: gcc gcc (Ubuntu 11.4.0-1ubuntu1~22.04) 11.4.0 CentOS Stream 9 Kernel: 5.4 Compiler: gcc gcc (GCC) 11.5.0 20240719 (Red Hat 11.5.0-11) Ubuntu 24.04 Kernel: 5.4 Compiler: gcc gcc (Ubuntu 13.3.0-6ubuntu2~24.04) 13.3.0 CentOS Stream 10 Kernel: 5.4 Compiler: gcc gcc (GCC) 14.2.1 20250110 (Red Hat 14.2.1-8) To view detailed results, visit: https://lab.dpdk.org/results/dashboard/patchsets/34564/ UNH-IOL DPDK Community Lab To manage your email subscriptions, visit: https://lab.dpdk.org/results/dashboard/preferences/subscriptions/