From mboxrd@z Thu Jan 1 00:00:00 1970 Return-Path: Received: from mails.dpdk.org (mails.dpdk.org [217.70.189.124]) by inbox.dpdk.org (Postfix) with ESMTP id 376B348B00 for ; Fri, 14 Nov 2025 04:43:06 +0100 (CET) Received: from mails.dpdk.org (localhost [127.0.0.1]) by mails.dpdk.org (Postfix) with ESMTP id 317D640151; Fri, 14 Nov 2025 04:43:06 +0100 (CET) Received: from mail-pf1-f227.google.com (mail-pf1-f227.google.com [209.85.210.227]) by mails.dpdk.org (Postfix) with ESMTP id 7197C40151 for ; Fri, 14 Nov 2025 04:43:05 +0100 (CET) Received: by mail-pf1-f227.google.com with SMTP id d2e1a72fcca58-7a9fb6fccabso1193398b3a.0 for ; Thu, 13 Nov 2025 19:43:05 -0800 (PST) DKIM-Signature: v=1; a=rsa-sha256; c=relaxed/relaxed; d=iol.unh.edu; s=unh-iol; t=1763091784; x=1763696584; darn=dpdk.org; h=references:in-reply-to:cc:to:from:subject:message-id:date:from:to :cc:subject:date:message-id:reply-to; bh=w3ueTAXl1QJvSCgMaT5j9sbnIoEUmLE9WKsXQ8uHHMo=; b=cF5wLWHuaSxOKILiQwnBOSP/Nu55sXFvGzaNz1JYfnYM2Rq0D1VOTvz53MhNwQ/nrW ndOs9kBCWbnX1Red5MZ1mHwtQ59oLp+/rTbRTD59r73JO20luPjvc/+VYsxmyygBlZk8 oTbzRaTkottbylHT6mac3vv1nQvoLW7/O1s0Q= X-Google-DKIM-Signature: v=1; a=rsa-sha256; c=relaxed/relaxed; d=1e100.net; s=20230601; t=1763091784; x=1763696584; h=references:in-reply-to:cc:to:from:subject:message-id:date:x-gm-gg :x-gm-message-state:from:to:cc:subject:date:message-id:reply-to; bh=w3ueTAXl1QJvSCgMaT5j9sbnIoEUmLE9WKsXQ8uHHMo=; b=rozcsWlO1p61cRcKHnUK/yg1njCIS4pXHMSjeUMPynkrHI1LKLQGHBdXx6S/a59ZRP 9MiBbDS37ZlH83a+nGPoHGjHF7ZyN2ErOM0wzl0AolXFc2VbSkOef7y6OVEZ5BMFbxVK I88sdMK27LKjCWNGDx+N4jIhfNVgNdq8ERkQ3m4A6R0Kdgnte4I7YyXHzQx8cspDp8UR BO4drM/mHnX+EI5ZS65NYdzQYptvop3NQFvblmkOnOx1yqoPfLy96nUQvndUs4vVf1yZ lHSfqvOLpeFRxqOB93RUQg+miZGcjlri+Vmalfy6He3Qmvx/mb5ASbE0iiDA+8910A4J ykqg== X-Gm-Message-State: AOJu0YxxFIXiNWny5NfLYq0GYWhL5jteg6M3tM9x3VoTUersoy8LlTkk 3rNOS3fmnFaUFQgFh9ya61Dxz6Ul+lNUQCqqPQf+i0jZfGBQWiF7mtLFrg89OlqT1ospaXca8ZP gAOyxEJ6jvBiOQ8uMOhG8A3rO8UAYpyORwl8oAOx5ooWS X-Gm-Gg: ASbGncuZJrtBLeGPuw/8etELbvxVto58yrgh1z0UPj7gP85ZJc2QZhOqi2yLy07XegL nrOtdZLcOBNt1ubxYM1pZ4RsMZaLIhVmBN1rkapUWmdkw5x9V1Jg4lKIx5kjdrXrxjVve4ClSDJ nxCZuvo91eq2fRKuoj55+A9dFZJlsiNkQPH3jmvQYZmUz44IbaYgaBuSi9CfdyduycKpxl4Xlyw gLlyd9gc3F4tmU1WbDxCkKGQK5nG7OoxmNmmDpj/qcRnHcrwa/A/pTj6+OFl149DMAtNRpBYqyL 704vFW7NlzdwFNjCCOyvctD9nYbTjAFMBwd5gKvmsIhnKoCqjAhp/eqcyHOzgRxg9RBXHd8wlq1 5q48/qnLNuK3jYIm7GQvEF1bNrB14XoI= X-Google-Smtp-Source: AGHT+IHuPHr5Ov+yKnIisGYB0zBSKPLuMxkW8wHqKJOj/wnmg9nfBmBzhNQU0PKVl95LQ3X3YNPqZGRM4OvV X-Received: by 2002:a05:6a20:748e:b0:343:a334:3427 with SMTP id adf61e73a8af0-35ba1c93688mr2390580637.34.1763091784552; Thu, 13 Nov 2025 19:43:04 -0800 (PST) Received: from postal.iol.unh.edu (postal.iol.unh.edu. [132.177.123.84]) by smtp-relay.gmail.com with ESMTPS id 41be03b00d2f7-bc36ef5dc4asm265686a12.5.2025.11.13.19.43.04 (version=TLS1_2 cipher=ECDHE-ECDSA-AES128-GCM-SHA256 bits=128/128); Thu, 13 Nov 2025 19:43:04 -0800 (PST) X-Relaying-Domain: iol.unh.edu Date: Thu, 13 Nov 2025 19:43:04 -0800 (PST) Message-ID: <6916a548.630a0220.2e2295.ccafSMTPIN_ADDED_MISSING@mx.google.com> Received: from [172.21.0.2] (unknown [172.18.0.240]) by postal.iol.unh.edu (Postfix) with ESMTP id B52326051830; Thu, 13 Nov 2025 22:43:03 -0500 (EST) Subject: |SUCCESS| pw158684-158685 [PATCH] [v6,2/2] bpf: add test for Rx and From: dpdklab@iol.unh.edu To: Test Report Cc: dpdk-test-reports@iol.unh.edu In-Reply-To: <20251111225719.540140-3-stephen@networkplumber.org> References: <20251111225719.540140-3-stephen@networkplumber.org> Content-Type: text/plain X-BeenThere: test-report@dpdk.org X-Mailman-Version: 2.1.29 Precedence: list List-Id: automatic DPDK test reports List-Unsubscribe: , List-Archive: List-Post: List-Help: List-Subscribe: , Errors-To: test-report-bounces@dpdk.org Test-Label: iol-compile-amd64-testing Test-Status: SUCCESS http://dpdk.org/patch/158685 _Testing PASS_ Submitter: Stephen Hemminger Date: Tuesday, November 11 2025 22:55:47 DPDK git baseline: Repo:dpdk Branch: master CommitID:be0112878b4fc3a1b918370ed2fe615c52039d77 158684-158685 --> testing pass Upstream job id: Windows-Compile-DPDK-Native#32309 Test environment and result as below: +-------------------------------+--------------------+------------------+-------------------+-------------------------+----------------------+ | Environment | dpdk_meson_compile | dpdk_compile_ovs | dpdk_msvc_compile | dpdk_llvm_clang_compile | dpdk_mingw64_compile | +===============================+====================+==================+===================+=========================+======================+ | Ubuntu 20.04 | PASS | SKIPPED | SKIPPED | SKIPPED | SKIPPED | +-------------------------------+--------------------+------------------+-------------------+-------------------------+----------------------+ | FreeBSD 14.2 | PASS | SKIPPED | SKIPPED | SKIPPED | SKIPPED | +-------------------------------+--------------------+------------------+-------------------+-------------------------+----------------------+ | CentOS Stream 9 | PASS | SKIPPED | SKIPPED | SKIPPED | SKIPPED | +-------------------------------+--------------------+------------------+-------------------+-------------------------+----------------------+ | CentOS Stream 10 | PASS | SKIPPED | SKIPPED | SKIPPED | SKIPPED | +-------------------------------+--------------------+------------------+-------------------+-------------------------+----------------------+ | Debian GNU/Linux 12 | PASS | SKIPPED | SKIPPED | SKIPPED | SKIPPED | +-------------------------------+--------------------+------------------+-------------------+-------------------------+----------------------+ | Fedora Linux 42 | PASS | PASS | SKIPPED | SKIPPED | SKIPPED | +-------------------------------+--------------------+------------------+-------------------+-------------------------+----------------------+ | openSUSE Leap 15.6 | PASS | SKIPPED | SKIPPED | SKIPPED | SKIPPED | +-------------------------------+--------------------+------------------+-------------------+-------------------------+----------------------+ | Red Hat Enterprise Linux 8.10 | PASS | SKIPPED | SKIPPED | SKIPPED | SKIPPED | +-------------------------------+--------------------+------------------+-------------------+-------------------------+----------------------+ | Red Hat Enterprise Linux 9.5 | PASS | SKIPPED | SKIPPED | SKIPPED | SKIPPED | +-------------------------------+--------------------+------------------+-------------------+-------------------------+----------------------+ | Ubuntu 22.04 | PASS | SKIPPED | SKIPPED | SKIPPED | SKIPPED | +-------------------------------+--------------------+------------------+-------------------+-------------------------+----------------------+ | Ubuntu 24.04 | PASS | PASS | SKIPPED | SKIPPED | SKIPPED | +-------------------------------+--------------------+------------------+-------------------+-------------------------+----------------------+ | Alpine Linux 3.22.0 | PASS | SKIPPED | SKIPPED | SKIPPED | SKIPPED | +-------------------------------+--------------------+------------------+-------------------+-------------------------+----------------------+ | Windows Server 2022 | SKIPPED | SKIPPED | PASS | PASS | PASS | +-------------------------------+--------------------+------------------+-------------------+-------------------------+----------------------+ Ubuntu 20.04 Kernel: 4.19 Compiler: gcc gcc (Ubuntu 9.4.0-1ubuntu1~20.04.2) 9.4.0 FreeBSD 14.2 Kernel: 14.2-RELEASE Compiler: clang 18.1.6 CentOS Stream 9 Kernel: 5.15 Compiler: gcc gcc (GCC) 11.5.0 20240719 (Red Hat 11.5.0-11) CentOS Stream 10 Kernel: 5.15 Compiler: gcc gcc (GCC) 14.2.1 20250110 (Red Hat 14.2.1-8) Debian GNU/Linux 12 Kernel: 5.15 Compiler: gcc gcc (Debian 12.2.0-14+deb12u1) 12.2.0 Fedora Linux 42 Kernel: 5.15 Compiler: clang gcc (GCC) 15.2.1 20250808 (Red Hat 15.2.1-1) openSUSE Leap 15.6 Kernel: 5.15 Compiler: gcc gcc (SUSE Linux) 7.5.0 Red Hat Enterprise Linux 8.10 Kernel: 5.15 Compiler: gcc gcc (GCC) 8.5.0 20210514 (Red Hat 8.5.0-22) Red Hat Enterprise Linux 9.5 Kernel: 5.15 Compiler: gcc gcc (GCC) 11.5.0 20240719 (Red Hat 11.5.0-2) Ubuntu 22.04 Kernel: 5.15 Compiler: gcc gcc (Ubuntu 11.4.0-1ubuntu1~22.04) 11.4.0 Ubuntu 24.04 Kernel: 5.15 Compiler: gcc gcc (Ubuntu 13.3.0-6ubuntu2~24.04) 13.3.0 Alpine Linux 3.22.0 Kernel: 5.15 Compiler: gcc gcc (Alpine 14.2.0) 14.2.0 Windows Server 2022 Kernel: 10.0.20348.2031 Compiler: clang 15.0.7, gcc 14.1.0 (MinGW), and MSVC VS 19.39.33521 To view detailed results, visit: https://lab.dpdk.org/results/dashboard/patchsets/34542/ UNH-IOL DPDK Community Lab To manage your email subscriptions, visit: https://lab.dpdk.org/results/dashboard/preferences/subscriptions/