From mboxrd@z Thu Jan 1 00:00:00 1970 Return-Path: Received: from mails.dpdk.org (mails.dpdk.org [217.70.189.124]) by inbox.dpdk.org (Postfix) with ESMTP id A4D4A48B00 for ; Fri, 14 Nov 2025 04:46:14 +0100 (CET) Received: from mails.dpdk.org (localhost [127.0.0.1]) by mails.dpdk.org (Postfix) with ESMTP id 9E57040151; Fri, 14 Nov 2025 04:46:14 +0100 (CET) Received: from mail-pf1-f228.google.com (mail-pf1-f228.google.com [209.85.210.228]) by mails.dpdk.org (Postfix) with ESMTP id A330940151 for ; Fri, 14 Nov 2025 04:46:13 +0100 (CET) Received: by mail-pf1-f228.google.com with SMTP id d2e1a72fcca58-7aa9be9f03aso1344594b3a.2 for ; Thu, 13 Nov 2025 19:46:13 -0800 (PST) DKIM-Signature: v=1; a=rsa-sha256; c=relaxed/relaxed; d=iol.unh.edu; s=unh-iol; t=1763091973; x=1763696773; darn=dpdk.org; h=references:in-reply-to:cc:to:from:subject:message-id:date:from:to :cc:subject:date:message-id:reply-to; bh=u1xfJAaLdDPW9U/Ib3FJE00djmB5JoAO/BJou1E8cbA=; b=WaTmF9PTep36UakEFYgOKluwkgFP5+xQMQSkFuKwk5l2yt6b1BHIGZXhXV51PGA+BJ wlud445pKSxcvh4C8xyZl00HruzGC8htyEgZS5tyduHQvkFXSCfrgZB/YpHhnghXqNRA G8vS8t+yt0Ung2sH2+h7oOI4J53zqlufSj0wQ= X-Google-DKIM-Signature: v=1; a=rsa-sha256; c=relaxed/relaxed; d=1e100.net; s=20230601; t=1763091973; x=1763696773; h=references:in-reply-to:cc:to:from:subject:message-id:date:x-gm-gg :x-gm-message-state:from:to:cc:subject:date:message-id:reply-to; bh=u1xfJAaLdDPW9U/Ib3FJE00djmB5JoAO/BJou1E8cbA=; b=Q1zZnPTUAiN83aG1U27URPTchYok0+qxIhlzn23LebmCg5xxz6Y2LHzHgFMtcL0ZW5 Yelyc6bEgDYQIghdY1vctcx8PP5vP8g7IH8/JI0R7UaDyobAoqQ7BE/0rUDqkvZI8x6u FEXEbTx9Tsna7jlRaP3D6OlcOPJcmEIa7XcJLzHlDZEWN5jOaGW9YA8pHPbq2rBmYkrE HLM8Chv0ySzJSY6ED9aaWJI92uHQV2chU8STt/Y6rvf+T2Y4rObqnvLt793KFcAiM+5o g1wTftflAKcXQcMWIL3t8s2cmAlSzYOWz1hQhsUSZTH1h7azJW8vawX9HwfuGdG6ecLy K5ZQ== X-Gm-Message-State: AOJu0Yw1Frc8JLqRpThszwi7TOI947J1rPjhnMRcWq7OU6WDEt5cVo0D gpbmdxAiLkWbdYh8wADeRNLwcm8sF7SR7H0zgfyuZW9ZDWaBdB/N1piMTPLcZKS3yZwXDW71JmJ L1I0aNGm8Nyq1KWgysm66QL8KFLkq3zyl7HvqRjfAtV01 X-Gm-Gg: ASbGnctgB6TisYWM8RUrlXKkSKCXs0LdQrzhPIqQTOForGiCmds1Eoxy36cre4RH6l7 qk7uQ35rCMad2Bc0ODMNd3QOs/fqxLnqBCVAkWOdDW5P3uWKMtTnhEvnSgAU0vqjwFAsGdwQerE DZfunZY5SFpfuSzBs/sLaVhyaMDnUM3fuIHnuTrw51l5sG3mdlZYFan4FjY6qn4XswqInm/BNl6 MwJ3Asn45nTz5ATDfgfLDtQsCAu+2zHP5qpIn2xdIxzf8+wuvqjTDiyb99WEjMgHtykBf17RoW3 xNr1B65IjByPyPJbgA2ED9iZq9/9RLeFklSM5kX4neB49kGBdIHEgGs26utMyYL6Xr7hiTHgCdz 4KOlWGvPO+4vtmBIAaYigRp9u/+qJuIY= X-Google-Smtp-Source: AGHT+IExiuYuTplvQ6jDhCB5Fw4NVKvCTNTdFA8fttcftdOKw3MniykOWjwkBCq4NySE0GgPHZfF7vap+uyt X-Received: by 2002:a05:6a20:12cb:b0:350:66b2:9723 with SMTP id adf61e73a8af0-35ba2797102mr2209120637.43.1763091972759; Thu, 13 Nov 2025 19:46:12 -0800 (PST) Received: from postal.iol.unh.edu (postal.iol.unh.edu. [132.177.123.84]) by smtp-relay.gmail.com with ESMTPS id 41be03b00d2f7-bc374cab105sm284231a12.9.2025.11.13.19.46.12 (version=TLS1_2 cipher=ECDHE-ECDSA-AES128-GCM-SHA256 bits=128/128); Thu, 13 Nov 2025 19:46:12 -0800 (PST) X-Relaying-Domain: iol.unh.edu Date: Thu, 13 Nov 2025 19:46:12 -0800 (PST) Message-ID: <6916a604.050a0220.305d00.ea98SMTPIN_ADDED_MISSING@mx.google.com> Received: from [172.21.0.2] (unknown [172.18.0.240]) by postal.iol.unh.edu (Postfix) with ESMTP id 084C96051830; Thu, 13 Nov 2025 22:46:12 -0500 (EST) Subject: |SUCCESS| pw158755 [PATCH] [v1] net/axgbe: fix the build warninig fo From: dpdklab@iol.unh.edu To: Test Report Cc: dpdk-test-reports@iol.unh.edu, Stephen Hemminger In-Reply-To: <20251113113055.371-1-VenkatKumar.Ande@amd.com> References: <20251113113055.371-1-VenkatKumar.Ande@amd.com> Content-Type: text/plain X-BeenThere: test-report@dpdk.org X-Mailman-Version: 2.1.29 Precedence: list List-Id: automatic DPDK test reports List-Unsubscribe: , List-Archive: List-Post: List-Help: List-Subscribe: , Errors-To: test-report-bounces@dpdk.org Test-Label: iol-compile-amd64-testing Test-Status: SUCCESS http://dpdk.org/patch/158755 _Testing PASS_ Submitter: Venkat Kumar Ande Date: Thursday, November 13 2025 11:30:55 DPDK git baseline: Repo:dpdk-next-net Branch: master CommitID:29807269854f9bfc72f1323273de8e23adc724d4 158755 --> testing pass Upstream job id: Generic-DPDK-Compile-Meson#443989 Test environment and result as below: +-------------------------------+--------------------+------------------+ | Environment | dpdk_meson_compile | dpdk_compile_ovs | +===============================+====================+==================+ | Ubuntu 20.04 | PASS | SKIPPED | +-------------------------------+--------------------+------------------+ | FreeBSD 14.2 | PASS | SKIPPED | +-------------------------------+--------------------+------------------+ | CentOS Stream 10 | PASS | SKIPPED | +-------------------------------+--------------------+------------------+ | CentOS Stream 9 | PASS | SKIPPED | +-------------------------------+--------------------+------------------+ | Debian GNU/Linux 12 | PASS | SKIPPED | +-------------------------------+--------------------+------------------+ | Fedora Linux 42 | PASS | PASS | +-------------------------------+--------------------+------------------+ | openSUSE Leap 15.6 | PASS | SKIPPED | +-------------------------------+--------------------+------------------+ | Red Hat Enterprise Linux 8.10 | PASS | SKIPPED | +-------------------------------+--------------------+------------------+ Ubuntu 20.04 Kernel: 4.19 Compiler: gcc gcc (Ubuntu 9.4.0-1ubuntu1~20.04.2) 9.4.0 FreeBSD 14.2 Kernel: 14.2-RELEASE Compiler: clang 18.1.6 CentOS Stream 10 Kernel: 5.15 Compiler: gcc gcc (GCC) 14.2.1 20250110 (Red Hat 14.2.1-8) CentOS Stream 9 Kernel: 5.15 Compiler: gcc gcc (GCC) 11.5.0 20240719 (Red Hat 11.5.0-11) Debian GNU/Linux 12 Kernel: 5.15 Compiler: gcc gcc (Debian 12.2.0-14+deb12u1) 12.2.0 Fedora Linux 42 Kernel: 5.15 Compiler: clang gcc (GCC) 15.2.1 20250808 (Red Hat 15.2.1-1) openSUSE Leap 15.6 Kernel: 5.15 Compiler: gcc gcc (SUSE Linux) 7.5.0 Red Hat Enterprise Linux 8.10 Kernel: 5.15 Compiler: gcc gcc (GCC) 8.5.0 20210514 (Red Hat 8.5.0-22) To view detailed results, visit: https://lab.dpdk.org/results/dashboard/patchsets/34572/ UNH-IOL DPDK Community Lab To manage your email subscriptions, visit: https://lab.dpdk.org/results/dashboard/preferences/subscriptions/