From mboxrd@z Thu Jan 1 00:00:00 1970 Return-Path: Received: from mails.dpdk.org (mails.dpdk.org [217.70.189.124]) by inbox.dpdk.org (Postfix) with ESMTP id 19F1548B00 for ; Fri, 14 Nov 2025 04:49:24 +0100 (CET) Received: from mails.dpdk.org (localhost [127.0.0.1]) by mails.dpdk.org (Postfix) with ESMTP id 14F8740151; Fri, 14 Nov 2025 04:49:24 +0100 (CET) Received: from mail-yx1-f99.google.com (mail-yx1-f99.google.com [74.125.224.99]) by mails.dpdk.org (Postfix) with ESMTP id CD7D640151 for ; Fri, 14 Nov 2025 04:49:22 +0100 (CET) Received: by mail-yx1-f99.google.com with SMTP id 956f58d0204a3-640c9c85255so1663091d50.3 for ; Thu, 13 Nov 2025 19:49:22 -0800 (PST) DKIM-Signature: v=1; a=rsa-sha256; c=relaxed/relaxed; d=iol.unh.edu; s=unh-iol; t=1763092162; x=1763696962; darn=dpdk.org; h=references:in-reply-to:cc:to:from:subject:message-id:date:from:to :cc:subject:date:message-id:reply-to; bh=YKkz8LK/+hPYuNT6CWQnrHVRs+OzmkQaOjGr3AEHppU=; b=Rmhbvq/UDZEtVMyHTLxZS24tyt6qc4NXxwtdylFtwu+1IoSlWdnUFipDjL94bDJLfu RKPTzORyStaTcUfQ5z+AKISWPfGxTGT8C8UEFRXsGHKNV3Sh7qGHDy/LjG9iWTSJrJpR orp2NtT8kWVMZMF2FdiIdQzaeWvc7t4GHANPM= X-Google-DKIM-Signature: v=1; a=rsa-sha256; c=relaxed/relaxed; d=1e100.net; s=20230601; t=1763092162; x=1763696962; h=references:in-reply-to:cc:to:from:subject:message-id:date:x-gm-gg :x-gm-message-state:from:to:cc:subject:date:message-id:reply-to; bh=YKkz8LK/+hPYuNT6CWQnrHVRs+OzmkQaOjGr3AEHppU=; b=VM3k/QoFCjSDfv6x8zclMbk/Jfl/sJPtgJh0wSTZZ0GtBChMWs3Q+JXEI4ycOX2SUX 0EayV1YbDAMLn1gzpWjQL3ic/RpwOg/lQQ34n/WLpXqHjreMbRwWzDoeBRXh29jquTI4 KBCZaYIjx+lEssSP7ZSYL5e1aKVajeJJReOOi05yICqBieLXUhfDFAa7MsUpF8HqA9O0 RnpfRNlKnuCzzPOr/siBWfTNIb3okrAGcZ3Efm8653UTGM2Hg1WhGODYFft1w9kNzHVv LkhYmnJdOxDxW6RfcR+NFYhZDZXQxurG/GvqIkoxtZ6wVvhF5IDMijP9r8VDJgXZkAz5 zpoA== X-Gm-Message-State: AOJu0YxC2w2zNc9hmgcv3IDRgapqIagdCQ72qo+hxXJCp5v7qx9bAKge 9elgp3XbxrbxES6hjKHQgY/QySdtPLKdSgsp+MrpSoN27IBqVo1JkUrnK4PEhiXryFNwtWGrc73 x2+kTpn2ygl+9gHHmI899bxF+lLo11dwFfbSKcYhKl1p/ X-Gm-Gg: ASbGncvlPEjt0McBxRx1N9d17WHlXIoK8wpXvvpjBsk5J5H2FUB/IvwK0SYmqvVHDz8 dloh9VNYIjAXhLQz8EKs/mEuaJicVAWK5LyhPkJLqfHtji6JMxYp03k3BVugv7eQoPU7EV7SPYT Vv3ewOa0RYvu+gQDXgOfyvEY3oslAaiTcG01QFuiTzCKoRrXRNzTb24FrW/3axTbSvYXA+46pai Jw8j4LgpC0zpAEJVYPedY84HZypunLqEeTqfoFNF8vIf/mMIAefVSk27g7hc+TMoghfjRwA3nmr UsmPKwDNXr2ZwzS1Mtt1G8QYLqF1/vvSJu493DmC2LmZSG381YMsIQQ5gxfOtUc1Xyy5bVBnVF3 R5CsW7u2x5kBZTXRzSw9VHRwJKTdMEsk= X-Google-Smtp-Source: AGHT+IEFNVWRAGkvrDYKzCAoPW0l6ix98hOE3hUx8Ul6TB/MMmVW711BVOMUrx1gNc9WZ6aS8pdyHUPiQ08a X-Received: by 2002:a05:690e:419b:b0:63e:3b29:f1e1 with SMTP id 956f58d0204a3-641e763f046mr1500803d50.36.1763092162177; Thu, 13 Nov 2025 19:49:22 -0800 (PST) Received: from postal.iol.unh.edu (postal.iol.unh.edu. [132.177.123.84]) by smtp-relay.gmail.com with ESMTPS id 956f58d0204a3-6410eae9644sm285269d50.13.2025.11.13.19.49.22 (version=TLS1_2 cipher=ECDHE-ECDSA-AES128-GCM-SHA256 bits=128/128); Thu, 13 Nov 2025 19:49:22 -0800 (PST) X-Relaying-Domain: iol.unh.edu Date: Thu, 13 Nov 2025 19:49:22 -0800 (PST) Message-ID: <6916a6c2.050a0220.ded01.dcedSMTPIN_ADDED_MISSING@mx.google.com> Received: from [172.21.0.2] (unknown [172.18.0.240]) by postal.iol.unh.edu (Postfix) with ESMTP id A222F6051830; Thu, 13 Nov 2025 22:49:21 -0500 (EST) Subject: |SUCCESS| pw158755 [PATCH] [v1] net/axgbe: fix the build warninig fo From: dpdklab@iol.unh.edu To: Test Report Cc: dpdk-test-reports@iol.unh.edu, Stephen Hemminger In-Reply-To: <20251113113055.371-1-VenkatKumar.Ande@amd.com> References: <20251113113055.371-1-VenkatKumar.Ande@amd.com> Content-Type: text/plain X-BeenThere: test-report@dpdk.org X-Mailman-Version: 2.1.29 Precedence: list List-Id: automatic DPDK test reports List-Unsubscribe: , List-Archive: List-Post: List-Help: List-Subscribe: , Errors-To: test-report-bounces@dpdk.org Test-Label: iol-compile-amd64-testing Test-Status: SUCCESS http://dpdk.org/patch/158755 _Testing PASS_ Submitter: Venkat Kumar Ande Date: Thursday, November 13 2025 11:30:55 DPDK git baseline: Repo:dpdk-next-net Branch: master CommitID:29807269854f9bfc72f1323273de8e23adc724d4 158755 --> testing pass Upstream job id: Generic-DPDK-Compile-Meson#443996 Test environment and result as below: +-------------------------------+--------------------+------------------+ | Environment | dpdk_meson_compile | dpdk_compile_ovs | +===============================+====================+==================+ | Ubuntu 20.04 | PASS | SKIPPED | +-------------------------------+--------------------+------------------+ | FreeBSD 14.2 | PASS | SKIPPED | +-------------------------------+--------------------+------------------+ | CentOS Stream 10 | PASS | SKIPPED | +-------------------------------+--------------------+------------------+ | CentOS Stream 9 | PASS | SKIPPED | +-------------------------------+--------------------+------------------+ | Debian GNU/Linux 12 | PASS | SKIPPED | +-------------------------------+--------------------+------------------+ | Fedora Linux 42 | PASS | PASS | +-------------------------------+--------------------+------------------+ | openSUSE Leap 15.6 | PASS | SKIPPED | +-------------------------------+--------------------+------------------+ | Red Hat Enterprise Linux 8.10 | PASS | SKIPPED | +-------------------------------+--------------------+------------------+ | Red Hat Enterprise Linux 9.5 | PASS | SKIPPED | +-------------------------------+--------------------+------------------+ Ubuntu 20.04 Kernel: 4.19 Compiler: gcc gcc (Ubuntu 9.4.0-1ubuntu1~20.04.2) 9.4.0 FreeBSD 14.2 Kernel: 14.2-RELEASE Compiler: clang 18.1.6 CentOS Stream 10 Kernel: 5.15 Compiler: gcc gcc (GCC) 14.2.1 20250110 (Red Hat 14.2.1-8) CentOS Stream 9 Kernel: 5.15 Compiler: gcc gcc (GCC) 11.5.0 20240719 (Red Hat 11.5.0-11) Debian GNU/Linux 12 Kernel: 5.15 Compiler: gcc gcc (Debian 12.2.0-14+deb12u1) 12.2.0 Fedora Linux 42 Kernel: 5.15 Compiler: clang gcc (GCC) 15.2.1 20250808 (Red Hat 15.2.1-1) openSUSE Leap 15.6 Kernel: 5.15 Compiler: gcc gcc (SUSE Linux) 7.5.0 Red Hat Enterprise Linux 8.10 Kernel: 5.15 Compiler: gcc gcc (GCC) 8.5.0 20210514 (Red Hat 8.5.0-22) Red Hat Enterprise Linux 9.5 Kernel: 5.15 Compiler: gcc gcc (GCC) 11.5.0 20240719 (Red Hat 11.5.0-2) To view detailed results, visit: https://lab.dpdk.org/results/dashboard/patchsets/34572/ UNH-IOL DPDK Community Lab To manage your email subscriptions, visit: https://lab.dpdk.org/results/dashboard/preferences/subscriptions/