From mboxrd@z Thu Jan 1 00:00:00 1970 Return-Path: Received: from mails.dpdk.org (mails.dpdk.org [217.70.189.124]) by inbox.dpdk.org (Postfix) with ESMTP id 455D848B00 for ; Fri, 14 Nov 2025 04:50:37 +0100 (CET) Received: from mails.dpdk.org (localhost [127.0.0.1]) by mails.dpdk.org (Postfix) with ESMTP id 3C5E740151; Fri, 14 Nov 2025 04:50:37 +0100 (CET) Received: from mail-yw1-f226.google.com (mail-yw1-f226.google.com [209.85.128.226]) by mails.dpdk.org (Postfix) with ESMTP id 7D02740151 for ; Fri, 14 Nov 2025 04:50:35 +0100 (CET) Received: by mail-yw1-f226.google.com with SMTP id 00721157ae682-7881b67dc3aso27833677b3.1 for ; Thu, 13 Nov 2025 19:50:35 -0800 (PST) DKIM-Signature: v=1; a=rsa-sha256; c=relaxed/relaxed; d=iol.unh.edu; s=unh-iol; t=1763092235; x=1763697035; darn=dpdk.org; h=references:in-reply-to:cc:to:from:subject:message-id:date:from:to :cc:subject:date:message-id:reply-to; bh=sGsLkOZKgl3uitdeliZA/wUV26xOZ1Q/YitIAHme2LQ=; b=aX9RYt6c1qjbjJ6YHaMcLetuQzXPWYgO145e/c2/BssyK+UV3xfOY0PUe8TSVpYVvv 3jpsRIZfr705HH3DJBEy+vWbZPoDaOpEq5WppPTPWfylmXKMZYaC5YayKEFHOPyDxT3S bOreIISPix3BdctSBY2fFGJQKS65k9yg5b8oM= X-Google-DKIM-Signature: v=1; a=rsa-sha256; c=relaxed/relaxed; d=1e100.net; s=20230601; t=1763092235; x=1763697035; h=references:in-reply-to:cc:to:from:subject:message-id:date:x-gm-gg :x-gm-message-state:from:to:cc:subject:date:message-id:reply-to; bh=sGsLkOZKgl3uitdeliZA/wUV26xOZ1Q/YitIAHme2LQ=; b=YrabEiUOkP77P8iJRS+AQB2iwthTSSw9o4oXB0df7j9BIDpVQgc0uvPBC1rb4cqNGg tArU+LA9C/XglEuj3fEl5LEi5bNFewLpKCkzMIIK/U7KO4LKqKqiD72g+uBP71zmeAZy dAVi4IU2F/FEwUX65OyOcPXWh8LxWbNRRON+Idyx+v7MHLPsdWpGmySs6FBCevcOo/Hu K8WzbMUWtL22+hm6aprJvpVGwDr4PyHTkYC8VPs75PySnw3NWk4KgAZM/X0ykyBaLGlK ujYsARTEDoDVZA/TFSZjgyIiXpfS3tQ8sJBY/xlOOO4f/26E0UzeYsyg1ZcYMyKAKkGi g1pg== X-Gm-Message-State: AOJu0YzLxffYZLkFV1gzaMETvXzWy1f5SJeSGeuwMbq6b3z8ItnWCqHt PHzgOdQWBHw5fdptLvE72WKBD0Kk6pbV70WmkwWeiJq39ialBczQD7OLeI6VFe0tew4qx+kOmSz syQNNEATFBaIpOxYswQhLU7NPwjc/jbJf8We8bIJc/gUF X-Gm-Gg: ASbGnctY3+6U7zqABjFe0YTr1rzxtKQYu7R0PDTfzkjz7lZGidQD05lduSMj0h8O9/5 O53DJDX4DTPbbJK6RTLaVyMkW7LWZ2/2SuSsnA7ZwTQI9HGB06XDoryZEhHdqXNy/BDZAG0NuSr zFbEU1zizuu39/NDJyXWRT/g/q6Y11L4ywTNx84Ie4TGEpRb4yYfGPviIZb0ALCmvKybwSiW33s 7gdqZdM7xBv6cZGfm9FkA0ShYWc+ug+h9aociBw3JF12J/5BLu0UGjQLlNPmi7kSLLiT7P07zOO H402fF9eL9h6QNMKtn8ePBNK+5bHhH/kKlx1VJ9Lrx+JBBE9jgD8DHSdsPpiZVoJSqaaKkH7l1i FJTwF/O9gyHPVVwEV5gr2JgQ6bKAQmiQ= X-Google-Smtp-Source: AGHT+IFIiBoNTUHCVoGfxI7p5ksUu8M/CVDbMYG/BqukW9rgeWU5rz95B+WtA4a5RdxN22pXu4O2BDebhHuL X-Received: by 2002:a05:690c:dd3:b0:781:4c5a:8d35 with SMTP id 00721157ae682-788205ab132mr53105207b3.3.1763092234755; Thu, 13 Nov 2025 19:50:34 -0800 (PST) Received: from postal.iol.unh.edu (postal.iol.unh.edu. [132.177.123.84]) by smtp-relay.gmail.com with ESMTPS id 00721157ae682-78821ffe7b6sm2270537b3.33.2025.11.13.19.50.34 (version=TLS1_2 cipher=ECDHE-ECDSA-AES128-GCM-SHA256 bits=128/128); Thu, 13 Nov 2025 19:50:34 -0800 (PST) X-Relaying-Domain: iol.unh.edu Date: Thu, 13 Nov 2025 19:50:34 -0800 (PST) Message-ID: <6916a70a.050a0220.39b605.b096SMTPIN_ADDED_MISSING@mx.google.com> Received: from [172.21.0.2] (unknown [172.18.0.240]) by postal.iol.unh.edu (Postfix) with ESMTP id 5D4D46051830; Thu, 13 Nov 2025 22:50:34 -0500 (EST) Subject: |SUCCESS| pw158716-158738 [PATCH] [v5,23/23] net/cnxk: check for inv From: dpdklab@iol.unh.edu To: Test Report Cc: dpdk-test-reports@iol.unh.edu In-Reply-To: <20251113043808.1180851-23-ndabilpuram@marvell.com> References: <20251113043808.1180851-23-ndabilpuram@marvell.com> Content-Type: text/plain X-BeenThere: test-report@dpdk.org X-Mailman-Version: 2.1.29 Precedence: list List-Id: automatic DPDK test reports List-Unsubscribe: , List-Archive: List-Post: List-Help: List-Subscribe: , Errors-To: test-report-bounces@dpdk.org Test-Label: iol-unit-amd64-testing Test-Status: SUCCESS http://dpdk.org/patch/158738 _Testing PASS_ Submitter: Nithin Dabilpuram Date: Thursday, November 13 2025 04:38:08 DPDK git baseline: Repo:dpdk-next-net-mrvl Branch: master CommitID:be0112878b4fc3a1b918370ed2fe615c52039d77 158716-158738 --> testing pass Upstream job id: Generic-VM-Unit-Test-DPDK#32515 Test environment and result as below: +-------------------------------+----------------+ | Environment | dpdk_unit_test | +===============================+================+ | CentOS Stream 9 | PASS | +-------------------------------+----------------+ | Debian GNU/Linux 12 | PASS | +-------------------------------+----------------+ | CentOS Stream 10 | PASS | +-------------------------------+----------------+ | Fedora Linux 42 | PASS | +-------------------------------+----------------+ | Fedora Linux 40 | PASS | +-------------------------------+----------------+ | Fedora Linux 41 | PASS | +-------------------------------+----------------+ | Red Hat Enterprise Linux 8.10 | PASS | +-------------------------------+----------------+ | Red Hat Enterprise Linux 9.5 | PASS | +-------------------------------+----------------+ | Ubuntu 24.04 | PASS | +-------------------------------+----------------+ | Ubuntu 22.04 | PASS | +-------------------------------+----------------+ | Ubuntu 20.04 | PASS | +-------------------------------+----------------+ | Windows Server 2022 | PASS | +-------------------------------+----------------+ CentOS Stream 9 Kernel: 5.15 Compiler: gcc gcc (GCC) 11.5.0 20240719 (Red Hat 11.5.0-11) Debian GNU/Linux 12 Kernel: 5.15 Compiler: gcc gcc (Debian 12.2.0-14+deb12u1) 12.2.0 CentOS Stream 10 Kernel: 5.15 Compiler: gcc gcc (GCC) 14.2.1 20250110 (Red Hat 14.2.1-8) Fedora Linux 42 Kernel: 5.15 Compiler: gcc gcc (GCC) 15.2.1 20250808 (Red Hat 15.2.1-1) Fedora Linux 40 Kernel: 5.15 Compiler: gcc gcc (GCC) 14.2.1 20240912 (Red Hat 14.2.1-3) Fedora Linux 41 Kernel: 5.15 Compiler: gcc gcc (GCC) 14.3.1 20250523 (Red Hat 14.3.1-1) Red Hat Enterprise Linux 8.10 Kernel: 5.15 Compiler: gcc gcc (GCC) 8.5.0 20210514 (Red Hat 8.5.0-22) Red Hat Enterprise Linux 9.5 Kernel: 5.15 Compiler: gcc gcc (GCC) 11.5.0 20240719 (Red Hat 11.5.0-2) Ubuntu 24.04 Kernel: 5.15 Compiler: gcc gcc (Ubuntu 13.3.0-6ubuntu2~24.04) 13.3.0 Ubuntu 22.04 Kernel: 5.15 Compiler: gcc gcc (Ubuntu 11.4.0-1ubuntu1~22.04) 11.4.0 Ubuntu 20.04 Kernel: 5.15 Compiler: gcc gcc (Ubuntu 9.4.0-1ubuntu1~20.04.2) 9.4.0 Windows Server 2022 Kernel: 10.0.20348.2031 Compiler: clang 15.0.7, gcc 14.1.0 (MinGW), and MSVC VS 19.39.33521 To view detailed results, visit: https://lab.dpdk.org/results/dashboard/patchsets/34562/ UNH-IOL DPDK Community Lab To manage your email subscriptions, visit: https://lab.dpdk.org/results/dashboard/preferences/subscriptions/