From mboxrd@z Thu Jan 1 00:00:00 1970 Return-Path: Received: from mails.dpdk.org (mails.dpdk.org [217.70.189.124]) by inbox.dpdk.org (Postfix) with ESMTP id DF1B648B00 for ; Fri, 14 Nov 2025 04:56:37 +0100 (CET) Received: from mails.dpdk.org (localhost [127.0.0.1]) by mails.dpdk.org (Postfix) with ESMTP id D966A40151; Fri, 14 Nov 2025 04:56:37 +0100 (CET) Received: from mail-pl1-f227.google.com (mail-pl1-f227.google.com [209.85.214.227]) by mails.dpdk.org (Postfix) with ESMTP id EE62B40151 for ; Fri, 14 Nov 2025 04:56:36 +0100 (CET) Received: by mail-pl1-f227.google.com with SMTP id d9443c01a7336-29555415c5fso18109975ad.1 for ; Thu, 13 Nov 2025 19:56:36 -0800 (PST) DKIM-Signature: v=1; a=rsa-sha256; c=relaxed/relaxed; d=iol.unh.edu; s=unh-iol; t=1763092596; x=1763697396; darn=dpdk.org; h=references:in-reply-to:cc:to:from:subject:message-id:date:from:to :cc:subject:date:message-id:reply-to; bh=beeiQHfiO91a47ewJ3EYYOgiMqk+cvLOOUk26Opezrg=; b=GuvZKXcd+r8n9fMZPUKQTb1PnvpWqvN1UDPoqYpKrkgqy5YciJeRtwYZieBrZlNlV+ IEO4UA04qdgmFehL7wNym5gQ7mTXIR1wjd2qC/edP2vdSp8PBF1Dhqvyqprs86RrSMlp yKDLFlNA9RjYjFMRQHLgzXUlcjd8bqbqHv4Ao= X-Google-DKIM-Signature: v=1; a=rsa-sha256; c=relaxed/relaxed; d=1e100.net; s=20230601; t=1763092596; x=1763697396; h=references:in-reply-to:cc:to:from:subject:message-id:date:x-gm-gg :x-gm-message-state:from:to:cc:subject:date:message-id:reply-to; bh=beeiQHfiO91a47ewJ3EYYOgiMqk+cvLOOUk26Opezrg=; b=U+gfd1nJsQkp4pcEwSG07YZQN4vM/RXLa2yAyrPFTn4uST+d0+CoYN/WY8FoWjJiTc pt+NBxDjqTpwW8lRmtx+cedu0wnlSFvwh5tn6EwKjEQZdtPK4NuDVLz6pm/Z0JXB5/sd i94zTOR0SaATG8mjtLcLWXPDMb2Pst/9r7T1fRsSffZfUKN8mUGgynu/dpCLJH1mj3FY F88AeFQiE72llNu+DjSbMhv6nUXWUIYaipQQEW6dmuMsMar3cf7/7bqjwk+oHMYnavXG OhBvoNHx3UBpu1kl7pycIJz+u58BJSgOSAj+JKaogOIpah4RO94F9bgRlqKTejYLHJ3G q5Dg== X-Gm-Message-State: AOJu0YzsHrT091+hVyWcz6lLROraAz2iisECv5gNCa6+T9nl9jnb3Sml 9TwNNw7YNrl8G+56zo2jajsd+zJ+ia7snskDS2m08oy0ZuOQCERMSRSOmCvfKBbbzDUtxTaja+/ N+SxB/X4Cga26nrhVFJTpmC60grvsX1DRLmHSdFDYnLuB X-Gm-Gg: ASbGncvdsDzjZ3sMaZi7+spiq9wWbV+7Y76lDdsUuiXVVDXlluSMB1RBg4EFMrAHvez SxxVWTtq6OkW2WSy7TIR/9EQnRMkhsP5UotQPK9SVf1TYhy96N4IiV0Rcpv5Qbpznt9OvvOaRSA 6MLW0U2aA+6g4W1j2czqNLK4EPfqFdjhKRh0Q6YzSvgmXGcsW9SzFYXgXn4SY0AZwuXO6H9RJMx UcrDEFmnpfqPp/yv7YKGMLOr0kmSdeMmFuWC4d4Awa32ri1y4vWI/9LNJm2mhl6KNd7p0bFtpq2 WAB+nlqYkeQQ+cbIqAmaGzGN0ZRozMJ7rzlO9+XVhgSDNx6InwEjwj54cV5W+TTsASd3+UkuLre zmq97wjJSJi2TrRyZU/CllslWH5vPf3Y= X-Google-Smtp-Source: AGHT+IGqMvFUsh1iQBIKpUfBvak7aJDYcsz1MKJiz2z/vp1BEjnAVeLc1cHIAhHX6bvLiufSllfiChnDR0gn X-Received: by 2002:a17:903:1a44:b0:296:3f23:b939 with SMTP id d9443c01a7336-2986a754e86mr14886615ad.42.1763092596115; Thu, 13 Nov 2025 19:56:36 -0800 (PST) Received: from postal.iol.unh.edu (postal.iol.unh.edu. [132.177.123.84]) by smtp-relay.gmail.com with ESMTPS id d9443c01a7336-2985c2c3c26sm4273725ad.58.2025.11.13.19.56.36 (version=TLS1_2 cipher=ECDHE-ECDSA-AES128-GCM-SHA256 bits=128/128); Thu, 13 Nov 2025 19:56:36 -0800 (PST) X-Relaying-Domain: iol.unh.edu Date: Thu, 13 Nov 2025 19:56:36 -0800 (PST) Message-ID: <6916a874.170a0220.393872.44a5SMTPIN_ADDED_MISSING@mx.google.com> Received: from [172.21.0.2] (unknown [172.18.0.240]) by postal.iol.unh.edu (Postfix) with ESMTP id 813616051830; Thu, 13 Nov 2025 22:56:35 -0500 (EST) Subject: |SUCCESS| pw158751 [PATCH] [v2] examples/flow_filtering: add more sn From: dpdklab@iol.unh.edu To: Test Report Cc: dpdk-test-reports@iol.unh.edu In-Reply-To: <20251113101347.162908-1-shperetz@nvidia.com> References: <20251113101347.162908-1-shperetz@nvidia.com> Content-Type: text/plain X-BeenThere: test-report@dpdk.org X-Mailman-Version: 2.1.29 Precedence: list List-Id: automatic DPDK test reports List-Unsubscribe: , List-Archive: List-Post: List-Help: List-Subscribe: , Errors-To: test-report-bounces@dpdk.org Test-Label: iol-compile-arm64-testing Test-Status: SUCCESS http://dpdk.org/patch/158751 _Testing PASS_ Submitter: Shani Peretz Date: Thursday, November 13 2025 10:13:44 DPDK git baseline: Repo:dpdk Branch: master CommitID:be0112878b4fc3a1b918370ed2fe615c52039d77 158751 --> testing pass Upstream job id: Generic-DPDK-Compile-Meson#443869 Test environment and result as below: +------------------------------+--------------------+ | Environment | dpdk_meson_compile | +==============================+====================+ | Ubuntu 20.04 | PASS | +------------------------------+--------------------+ | Red Hat Enterprise Linux 9.5 | PASS | +------------------------------+--------------------+ | Debian GNU/Linux 12 | PASS | +------------------------------+--------------------+ | Fedora Linux 42 | PASS | +------------------------------+--------------------+ | Ubuntu 24.04 | PASS | +------------------------------+--------------------+ | Ubuntu 22.04 | PASS | +------------------------------+--------------------+ | CentOS Stream 10 | PASS | +------------------------------+--------------------+ | CentOS Stream 9 | PASS | +------------------------------+--------------------+ Ubuntu 20.04 Kernel: 5.15 Compiler: aarch64-linux-gnu-gcc gcc (Ubuntu 9.4.0-1ubuntu1~20.04.2) 9.4.0 Red Hat Enterprise Linux 9.5 Kernel: 5.4 Compiler: gcc gcc (GCC) 11.5.0 20240719 (Red Hat 11.5.0-2) Debian GNU/Linux 12 Kernel: 5.4 Compiler: gcc gcc (Debian 12.2.0-14+deb12u1) 12.2.0 Fedora Linux 42 Kernel: 5.4 Compiler: clang gcc (GCC) 15.2.1 20250808 (Red Hat 15.2.1-1) Ubuntu 24.04 Kernel: 5.4 Compiler: gcc gcc (Ubuntu 13.3.0-6ubuntu2~24.04) 13.3.0 Ubuntu 22.04 Kernel: 5.4 Compiler: gcc gcc (Ubuntu 11.4.0-1ubuntu1~22.04) 11.4.0 CentOS Stream 10 Kernel: 5.4 Compiler: gcc gcc (GCC) 14.2.1 20250110 (Red Hat 14.2.1-8) CentOS Stream 9 Kernel: 5.4 Compiler: gcc gcc (GCC) 11.5.0 20240719 (Red Hat 11.5.0-11) To view detailed results, visit: https://lab.dpdk.org/results/dashboard/patchsets/34567/ UNH-IOL DPDK Community Lab To manage your email subscriptions, visit: https://lab.dpdk.org/results/dashboard/preferences/subscriptions/