From mboxrd@z Thu Jan 1 00:00:00 1970 Return-Path: Received: from mails.dpdk.org (mails.dpdk.org [217.70.189.124]) by inbox.dpdk.org (Postfix) with ESMTP id 96F5548B00 for ; Fri, 14 Nov 2025 05:03:53 +0100 (CET) Received: from mails.dpdk.org (localhost [127.0.0.1]) by mails.dpdk.org (Postfix) with ESMTP id 793F740151; Fri, 14 Nov 2025 05:03:53 +0100 (CET) Received: from mail-il1-f226.google.com (mail-il1-f226.google.com [209.85.166.226]) by mails.dpdk.org (Postfix) with ESMTP id 4810940151 for ; Fri, 14 Nov 2025 05:03:52 +0100 (CET) Received: by mail-il1-f226.google.com with SMTP id e9e14a558f8ab-43326c74911so8832015ab.2 for ; Thu, 13 Nov 2025 20:03:52 -0800 (PST) DKIM-Signature: v=1; a=rsa-sha256; c=relaxed/relaxed; d=iol.unh.edu; s=unh-iol; t=1763093031; x=1763697831; darn=dpdk.org; h=references:in-reply-to:cc:to:from:subject:message-id:date:from:to :cc:subject:date:message-id:reply-to; bh=WIasOap6YoH2hHEAb3Edr7BbhQIw/n9+uu4x7MGatOw=; b=SXgSYGQrRM8BvlxHchGYoXrbGzaXvzaSN2b/uDy4W0TxavwgjrGG+spd038k6OUB4h ihMKST5RV0lb4cI8959MI2OJo/UOZEdvl5sWf5tXsKJNBderjLHA6fUXpXo9bSLfUYIg MRMegc7hLZO7UQPJfVSczbAnsnd4gihafYP1s= X-Google-DKIM-Signature: v=1; a=rsa-sha256; c=relaxed/relaxed; d=1e100.net; s=20230601; t=1763093031; x=1763697831; h=references:in-reply-to:cc:to:from:subject:message-id:date:x-gm-gg :x-gm-message-state:from:to:cc:subject:date:message-id:reply-to; bh=WIasOap6YoH2hHEAb3Edr7BbhQIw/n9+uu4x7MGatOw=; b=RI7myPnsextFNrgQ0KAo06Ygh760aJBIm3z5ZsyMX7PEdsJA8rh4E2d6fWjWU1CxMd 1UcF/j/hKdKfgTHp6099XTBB56WRK2NM/9jsuX8pQiM5FjivOVEzH3xyQlEiyfA2niFN 3LSavESzO4Zun3X2fuCFFXFbHvG606APViiSsALnuL+ls/nEeVBP/lJf3aj9JvCl/1OD lzwhOWZ8jIdrA67gNdigQi6nG/aEMcewN5Q00S6LH1nyGVYm4omtKggMBxWchm0eyhld 3zQ5PEtFCWu+hg4puoR7ZJG99zl017pxyaufWylegigQ1BhiwP8x1AEjPBCpKVLDfmBi x8+Q== X-Gm-Message-State: AOJu0YxZ1hupxUa3yVvYM15Su/lrOQU8NHpXMwCJ1MqyzyfEkRQ/f4Er i/Q3bCNNSEwpweKYIdIVGxEMuul3YE97oTijlN+xLA7KQg5iDhd1mGzYa3wmIt32gk69gv3eKHI Yh0l7VEvvaVnFC0WhSpaxh5gpA6KjGCEXx3bmZUSVC00Gjv9VL/VyEcEBWc7H X-Gm-Gg: ASbGnctwBTZQlRg+gPCrSOnXlWPgEJNyBvUBfZjrAoKRetOgMHM4DM7y6voOuPa+Jic 4/ngMi4goOHotiAY+bAz4XixfnXqTZxaPc3aD0We/12w7it2Yeemw+eN5u4CNgQdFaStnWZMaAT 0RTuZVXUJYzKwe/8kraNk9UbRq5t30AZY6PL6WVEqEkpVxrZO7o3NjbMRd6o87YEuOIPtNJ2RFV kuwfjxBR4j47c+UA8SYcfeW6sGXIxxQoKr+G8KPUl0Qq8uDYNmj5QKIEEeRg+Vxi+Op3QsqvJ1j vj4aAeHFFPpn1Ze/7BlfXl/Sb9a0bbRTi5Pmq7FTgME6Q4pYR2Sn7Aj326ZB78WOnMXg8CsDdrW 7p0XFff8m X-Google-Smtp-Source: AGHT+IH2G1t5+GnU2UpG8fNDbtjxT3LeyRDFDoiW7O3nNJ5aHggdsLnylvicwNHX0Zshyw0JsC0eXTnmJ43q X-Received: by 2002:a05:6e02:3112:b0:433:7b4f:f8bb with SMTP id e9e14a558f8ab-4348c937a3cmr23949895ab.20.1763093031484; Thu, 13 Nov 2025 20:03:51 -0800 (PST) Received: from postal.iol.unh.edu (postal.iol.unh.edu. [2606:4100:3880:1234::84]) by smtp-relay.gmail.com with ESMTPS id e9e14a558f8ab-434839e2cfasm3165855ab.30.2025.11.13.20.03.51 (version=TLS1_2 cipher=ECDHE-ECDSA-AES128-GCM-SHA256 bits=128/128); Thu, 13 Nov 2025 20:03:51 -0800 (PST) X-Relaying-Domain: iol.unh.edu Date: Thu, 13 Nov 2025 20:03:51 -0800 (PST) Message-ID: <6916aa27.050a0220.122f6e.ec84SMTPIN_ADDED_MISSING@mx.google.com> Received: from [172.21.0.2] (unknown [172.18.0.240]) by postal.iol.unh.edu (Postfix) with ESMTP id 01D326051830; Thu, 13 Nov 2025 23:03:50 -0500 (EST) Subject: |SUCCESS| pw158755 [PATCH] [v1] net/axgbe: fix the build warninig fo From: dpdklab@iol.unh.edu To: Test Report Cc: dpdk-test-reports@iol.unh.edu, Stephen Hemminger In-Reply-To: <20251113113055.371-1-VenkatKumar.Ande@amd.com> References: <20251113113055.371-1-VenkatKumar.Ande@amd.com> Content-Type: text/plain X-BeenThere: test-report@dpdk.org X-Mailman-Version: 2.1.29 Precedence: list List-Id: automatic DPDK test reports List-Unsubscribe: , List-Archive: List-Post: List-Help: List-Subscribe: , Errors-To: test-report-bounces@dpdk.org Test-Label: iol-compile-amd64-testing Test-Status: SUCCESS http://dpdk.org/patch/158755 _Testing PASS_ Submitter: Venkat Kumar Ande Date: Thursday, November 13 2025 11:30:55 DPDK git baseline: Repo:dpdk-next-net Branch: master CommitID:29807269854f9bfc72f1323273de8e23adc724d4 158755 --> testing pass Upstream job id: Generic-DPDK-Compile-Meson#444000 Test environment and result as below: +-------------------------------+--------------------+------------------+ | Environment | dpdk_meson_compile | dpdk_compile_ovs | +===============================+====================+==================+ | Ubuntu 20.04 | PASS | SKIPPED | +-------------------------------+--------------------+------------------+ | FreeBSD 14.2 | PASS | SKIPPED | +-------------------------------+--------------------+------------------+ | CentOS Stream 10 | PASS | SKIPPED | +-------------------------------+--------------------+------------------+ | CentOS Stream 9 | PASS | SKIPPED | +-------------------------------+--------------------+------------------+ | Debian GNU/Linux 12 | PASS | SKIPPED | +-------------------------------+--------------------+------------------+ | Fedora Linux 42 | PASS | PASS | +-------------------------------+--------------------+------------------+ | openSUSE Leap 15.6 | PASS | SKIPPED | +-------------------------------+--------------------+------------------+ | Red Hat Enterprise Linux 8.10 | PASS | SKIPPED | +-------------------------------+--------------------+------------------+ | Red Hat Enterprise Linux 9.5 | PASS | SKIPPED | +-------------------------------+--------------------+------------------+ | Ubuntu 22.04 | PASS | SKIPPED | +-------------------------------+--------------------+------------------+ | Ubuntu 24.04 | PASS | PASS | +-------------------------------+--------------------+------------------+ Ubuntu 20.04 Kernel: 4.19 Compiler: gcc gcc (Ubuntu 9.4.0-1ubuntu1~20.04.2) 9.4.0 FreeBSD 14.2 Kernel: 14.2-RELEASE Compiler: clang 18.1.6 CentOS Stream 10 Kernel: 5.15 Compiler: gcc gcc (GCC) 14.2.1 20250110 (Red Hat 14.2.1-8) CentOS Stream 9 Kernel: 5.15 Compiler: gcc gcc (GCC) 11.5.0 20240719 (Red Hat 11.5.0-11) Debian GNU/Linux 12 Kernel: 5.15 Compiler: gcc gcc (Debian 12.2.0-14+deb12u1) 12.2.0 Fedora Linux 42 Kernel: 5.15 Compiler: clang gcc (GCC) 15.2.1 20250808 (Red Hat 15.2.1-1) openSUSE Leap 15.6 Kernel: 5.15 Compiler: gcc gcc (SUSE Linux) 7.5.0 Red Hat Enterprise Linux 8.10 Kernel: 5.15 Compiler: gcc gcc (GCC) 8.5.0 20210514 (Red Hat 8.5.0-22) Red Hat Enterprise Linux 9.5 Kernel: 5.15 Compiler: gcc gcc (GCC) 11.5.0 20240719 (Red Hat 11.5.0-2) Ubuntu 22.04 Kernel: 5.15 Compiler: gcc gcc (Ubuntu 11.4.0-1ubuntu1~22.04) 11.4.0 Ubuntu 24.04 Kernel: 5.15 Compiler: gcc gcc (Ubuntu 13.3.0-6ubuntu2~24.04) 13.3.0 To view detailed results, visit: https://lab.dpdk.org/results/dashboard/patchsets/34572/ UNH-IOL DPDK Community Lab To manage your email subscriptions, visit: https://lab.dpdk.org/results/dashboard/preferences/subscriptions/