From mboxrd@z Thu Jan 1 00:00:00 1970 Return-Path: Received: from mails.dpdk.org (mails.dpdk.org [217.70.189.124]) by inbox.dpdk.org (Postfix) with ESMTP id 2A90948B00 for ; Fri, 14 Nov 2025 05:10:39 +0100 (CET) Received: from mails.dpdk.org (localhost [127.0.0.1]) by mails.dpdk.org (Postfix) with ESMTP id 24FEE40151; Fri, 14 Nov 2025 05:10:39 +0100 (CET) Received: from mail-yx1-f100.google.com (mail-yx1-f100.google.com [74.125.224.100]) by mails.dpdk.org (Postfix) with ESMTP id E095F40151 for ; Fri, 14 Nov 2025 05:10:37 +0100 (CET) Received: by mail-yx1-f100.google.com with SMTP id 956f58d0204a3-641e9422473so272997d50.2 for ; Thu, 13 Nov 2025 20:10:37 -0800 (PST) DKIM-Signature: v=1; a=rsa-sha256; c=relaxed/relaxed; d=iol.unh.edu; s=unh-iol; t=1763093437; x=1763698237; darn=dpdk.org; h=references:in-reply-to:cc:to:from:subject:message-id:date:from:to :cc:subject:date:message-id:reply-to; bh=tbDbj/Wj2hzteqYz7u58kl+HzJwdWcCdaZQMEb5TSks=; b=htrNqdyUuCSzg6db1qxlI/PayBDmdmmXz23I7eYK8bGTrct8fDjXfNtRwfPY7yoIir J5jKEcWhmILZNuDWIpdOrMCU/3KsqhalZcnrcjEG6xTGHTPfiX2EVT6gE/Jue/BDKtZH uNLA1jqdzvdmbOJDYALC4J0MLAERP2D8B0W7k= X-Google-DKIM-Signature: v=1; a=rsa-sha256; c=relaxed/relaxed; d=1e100.net; s=20230601; t=1763093437; x=1763698237; h=references:in-reply-to:cc:to:from:subject:message-id:date:x-gm-gg :x-gm-message-state:from:to:cc:subject:date:message-id:reply-to; bh=tbDbj/Wj2hzteqYz7u58kl+HzJwdWcCdaZQMEb5TSks=; b=oWr1KEcRYa+sp8CSeJQsJwU0ocSmpQaG52McTiBnkSrxbapPKrT9TssWFQaaJPLpX/ ggqw+ODJi9Vn4Y14UT9cWnVmTN6w8MY4coq7Li96lBiu0ZWy+57jzSAoYyO9Pavo+/MH wcyADVhSoTQngZA08KBplpRCyxxZH3nCXLUCKY2FtqGs7rG/rGnnomALu7uw7V9rp5LO ojm8U+gGYr06e/7LualJzQer257ssLPgsNyumJ79WJOSLLrtgbQdFJk3HRweaobiSqM9 EiptrFUhbp0OpPlITC95pAoqf4/DP/nBwvuc3ilZuUEvuCyVVeY0qzuEdMF3DiUXScds NR1g== X-Gm-Message-State: AOJu0YzQN1LSNU5Ta8ptla1J5kcA1nDsGfoGmzwrEVu43drIzNwLvN5B puhOpnSq6QzOKGzlX/s4k201FaspIQ0ItjsmtTFehWKDZT5cGrQJgFWG4W9eQBZbwxayHPDd7ZY EqWWveKVPlX/vVjsBII3BBNKmnHLHsZO3/ble40r05H28 X-Gm-Gg: ASbGncsQJwDxj9k4F+F7aqIzFV2Q+ZSA5xvfFW+XvXJhxn3s7Fcy67RpQhDnKVA4jVm Kz2jawc7HBdePxwWwBFdeuhEj4Phy7+ckNQBTV1lSzlRkMOPmzfdJiRBeo3HOFwGVZpFvrXRd2Q iW44/D/GoAHmcjBgN6O/A/+/x5gMnqjqoE1zJA9xtuML5XR4fJu98fHomHAvrStm4uN4WuTiZTw 7GEz6C908QYp9e5uZYH3U7JHyQueeFMzxEnDtGhGNlPYZWJs5XRSWKUHWfiyPBIVNUofhg3SHmz BpfifXAdw3qTh3Ad4DSLqA8RRAMzHIZbhsRbYAVd5lBPWGewjbvSmveNnS0VQ5TPLyLF9NwBji4 3sSFR+pFh1CrydFg4Df8r88CEsg5aVbQ= X-Google-Smtp-Source: AGHT+IFtKIa4ybo92fxGwb5pFnSHxEu1Y8FzMeCRZnIiIW0OdEyKvBnqiQGncD4WE15dY0c9CjPBA/3mZ3hm X-Received: by 2002:a05:690c:5086:b0:788:e1b:5ee6 with SMTP id 00721157ae682-78929f4086emr24293347b3.70.1763093437246; Thu, 13 Nov 2025 20:10:37 -0800 (PST) Received: from postal.iol.unh.edu (postal.iol.unh.edu. [132.177.123.84]) by smtp-relay.gmail.com with ESMTPS id 00721157ae682-78821e1e6d5sm2492087b3.9.2025.11.13.20.10.37 (version=TLS1_2 cipher=ECDHE-ECDSA-AES128-GCM-SHA256 bits=128/128); Thu, 13 Nov 2025 20:10:37 -0800 (PST) X-Relaying-Domain: iol.unh.edu Date: Thu, 13 Nov 2025 20:10:37 -0800 (PST) Message-ID: <6916abbd.050a0220.1a7114.c19dSMTPIN_ADDED_MISSING@mx.google.com> Received: from [172.21.0.2] (unknown [172.18.0.240]) by postal.iol.unh.edu (Postfix) with ESMTP id DBB936051830; Thu, 13 Nov 2025 23:10:36 -0500 (EST) Subject: |SUCCESS| pw158716-158738 [PATCH] [v5,23/23] net/cnxk: check for inv From: dpdklab@iol.unh.edu To: Test Report Cc: dpdk-test-reports@iol.unh.edu In-Reply-To: <20251113043808.1180851-23-ndabilpuram@marvell.com> References: <20251113043808.1180851-23-ndabilpuram@marvell.com> Content-Type: text/plain X-BeenThere: test-report@dpdk.org X-Mailman-Version: 2.1.29 Precedence: list List-Id: automatic DPDK test reports List-Unsubscribe: , List-Archive: List-Post: List-Help: List-Subscribe: , Errors-To: test-report-bounces@dpdk.org Test-Label: iol-unit-amd64-testing Test-Status: SUCCESS http://dpdk.org/patch/158738 _Testing PASS_ Submitter: Nithin Dabilpuram Date: Thursday, November 13 2025 04:38:08 DPDK git baseline: Repo:dpdk-next-net-mrvl Branch: master CommitID:be0112878b4fc3a1b918370ed2fe615c52039d77 158716-158738 --> testing pass Upstream job id: Generic-VM-Unit-Test-DPDK#32516 Test environment and result as below: +-------------------------------+----------------+ | Environment | dpdk_unit_test | +===============================+================+ | CentOS Stream 9 | PASS | +-------------------------------+----------------+ | Debian GNU/Linux 12 | PASS | +-------------------------------+----------------+ | CentOS Stream 10 | PASS | +-------------------------------+----------------+ | Fedora Linux 42 | PASS | +-------------------------------+----------------+ | Fedora Linux 40 | PASS | +-------------------------------+----------------+ | Fedora Linux 41 | PASS | +-------------------------------+----------------+ | Red Hat Enterprise Linux 8.10 | PASS | +-------------------------------+----------------+ | Red Hat Enterprise Linux 9.5 | PASS | +-------------------------------+----------------+ | Ubuntu 24.04 | PASS | +-------------------------------+----------------+ | Ubuntu 22.04 | PASS | +-------------------------------+----------------+ | Ubuntu 20.04 | PASS | +-------------------------------+----------------+ | Windows Server 2022 | PASS | +-------------------------------+----------------+ CentOS Stream 9 Kernel: 5.15 Compiler: gcc gcc (GCC) 11.5.0 20240719 (Red Hat 11.5.0-11) Debian GNU/Linux 12 Kernel: 5.15 Compiler: gcc gcc (Debian 12.2.0-14+deb12u1) 12.2.0 CentOS Stream 10 Kernel: 5.15 Compiler: gcc gcc (GCC) 14.2.1 20250110 (Red Hat 14.2.1-8) Fedora Linux 42 Kernel: 5.15 Compiler: gcc gcc (GCC) 15.2.1 20250808 (Red Hat 15.2.1-1) Fedora Linux 40 Kernel: 5.15 Compiler: gcc gcc (GCC) 14.2.1 20240912 (Red Hat 14.2.1-3) Fedora Linux 41 Kernel: 5.15 Compiler: gcc gcc (GCC) 14.3.1 20250523 (Red Hat 14.3.1-1) Red Hat Enterprise Linux 8.10 Kernel: 5.15 Compiler: gcc gcc (GCC) 8.5.0 20210514 (Red Hat 8.5.0-22) Red Hat Enterprise Linux 9.5 Kernel: 5.15 Compiler: gcc gcc (GCC) 11.5.0 20240719 (Red Hat 11.5.0-2) Ubuntu 24.04 Kernel: 5.15 Compiler: gcc gcc (Ubuntu 13.3.0-6ubuntu2~24.04) 13.3.0 Ubuntu 22.04 Kernel: 5.15 Compiler: gcc gcc (Ubuntu 11.4.0-1ubuntu1~22.04) 11.4.0 Ubuntu 20.04 Kernel: 5.15 Compiler: gcc gcc (Ubuntu 9.4.0-1ubuntu1~20.04.2) 9.4.0 Windows Server 2022 Kernel: 10.0.20348.2031 Compiler: clang 15.0.7, gcc 14.1.0 (MinGW), and MSVC VS 19.39.33521 To view detailed results, visit: https://lab.dpdk.org/results/dashboard/patchsets/34562/ UNH-IOL DPDK Community Lab To manage your email subscriptions, visit: https://lab.dpdk.org/results/dashboard/preferences/subscriptions/