From mboxrd@z Thu Jan 1 00:00:00 1970 Return-Path: Received: from mails.dpdk.org (mails.dpdk.org [217.70.189.124]) by inbox.dpdk.org (Postfix) with ESMTP id F047448B00 for ; Fri, 14 Nov 2025 05:17:48 +0100 (CET) Received: from mails.dpdk.org (localhost [127.0.0.1]) by mails.dpdk.org (Postfix) with ESMTP id EB8AE40151; Fri, 14 Nov 2025 05:17:48 +0100 (CET) Received: from mail-pl1-f228.google.com (mail-pl1-f228.google.com [209.85.214.228]) by mails.dpdk.org (Postfix) with ESMTP id 1D99040151 for ; Fri, 14 Nov 2025 05:17:48 +0100 (CET) Received: by mail-pl1-f228.google.com with SMTP id d9443c01a7336-297dc3e299bso15690885ad.1 for ; Thu, 13 Nov 2025 20:17:48 -0800 (PST) DKIM-Signature: v=1; a=rsa-sha256; c=relaxed/relaxed; d=iol.unh.edu; s=unh-iol; t=1763093867; x=1763698667; darn=dpdk.org; h=references:in-reply-to:cc:to:from:subject:message-id:date:from:to :cc:subject:date:message-id:reply-to; bh=eRPmkmbqZ04EG0Me6kx/TuEx/QEso5K07gCNygZqc0M=; b=SejEbSVcdg2Heh9p6LCD0k0gQgoAsmzpUnC2S5EV4hi/n2kxp5ZI2VJ4sgKe8rjGll RviewaegAG+bxKD1SQVQsrvUjpeZHYO1Yr5QjJkT2vuhVaz/GFA0wbOx1HearFkV9vWJ +7OJZ24H2UJgSp6gCmVRtjQnFL+iusKi+KeIo= X-Google-DKIM-Signature: v=1; a=rsa-sha256; c=relaxed/relaxed; d=1e100.net; s=20230601; t=1763093867; x=1763698667; h=references:in-reply-to:cc:to:from:subject:message-id:date:x-gm-gg :x-gm-message-state:from:to:cc:subject:date:message-id:reply-to; bh=eRPmkmbqZ04EG0Me6kx/TuEx/QEso5K07gCNygZqc0M=; b=FSloTRkdS2Aa7oakSQR5/bkLsHxelSY0bUROYp/QF6ZNPMqWTHI3z8GgR0gsS4bPAS 1HfkH9IwuRAcuNAdeupdX0uhtPCiyRKNZ/dkIKp3G0qve91L1r8H09CVmC+Q7rc5JbDZ GEXiOZA5UQAwYC66RxOEMC+rpwdDqBU4Ey/LRPGbvQ/GN69AA9bwTjWFzV7CaMrnYLXy 50LT6VjzuEiI/QVcJk+sdRIK2THZybUqVwJ6sLERGWCAyNA0jdV4/gEzQtzHKd/LAWKS yK77JxpzvdKgkcaynY9eHQFmgHDGVnE+dqhtPInlwaIbnAb1p0PHpVfEoVLSExBjsy4B 0Yrg== X-Gm-Message-State: AOJu0YxG7+UCwCC1BFvZGEL6pBla9ld0rBPjd1Devm8H76sOaqLpaE5q NkVNne7C6yqaVZTvz9SUkQkGCucQi/XkrZFNIH4S0Uum+g0/bANSj/XcOX8h4OBjB3wwPRs97Se yCowkV19GuDvfkH77hqfuuFW2Wm9A8NnH6qGivA+/UCmp X-Gm-Gg: ASbGnctdYTWPYDBTBkiV/ZgfRuVnJDhNCa5HlIbRBb0MZlEC7DrWtA9OgjBv+0QcMPf ocwQdcuB+YTDNrQShEs9ttim9p+IoW+lxjARWu6nB0FalKP4LCVj/90q738Y/Rhh/+4/tQyJOA6 J8CQ8c8Tfq0Kj2ryQaWCZctynPlq1kTSQQdHYwdSqlzDo2otTIxNGr1M4jkgmQ13Oo5TQMDGtF5 uiQq7SrEJyK8AWEDKYlSvo50HnbbnyeKIyYhrNsiLccmbVMEWRv1DvFaiAGaIfMgm//GaVqkUjG YlipHF9t8cqUmOk6I2yEnA2UKU6oUU2s6bGcq7ZYopULHLeSC/FqCnlhRHXjOuih/7U6SdK4vgv YGeWdqmaIzOXHc5lOFigEE4gDSDyTJuE= X-Google-Smtp-Source: AGHT+IGa0jO/d+lYlKoFc50eWw50LqE6UAzuG7pzZZ3os9Nt4csi7zpktIw93YDLd9x9bNsG1CkJxdxfFt1I X-Received: by 2002:a17:902:e788:b0:295:ac70:10c4 with SMTP id d9443c01a7336-2986a74b0ecmr16914945ad.47.1763093867207; Thu, 13 Nov 2025 20:17:47 -0800 (PST) Received: from postal.iol.unh.edu (postal.iol.unh.edu. [132.177.123.84]) by smtp-relay.gmail.com with ESMTPS id d9443c01a7336-2985c2a838dsm4309305ad.41.2025.11.13.20.17.47 (version=TLS1_2 cipher=ECDHE-ECDSA-AES128-GCM-SHA256 bits=128/128); Thu, 13 Nov 2025 20:17:47 -0800 (PST) X-Relaying-Domain: iol.unh.edu Date: Thu, 13 Nov 2025 20:17:47 -0800 (PST) Message-ID: <6916ad6b.170a0220.6d491.479bSMTPIN_ADDED_MISSING@mx.google.com> Received: from [172.21.0.2] (unknown [172.18.0.240]) by postal.iol.unh.edu (Postfix) with ESMTP id 777FC6051830; Thu, 13 Nov 2025 23:17:46 -0500 (EST) Subject: |SUCCESS| pw158755 [PATCH] [v1] net/axgbe: fix the build warninig fo From: dpdklab@iol.unh.edu To: Test Report Cc: dpdk-test-reports@iol.unh.edu, Stephen Hemminger In-Reply-To: <20251113113055.371-1-VenkatKumar.Ande@amd.com> References: <20251113113055.371-1-VenkatKumar.Ande@amd.com> Content-Type: text/plain X-BeenThere: test-report@dpdk.org X-Mailman-Version: 2.1.29 Precedence: list List-Id: automatic DPDK test reports List-Unsubscribe: , List-Archive: List-Post: List-Help: List-Subscribe: , Errors-To: test-report-bounces@dpdk.org Test-Label: iol-compile-amd64-testing Test-Status: SUCCESS http://dpdk.org/patch/158755 _Testing PASS_ Submitter: Venkat Kumar Ande Date: Thursday, November 13 2025 11:30:55 DPDK git baseline: Repo:dpdk-next-net Branch: master CommitID:29807269854f9bfc72f1323273de8e23adc724d4 158755 --> testing pass Upstream job id: Generic-DPDK-Compile-Meson#444003 Test environment and result as below: +-------------------------------+--------------------+------------------+ | Environment | dpdk_meson_compile | dpdk_compile_ovs | +===============================+====================+==================+ | Ubuntu 20.04 | PASS | SKIPPED | +-------------------------------+--------------------+------------------+ | FreeBSD 14.2 | PASS | SKIPPED | +-------------------------------+--------------------+------------------+ | CentOS Stream 10 | PASS | SKIPPED | +-------------------------------+--------------------+------------------+ | CentOS Stream 9 | PASS | SKIPPED | +-------------------------------+--------------------+------------------+ | Debian GNU/Linux 12 | PASS | SKIPPED | +-------------------------------+--------------------+------------------+ | Fedora Linux 42 | PASS | PASS | +-------------------------------+--------------------+------------------+ | openSUSE Leap 15.6 | PASS | SKIPPED | +-------------------------------+--------------------+------------------+ | Red Hat Enterprise Linux 8.10 | PASS | SKIPPED | +-------------------------------+--------------------+------------------+ | Red Hat Enterprise Linux 9.5 | PASS | SKIPPED | +-------------------------------+--------------------+------------------+ | Ubuntu 22.04 | PASS | SKIPPED | +-------------------------------+--------------------+------------------+ | Ubuntu 24.04 | PASS | PASS | +-------------------------------+--------------------+------------------+ | Alpine Linux 3.22.0 | PASS | SKIPPED | +-------------------------------+--------------------+------------------+ Ubuntu 20.04 Kernel: 4.19 Compiler: gcc gcc (Ubuntu 9.4.0-1ubuntu1~20.04.2) 9.4.0 FreeBSD 14.2 Kernel: 14.2-RELEASE Compiler: clang 18.1.6 CentOS Stream 10 Kernel: 5.15 Compiler: gcc gcc (GCC) 14.2.1 20250110 (Red Hat 14.2.1-8) CentOS Stream 9 Kernel: 5.15 Compiler: gcc gcc (GCC) 11.5.0 20240719 (Red Hat 11.5.0-11) Debian GNU/Linux 12 Kernel: 5.15 Compiler: gcc gcc (Debian 12.2.0-14+deb12u1) 12.2.0 Fedora Linux 42 Kernel: 5.15 Compiler: clang gcc (GCC) 15.2.1 20250808 (Red Hat 15.2.1-1) openSUSE Leap 15.6 Kernel: 5.15 Compiler: gcc gcc (SUSE Linux) 7.5.0 Red Hat Enterprise Linux 8.10 Kernel: 5.15 Compiler: gcc gcc (GCC) 8.5.0 20210514 (Red Hat 8.5.0-22) Red Hat Enterprise Linux 9.5 Kernel: 5.15 Compiler: gcc gcc (GCC) 11.5.0 20240719 (Red Hat 11.5.0-2) Ubuntu 22.04 Kernel: 5.15 Compiler: gcc gcc (Ubuntu 11.4.0-1ubuntu1~22.04) 11.4.0 Ubuntu 24.04 Kernel: 5.15 Compiler: gcc gcc (Ubuntu 13.3.0-6ubuntu2~24.04) 13.3.0 Alpine Linux 3.22.0 Kernel: 5.15 Compiler: gcc gcc (Alpine 14.2.0) 14.2.0 To view detailed results, visit: https://lab.dpdk.org/results/dashboard/patchsets/34572/ UNH-IOL DPDK Community Lab To manage your email subscriptions, visit: https://lab.dpdk.org/results/dashboard/preferences/subscriptions/