From mboxrd@z Thu Jan 1 00:00:00 1970 Return-Path: Received: from mails.dpdk.org (mails.dpdk.org [217.70.189.124]) by inbox.dpdk.org (Postfix) with ESMTP id D528048B03 for ; Fri, 14 Nov 2025 05:25:53 +0100 (CET) Received: from mails.dpdk.org (localhost [127.0.0.1]) by mails.dpdk.org (Postfix) with ESMTP id CFAD240151; Fri, 14 Nov 2025 05:25:53 +0100 (CET) Received: from mail-pl1-f227.google.com (mail-pl1-f227.google.com [209.85.214.227]) by mails.dpdk.org (Postfix) with ESMTP id 1074040151 for ; Fri, 14 Nov 2025 05:25:53 +0100 (CET) Received: by mail-pl1-f227.google.com with SMTP id d9443c01a7336-2964d616df7so20328985ad.3 for ; Thu, 13 Nov 2025 20:25:52 -0800 (PST) DKIM-Signature: v=1; a=rsa-sha256; c=relaxed/relaxed; d=iol.unh.edu; s=unh-iol; t=1763094352; x=1763699152; darn=dpdk.org; h=cc:to:from:subject:message-id:date:from:to:cc:subject:date :message-id:reply-to; bh=E24WW82fhn64ODcsiuVIsXNakZwKjwPKNgptI6yE7sc=; b=QwT7uoc5N54H41THQAaqRCpumQa8dSq6eso0zu56pUkPhnr1qRgBwuiGC6m8AJXqq8 iPowqhur0CWqGYdY4RSvTIcl/Z9UW0TZBNQ5GxZ+lbUOq2mMgvDHWj0ybOurOnb6fWnU w3JMKY0T+gaz/fMjyEt9cKjHo3waQO68+zJLI= X-Google-DKIM-Signature: v=1; a=rsa-sha256; c=relaxed/relaxed; d=1e100.net; s=20230601; t=1763094352; x=1763699152; h=cc:to:from:subject:message-id:date:x-gm-gg:x-gm-message-state:from :to:cc:subject:date:message-id:reply-to; bh=E24WW82fhn64ODcsiuVIsXNakZwKjwPKNgptI6yE7sc=; b=bzZbHXJm3F4echGWgowTh8nrUjuzmmTZh2zbdZmqIorOn1ON2JJFKwdBM9a2PZf+qL BoBAIzwcNXVA7Kej2yyu2IPA5XGBygNLBwFzUbpzNezo7VaIM3o3ygjDK+oFAfTF2fQH 3zmjih0qyDXz62SSoucCT5yU483TCIB+2fMlY9Lfb9erJon0bCiXZwjl4Zj24E1FAUjN o5dusJ3E3mkWBzZqPXE54dcQ89cHEp6WM3t8Qkoxnm0rmQDdxw3Rbn6MQXCXzomOnbKn gJPKofP8X8EmAzkF6KuBSakj7NoMO2zHEjMZZcDa8HIKHbzPS9oWsrWGTo6rpA1LURKq nDKg== X-Gm-Message-State: AOJu0YzUNHVDfVa5zJ9FbfUd0FikCDQplt5hoTMlO9Mucm39Y1jD1IyI ZRDrRi2900AIOzJUEB8lDio3+mIHdvWwzepcsqkpEycaHhTxyoGgN5c6R8tybvXvN2cTmoF2yRO XtrTPOn4/7wVaKJMSm18hFFV8+P9omVlrtyto X-Gm-Gg: ASbGncsdGnVPd+V2rAraeQo9MDOkRYAkdCpOqt1uB6GsMMqHUTw7Ma09OF3GOssmG28 A9M1AqS4HT9nK5x7x2HgMaNdCVnFHlDCvY6j7RSaSjamPQEXJEOJACTF05LPETZ1hHpifqj/uoc KyIa9Ad/415e0cMdNut8bQtINorQOh4wlCjf6NzbVAHBZYDyawwWci/XMF9L2xMYS6W/H8MIVe6 TiR900uu1KuEM/ksXnsqoPGObNLuwqxa1sBW685y/rWJkwkPPS7rXz+DKG2IwNfNqoYejpBiDVw CHCEX181hXGaDXP5kd9ysHlToxaSv1fuiplva8LeLua4Zkilpp/2ztCtHdYMpLm0GMdyUyWR6Di Zd0Kpuelkt8sC3g92YaAhQ5ymw2Ac+io= X-Google-Smtp-Source: AGHT+IHtLHxlw0X5izby50QWXPAcMITg5i0zpkVkmqwuX8wQO2Bv4qJP2ZtSDO19GKHOT+9UuUU7gApLlIlB X-Received: by 2002:a17:903:2f86:b0:295:ed0:f7bf with SMTP id d9443c01a7336-2986a76b5b8mr18359605ad.58.1763094352285; Thu, 13 Nov 2025 20:25:52 -0800 (PST) Received: from postal.iol.unh.edu (postal.iol.unh.edu. [132.177.123.84]) by smtp-relay.gmail.com with ESMTPS id d9443c01a7336-2985c234814sm4134645ad.8.2025.11.13.20.25.52 (version=TLS1_2 cipher=ECDHE-ECDSA-AES128-GCM-SHA256 bits=128/128); Thu, 13 Nov 2025 20:25:52 -0800 (PST) X-Relaying-Domain: iol.unh.edu Date: Thu, 13 Nov 2025 20:25:52 -0800 (PST) Message-ID: <6916af50.170a0220.c5523.421cSMTPIN_ADDED_MISSING@mx.google.com> Received: from [172.21.0.2] (unknown [172.18.0.240]) by postal.iol.unh.edu (Postfix) with ESMTP id 703306051830; Thu, 13 Nov 2025 23:25:51 -0500 (EST) Subject: |SUCCESS| [GIT MASTER] 9784db2c5af1eecd02fc21132b59b5b266039b87 From: dpdklab@iol.unh.edu To: Test Report Cc: dpdk-test-reports@iol.unh.edu, Xueming Li , Christian Ehrhardt , Kevin Traynor , Luca Boccassi Content-Type: text/plain X-BeenThere: test-report@dpdk.org X-Mailman-Version: 2.1.29 Precedence: list List-Id: automatic DPDK test reports List-Unsubscribe: , List-Archive: List-Post: List-Help: List-Subscribe: , Errors-To: test-report-bounces@dpdk.org _Testing PASS_ Branch: tags/v22.11 9784db2c5af1eecd02fc21132b59b5b266039b87 --> testing pass Upstream job id: Windows-Compile-DPDK-Native#32310 Test environment and result as below: +-------------------------------+--------------------+-------------------------+ | Environment | dpdk_meson_compile | dpdk_llvm_clang_compile | +===============================+====================+=========================+ | FreeBSD 14.2 | PASS | SKIPPED | +-------------------------------+--------------------+-------------------------+ | Ubuntu 20.04 | PASS | SKIPPED | +-------------------------------+--------------------+-------------------------+ | CentOS Stream 9 | PASS | SKIPPED | +-------------------------------+--------------------+-------------------------+ | CentOS Stream 10 | PASS | SKIPPED | +-------------------------------+--------------------+-------------------------+ | Debian GNU/Linux 12 | PASS | SKIPPED | +-------------------------------+--------------------+-------------------------+ | Fedora Linux 42 | PASS | SKIPPED | +-------------------------------+--------------------+-------------------------+ | openSUSE Leap 15.6 | PASS | SKIPPED | +-------------------------------+--------------------+-------------------------+ | Red Hat Enterprise Linux 8.10 | PASS | SKIPPED | +-------------------------------+--------------------+-------------------------+ | Red Hat Enterprise Linux 9.5 | PASS | SKIPPED | +-------------------------------+--------------------+-------------------------+ | Ubuntu 22.04 | PASS | SKIPPED | +-------------------------------+--------------------+-------------------------+ | Ubuntu 24.04 | PASS | SKIPPED | +-------------------------------+--------------------+-------------------------+ | Windows Server 2022 | SKIPPED | PASS | +-------------------------------+--------------------+-------------------------+ FreeBSD 14.2 Kernel: 14.2-RELEASE Compiler: clang 18.1.6 Ubuntu 20.04 Kernel: 4.19 Compiler: gcc gcc (Ubuntu 9.4.0-1ubuntu1~20.04.2) 9.4.0 CentOS Stream 9 Kernel: 5.15 Compiler: gcc gcc (GCC) 11.5.0 20240719 (Red Hat 11.5.0-11) CentOS Stream 10 Kernel: 5.15 Compiler: gcc gcc (GCC) 14.2.1 20250110 (Red Hat 14.2.1-8) Debian GNU/Linux 12 Kernel: 5.15 Compiler: gcc gcc (Debian 12.2.0-14+deb12u1) 12.2.0 Fedora Linux 42 Kernel: 5.15 Compiler: clang gcc (GCC) 15.2.1 20250808 (Red Hat 15.2.1-1) openSUSE Leap 15.6 Kernel: 5.15 Compiler: gcc gcc (SUSE Linux) 7.5.0 Red Hat Enterprise Linux 8.10 Kernel: 5.15 Compiler: gcc gcc (GCC) 8.5.0 20210514 (Red Hat 8.5.0-22) Red Hat Enterprise Linux 9.5 Kernel: 5.15 Compiler: gcc gcc (GCC) 11.5.0 20240719 (Red Hat 11.5.0-2) Ubuntu 22.04 Kernel: 5.15 Compiler: gcc gcc (Ubuntu 11.4.0-1ubuntu1~22.04) 11.4.0 Ubuntu 24.04 Kernel: 5.15 Compiler: gcc gcc (Ubuntu 13.3.0-6ubuntu2~24.04) 13.3.0 Windows Server 2022 Kernel: 10.0.20348.2031 Compiler: clang 15.0.7, gcc 14.1.0 (MinGW), and MSVC VS 19.39.33521 To view detailed results, visit: https://lab.dpdk.org/results/dashboard/tarballs/35549/ UNH-IOL DPDK Community Lab To manage your email subscriptions, visit: https://lab.dpdk.org/results/dashboard/preferences/subscriptions/