From mboxrd@z Thu Jan 1 00:00:00 1970 Return-Path: Received: from mails.dpdk.org (mails.dpdk.org [217.70.189.124]) by inbox.dpdk.org (Postfix) with ESMTP id B41C548B00 for ; Fri, 14 Nov 2025 05:33:35 +0100 (CET) Received: from mails.dpdk.org (localhost [127.0.0.1]) by mails.dpdk.org (Postfix) with ESMTP id 8EDF040151; Fri, 14 Nov 2025 05:33:35 +0100 (CET) Received: from mail-pf1-f227.google.com (mail-pf1-f227.google.com [209.85.210.227]) by mails.dpdk.org (Postfix) with ESMTP id 2E35540151 for ; Fri, 14 Nov 2025 05:33:34 +0100 (CET) Received: by mail-pf1-f227.google.com with SMTP id d2e1a72fcca58-7b89c1ce9easo1453435b3a.2 for ; Thu, 13 Nov 2025 20:33:34 -0800 (PST) DKIM-Signature: v=1; a=rsa-sha256; c=relaxed/relaxed; d=iol.unh.edu; s=unh-iol; t=1763094813; x=1763699613; darn=dpdk.org; h=references:in-reply-to:cc:to:from:subject:message-id:date:from:to :cc:subject:date:message-id:reply-to; bh=6hOdNIXa9E1ESpXBahEyUhJBsfT/qc58eJTTbU3/6eQ=; b=Ugw/Ga8zqD/DvpJGQVGziR/1GKRI3+G0dBcXiPNVsdvUWBONjzD23ZLrovHg1I/w3W oaLYon3uF1jlkTO6rttMA6lRaWO9xUECS5IVwVcJ8B+3FxkdGr0kYihG2uwQc56YzjvO bPyPjLBpIq9p3KzFFTakSfFXa1aUhjdqmW4jg= X-Google-DKIM-Signature: v=1; a=rsa-sha256; c=relaxed/relaxed; d=1e100.net; s=20230601; t=1763094813; x=1763699613; h=references:in-reply-to:cc:to:from:subject:message-id:date:x-gm-gg :x-gm-message-state:from:to:cc:subject:date:message-id:reply-to; bh=6hOdNIXa9E1ESpXBahEyUhJBsfT/qc58eJTTbU3/6eQ=; b=fwnDTWStTqEYkIcfhbho2vjzzksKBquwKN87AavmRKw2bBO+sL0H/HARoVsfuzbfZQ gi9V+ilE8wo8a/LbK5Ul9cVU+wwjTT//v+ags8fm22Vlnj1BNjIwDZvQMtM9Cqjt1PxU aMpFaAKmnrstjAWNjvuV2GHDNTudQ4wL9CfzbWmH/LwcUMSq6sBjikRlUD12GEj9rwYR qVSzbpOqmw90qmLgQ3XwVmB0IFtEXYKtIyYOzNcBnqBtDK08nIlkXfoGRfutttjuHLD9 0dcuxLgi26hRKN8gLpYpVT0xJ+rZHfq4iLzqEGWKBtT9zXreKjdyb6pqi1FnEPVLA+kZ pFyA== X-Gm-Message-State: AOJu0YzOWJ23Cc2PSDdtEaalEMaCAN6PJBb02IuJctUz8MVW5QBAOBoL rChhthJOeEQFMka0+prthWyk1oScGPvuN5btUxjowlMqmqhqhbzSfTRf4RWaU1WqZMjH7XunZtF Y5rwZThQ2fu8fpHHHkRRfoiZvUN5sWUUhgq38Hh1S41ILzHymTjbTf8Pvp3uG X-Gm-Gg: ASbGncuB843Wce+XmhXd1GuVab1sUBl0sdKcxCYAR4nVreu/PwJi7Z9kqgK9fCosTPZ l1Ux9UuEMssGiar2uV8CxsSBRYM0FlPBhsBqD/1sNBU1TFlyOgVG+GRT5FBzYBUXrS7ClGrYZHj WZuyRmWf9KhbPRC/ByBO51Ecjt5ryQ4Q4HfsslGtTzExL2WsEnwQydfCHXVJxAN+fxB5EM27g8n 3U8zUFz3BqNXKZVEpiWLPvU6D3IqP7JyK6SsWibF9cWlu38GpKgIuU0HbnQRvZt9y7xmP+J6wCw vJc5XGImqzlQOFgr0NoTlImCmLEMewj1of5pOHH0D/KDHESXqujjW8G/Khtmta1rovXD/jR6MpC 8Q3VYfwI4 X-Google-Smtp-Source: AGHT+IG0LIys8QBsxo6wQhpwp7EsjmXU7BLYOfSPwfY14NqUBoDwdsUstIs81vD490C89SeYS+NycmZLt561 X-Received: by 2002:a05:6a20:9144:b0:341:c255:7148 with SMTP id adf61e73a8af0-35ba1d9c626mr2891643637.28.1763094813248; Thu, 13 Nov 2025 20:33:33 -0800 (PST) Received: from postal.iol.unh.edu (postal.iol.unh.edu. [2606:4100:3880:1234::84]) by smtp-relay.gmail.com with ESMTPS id 41be03b00d2f7-bc36de09851sm275988a12.1.2025.11.13.20.33.33 (version=TLS1_2 cipher=ECDHE-ECDSA-AES128-GCM-SHA256 bits=128/128); Thu, 13 Nov 2025 20:33:33 -0800 (PST) X-Relaying-Domain: iol.unh.edu Date: Thu, 13 Nov 2025 20:33:33 -0800 (PST) Message-ID: <6916b11d.050a0220.2d2c4b.d513SMTPIN_ADDED_MISSING@mx.google.com> Received: from [172.21.0.2] (unknown [172.18.0.240]) by postal.iol.unh.edu (Postfix) with ESMTP id A83636051830; Thu, 13 Nov 2025 23:33:32 -0500 (EST) Subject: |SUCCESS| pw158739-158743 [PATCH] [v2,5/5] bus/fslmc: add support fo From: dpdklab@iol.unh.edu To: Test Report Cc: dpdk-test-reports@iol.unh.edu, Stephen Hemminger In-Reply-To: <20251113052931.1784953-5-hemant.agrawal@nxp.com> References: <20251113052931.1784953-5-hemant.agrawal@nxp.com> Content-Type: text/plain X-BeenThere: test-report@dpdk.org X-Mailman-Version: 2.1.29 Precedence: list List-Id: automatic DPDK test reports List-Unsubscribe: , List-Archive: List-Post: List-Help: List-Subscribe: , Errors-To: test-report-bounces@dpdk.org Test-Label: iol-unit-amd64-testing Test-Status: SUCCESS http://dpdk.org/patch/158743 _Testing PASS_ Submitter: Hemant Agrawal Date: Thursday, November 13 2025 05:29:31 DPDK git baseline: Repo:dpdk-next-net Branch: master CommitID:29807269854f9bfc72f1323273de8e23adc724d4 158739-158743 --> testing pass Upstream job id: Generic-VM-Unit-Test-DPDK#32517 Test environment and result as below: +-------------------------------+----------------+ | Environment | dpdk_unit_test | +===============================+================+ | CentOS Stream 9 | PASS | +-------------------------------+----------------+ | CentOS Stream 10 | PASS | +-------------------------------+----------------+ | Fedora Linux 40 | PASS | +-------------------------------+----------------+ | Debian GNU/Linux 12 | PASS | +-------------------------------+----------------+ | Fedora Linux 41 | PASS | +-------------------------------+----------------+ | Red Hat Enterprise Linux 8.10 | PASS | +-------------------------------+----------------+ | Fedora Linux 42 | PASS | +-------------------------------+----------------+ | Ubuntu 22.04 | PASS | +-------------------------------+----------------+ | Red Hat Enterprise Linux 9.5 | PASS | +-------------------------------+----------------+ | Ubuntu 20.04 | PASS | +-------------------------------+----------------+ | Ubuntu 24.04 | PASS | +-------------------------------+----------------+ | Windows Server 2022 | PASS | +-------------------------------+----------------+ CentOS Stream 9 Kernel: 5.15 Compiler: gcc gcc (GCC) 11.5.0 20240719 (Red Hat 11.5.0-11) CentOS Stream 10 Kernel: 5.15 Compiler: gcc gcc (GCC) 14.2.1 20250110 (Red Hat 14.2.1-8) Fedora Linux 40 Kernel: 5.15 Compiler: clang gcc (GCC) 14.2.1 20240912 (Red Hat 14.2.1-3) Debian GNU/Linux 12 Kernel: 5.15 Compiler: gcc gcc (Debian 12.2.0-14+deb12u1) 12.2.0 Fedora Linux 41 Kernel: 5.15 Compiler: clang gcc (GCC) 14.3.1 20250523 (Red Hat 14.3.1-1) Red Hat Enterprise Linux 8.10 Kernel: 5.15 Compiler: gcc gcc (GCC) 8.5.0 20210514 (Red Hat 8.5.0-22) Fedora Linux 42 Kernel: 5.15 Compiler: clang gcc (GCC) 15.2.1 20250808 (Red Hat 15.2.1-1) Ubuntu 22.04 Kernel: 5.15 Compiler: gcc gcc (Ubuntu 11.4.0-1ubuntu1~22.04) 11.4.0 Red Hat Enterprise Linux 9.5 Kernel: 5.15 Compiler: gcc gcc (GCC) 11.5.0 20240719 (Red Hat 11.5.0-2) Ubuntu 20.04 Kernel: 5.15 Compiler: gcc gcc (Ubuntu 9.4.0-1ubuntu1~20.04.2) 9.4.0 Ubuntu 24.04 Kernel: 5.15 Compiler: gcc gcc (Ubuntu 13.3.0-6ubuntu2~24.04) 13.3.0 Windows Server 2022 Kernel: 10.0.20348.2031 Compiler: clang 15.0.7, gcc 14.1.0 (MinGW), and MSVC VS 19.39.33521 To view detailed results, visit: https://lab.dpdk.org/results/dashboard/patchsets/34563/ UNH-IOL DPDK Community Lab To manage your email subscriptions, visit: https://lab.dpdk.org/results/dashboard/preferences/subscriptions/