From mboxrd@z Thu Jan 1 00:00:00 1970 Return-Path: Received: from mails.dpdk.org (mails.dpdk.org [217.70.189.124]) by inbox.dpdk.org (Postfix) with ESMTP id 1D5E448B00 for ; Fri, 14 Nov 2025 05:48:36 +0100 (CET) Received: from mails.dpdk.org (localhost [127.0.0.1]) by mails.dpdk.org (Postfix) with ESMTP id 099D540151; Fri, 14 Nov 2025 05:48:36 +0100 (CET) Received: from mail-yx1-f99.google.com (mail-yx1-f99.google.com [74.125.224.99]) by mails.dpdk.org (Postfix) with ESMTP id B9B1D40151 for ; Fri, 14 Nov 2025 05:48:34 +0100 (CET) Received: by mail-yx1-f99.google.com with SMTP id 956f58d0204a3-63f95dc176fso1457616d50.1 for ; Thu, 13 Nov 2025 20:48:34 -0800 (PST) DKIM-Signature: v=1; a=rsa-sha256; c=relaxed/relaxed; d=iol.unh.edu; s=unh-iol; t=1763095714; x=1763700514; darn=dpdk.org; h=references:in-reply-to:cc:to:from:subject:message-id:date:from:to :cc:subject:date:message-id:reply-to; bh=LeYK22hQ5EpRm+VnhpQBwYM8yI888e4KBDrpYB+s790=; b=ihyEjYMMBg/dJDsZw7Qn2PShxGLawmZCMi904PLARS7m7BnyEIZxTDl1mrfTkdsMdO UWU+4T+fhiyaFMqIalUevdRwgIc6WEZgIjneAGtuJoICNg1GKRxK04I90GFVzA9f9gDc FuADi2heZvbzfbxvUCEyjMUEcPzjmmpm35PYY= X-Google-DKIM-Signature: v=1; a=rsa-sha256; c=relaxed/relaxed; d=1e100.net; s=20230601; t=1763095714; x=1763700514; h=references:in-reply-to:cc:to:from:subject:message-id:date:x-gm-gg :x-gm-message-state:from:to:cc:subject:date:message-id:reply-to; bh=LeYK22hQ5EpRm+VnhpQBwYM8yI888e4KBDrpYB+s790=; b=vfa/dPjWxU/7+BqEQRT4wkwihr6I2liqxABQiS3f8NS8Ov5fHgGV3+l0QQdqSh7g3m pRPnV2RSvdrhzAzIqBms4iN8NNk6fZaluhoFTMwrzU36crm5AAHof2ciN6I1H4K7CIfu m0iJmDpDT08AfTCObK3eFQbEQS30wvDSBNvNYBFozODSMW4DNRjwnKP/GjJC8Fn0gHEV 2dth3MpR1RHmScg3nGHZd+oMW6r1JavKLqimXU+JwtyFC5r3JRGZMF+222awamZjDHOg dBfTn3E56BPGGSQV6dpCxsWddWwoUMHDpnMtOtsfjwWb4KjeuhViUKaABZLw/jeGWQYR eiEw== X-Gm-Message-State: AOJu0YwI2zhWYEbRaGFg3lIgpTIklkN+6kYO236rCsHG808yLXmH4PDP DCH+DmdP/L7PV08PL9JsNJ63xnpk6Ql1wJGD93M3GV/RPOYD4gr4nBnFidVzXzsCsMidcAMvW9v xJam+MNmLDpUEYQVuGtlg8WE8CT1sIv95TAsNEzz9IB+Z X-Gm-Gg: ASbGncs5dqTq2myozQ25fIUq4l7fngSc2K6b0jA2WGKdLWh56gFiH8BGnSfhR4L/IRp Ntr6Vhh912KYmq4wzc5vpIeX7tznuJLciesdiyUr5xgRGZsQqUTajKaLYTooLu6L0LyYb6uwEE2 urne5Wyv98E1uC56Nk4iLcD+VutTBNAHy8za37KSFfB6DvXm+30FPySDmLAOP/u5wrvBwNHBfYC 9yRKbOhmJcNi+TuL3qwn0z4dKC4ndI7CSKi0zIHv3MNELhMsgr2PIMc0ExMWmSjrezdW8VZ5ddK gkx362nemhLwcd29q9CJgwsqqqWv54+CbdwPUJaDoKwco+AOp4RzJZ70QKtSDwlRJzNMVMnQPUx 8kLJlKxPQAcqp+Z9zLxXRBsn1J6VC2sI= X-Google-Smtp-Source: AGHT+IGzaExX9I4QI+MaD02Gswj7cqtGi3ZzeCFzaEXjiLn7Yln/NhV3epRrIJZ9/tJ8pDDeHqYcXgXtOY9Q X-Received: by 2002:a05:690e:d4c:b0:640:d0d4:526d with SMTP id 956f58d0204a3-641e7553243mr1340147d50.9.1763095714074; Thu, 13 Nov 2025 20:48:34 -0800 (PST) Received: from postal.iol.unh.edu (postal.iol.unh.edu. [132.177.123.84]) by smtp-relay.gmail.com with ESMTPS id 956f58d0204a3-6410eae9644sm292695d50.13.2025.11.13.20.48.34 (version=TLS1_2 cipher=ECDHE-ECDSA-AES128-GCM-SHA256 bits=128/128); Thu, 13 Nov 2025 20:48:34 -0800 (PST) X-Relaying-Domain: iol.unh.edu Date: Thu, 13 Nov 2025 20:48:34 -0800 (PST) Message-ID: <6916b4a2.050a0220.ded01.e22cSMTPIN_ADDED_MISSING@mx.google.com> Received: from [172.21.0.3] (unknown [172.18.0.240]) by postal.iol.unh.edu (Postfix) with ESMTP id ADC0F6051830; Thu, 13 Nov 2025 23:48:33 -0500 (EST) Subject: |SUCCESS| pw158747-158750 [PATCH] [v3,4/4] bus/fslmc: add support fo From: dpdklab@iol.unh.edu To: Test Report Cc: dpdk-test-reports@iol.unh.edu, Stephen Hemminger In-Reply-To: <20251113095917.1973514-4-hemant.agrawal@nxp.com> References: <20251113095917.1973514-4-hemant.agrawal@nxp.com> Content-Type: text/plain X-BeenThere: test-report@dpdk.org X-Mailman-Version: 2.1.29 Precedence: list List-Id: automatic DPDK test reports List-Unsubscribe: , List-Archive: List-Post: List-Help: List-Subscribe: , Errors-To: test-report-bounces@dpdk.org Test-Label: iol-compile-arm64-testing Test-Status: SUCCESS http://dpdk.org/patch/158750 _Testing PASS_ Submitter: Hemant Agrawal Date: Thursday, November 13 2025 09:59:17 DPDK git baseline: Repo:dpdk-next-net Branch: master CommitID:29807269854f9bfc72f1323273de8e23adc724d4 158747-158750 --> testing pass Upstream job id: Generic-DPDK-Compile-Meson#443900 Test environment and result as below: +------------------------------+--------------------+ | Environment | dpdk_meson_compile | +==============================+====================+ | Ubuntu 20.04 | PASS | +------------------------------+--------------------+ | Red Hat Enterprise Linux 9.5 | PASS | +------------------------------+--------------------+ | Debian GNU/Linux 12 | PASS | +------------------------------+--------------------+ | Fedora Linux 42 | PASS | +------------------------------+--------------------+ | Ubuntu 22.04 | PASS | +------------------------------+--------------------+ | Ubuntu 24.04 | PASS | +------------------------------+--------------------+ | CentOS Stream 9 | PASS | +------------------------------+--------------------+ | CentOS Stream 10 | PASS | +------------------------------+--------------------+ Ubuntu 20.04 Kernel: 5.15 Compiler: aarch64-linux-gnu-gcc gcc (Ubuntu 9.4.0-1ubuntu1~20.04.2) 9.4.0 Red Hat Enterprise Linux 9.5 Kernel: 5.4 Compiler: gcc gcc (GCC) 11.5.0 20240719 (Red Hat 11.5.0-2) Debian GNU/Linux 12 Kernel: 5.4 Compiler: gcc gcc (Debian 12.2.0-14+deb12u1) 12.2.0 Fedora Linux 42 Kernel: 5.4 Compiler: gcc gcc (GCC) 15.2.1 20250808 (Red Hat 15.2.1-1) Ubuntu 22.04 Kernel: 5.4 Compiler: gcc gcc (Ubuntu 11.4.0-1ubuntu1~22.04) 11.4.0 Ubuntu 24.04 Kernel: 5.4 Compiler: gcc gcc (Ubuntu 13.3.0-6ubuntu2~24.04) 13.3.0 CentOS Stream 9 Kernel: 5.4 Compiler: gcc gcc (GCC) 11.5.0 20240719 (Red Hat 11.5.0-11) CentOS Stream 10 Kernel: 5.4 Compiler: gcc gcc (GCC) 14.2.1 20250110 (Red Hat 14.2.1-8) To view detailed results, visit: https://lab.dpdk.org/results/dashboard/patchsets/34568/ UNH-IOL DPDK Community Lab To manage your email subscriptions, visit: https://lab.dpdk.org/results/dashboard/preferences/subscriptions/