From mboxrd@z Thu Jan 1 00:00:00 1970 Return-Path: Received: from mails.dpdk.org (mails.dpdk.org [217.70.189.124]) by inbox.dpdk.org (Postfix) with ESMTP id 410E048B01 for ; Fri, 14 Nov 2025 06:20:54 +0100 (CET) Received: from mails.dpdk.org (localhost [127.0.0.1]) by mails.dpdk.org (Postfix) with ESMTP id 1DCAB40151; Fri, 14 Nov 2025 06:20:54 +0100 (CET) Received: from mail-pf1-f225.google.com (mail-pf1-f225.google.com [209.85.210.225]) by mails.dpdk.org (Postfix) with ESMTP id 55DFD40151 for ; Fri, 14 Nov 2025 06:20:52 +0100 (CET) Received: by mail-pf1-f225.google.com with SMTP id d2e1a72fcca58-7aad4823079so1501084b3a.0 for ; Thu, 13 Nov 2025 21:20:52 -0800 (PST) DKIM-Signature: v=1; a=rsa-sha256; c=relaxed/relaxed; d=iol.unh.edu; s=unh-iol; t=1763097651; x=1763702451; darn=dpdk.org; h=cc:to:from:subject:message-id:date:from:to:cc:subject:date :message-id:reply-to; bh=7qd0fyACzt9MIBXK61fHa6uVUpAlV0OGw4rrkjzkzNc=; b=OvGA2nIspScYRt2fKXUfUvAxkajBRhUN1axeDIrS6EbZacLQv/nZf4bhAXAKYb6xfX 9p+pCpIJfdj+d2zZTmEWBwu1oVD6ydI91xc8VQNkXoiev285n0a0btSFyEwHI+WGTQEQ EGxS02J+reC7B3TA+NFlsmL9aMQnKHE+YqLxM= X-Google-DKIM-Signature: v=1; a=rsa-sha256; c=relaxed/relaxed; d=1e100.net; s=20230601; t=1763097651; x=1763702451; h=cc:to:from:subject:message-id:date:x-gm-gg:x-gm-message-state:from :to:cc:subject:date:message-id:reply-to; bh=7qd0fyACzt9MIBXK61fHa6uVUpAlV0OGw4rrkjzkzNc=; b=A86WxBnTGOS7zqxzKiyqjQRs0FsTT2x9nbTY5LXYmeY6MgRfL58Mmggbm6n91W9sOs TXmVGiZv98KcW9ZagiVJXU2YzGviaeFgERxx0CqCT9218F+BU5J/4f7VHMrS3yDyCjQm eY9ah51ZZ/SAgC13RZaFTdZymsCzjCrxaWsNOFKdnDbAqsLx7uD7J2Zp+7GJ5Jq7JOWT ptuHpvrVD558UVFPl3s9f7kulBpfi7OZA3qwMHteVfJ7auYogsPOLM9zPVLhrrjbdY3f PTdcT5ik7jcAqNlwRN578SqblLemXujubrqVd5W0DsARTu7x62iwTwzUnXl2b7qqaIjI LBaQ== X-Gm-Message-State: AOJu0YwQ1Co6mXVmcGh0d/Fmo4BmQPSWY8dkZQPi0tnycoGi8vkajruO SPy2NFdW7typo30wlRwGcljeAOOPQXwfKSrHBsw1pxtIfxL6lVdLIpQ+qgmrWujUEpAVYY71q3A YP9jk1JE2tVobuavkzo4KMKC8pj3o0u/vdygqbuNqfy/ERp5DsIjG X-Gm-Gg: ASbGncsZ9pOI5Zcv0vzXXCus+ss3TzjBJqx1QSHr3YIsn9nhhmX3rpY1T4X5WqYYfea F+0b8xkrcKaQAu+AfxWw+8kDETzXLYNRa/w0K9jbM8XoUnsceVdq9/zJWz9U2Qd+pK0zVHFM1c3 sQssi2koXUYgTRm0O2kjUiWZKylRJEmHJMmD2A8g7GefiUOUbfPDQiEm6PHZmK30LoordQ7a8Gw RkHKok3cxlkpOrhN5x6fmx2BMH/OJa9oSdYWs/4UcF0aNlY3BeSq5q+zlEjUVtJ0NxMKP6U7N3v lBtCKUGPS8j8uvm8IhwT6RDEXsTL9dJKNbEeLyBKOO6u9y41LfJoS3Esl913TgEJZj2BzXYAsrK HbUchJ1on X-Google-Smtp-Source: AGHT+IGItAfkaQGeV9Yr6xQNEuxCjv3tZuZ8Dw4oiPv0+3+mW4DjaCfbPHj1kaM+8RmS4KsddR0yT33n8udB X-Received: by 2002:a05:6300:8e0f:b0:35b:d281:8a65 with SMTP id adf61e73a8af0-35bd28190c8mr1497671637.13.1763097651399; Thu, 13 Nov 2025 21:20:51 -0800 (PST) Received: from postal.iol.unh.edu (postal.iol.unh.edu. [2606:4100:3880:1234::84]) by smtp-relay.gmail.com with ESMTPS id 41be03b00d2f7-bc36de0985esm294871a12.2.2025.11.13.21.20.51 (version=TLS1_2 cipher=ECDHE-ECDSA-AES128-GCM-SHA256 bits=128/128); Thu, 13 Nov 2025 21:20:51 -0800 (PST) X-Relaying-Domain: iol.unh.edu Date: Thu, 13 Nov 2025 21:20:51 -0800 (PST) Message-ID: <6916bc33.630a0220.9912.e6b9SMTPIN_ADDED_MISSING@mx.google.com> Received: from [172.21.0.3] (unknown [172.18.0.240]) by postal.iol.unh.edu (Postfix) with ESMTP id 8BDD26051830; Fri, 14 Nov 2025 00:20:50 -0500 (EST) Subject: |SUCCESS| [GIT MASTER] 9784db2c5af1eecd02fc21132b59b5b266039b87 From: dpdklab@iol.unh.edu To: Test Report Cc: dpdk-test-reports@iol.unh.edu, Xueming Li , Christian Ehrhardt , Kevin Traynor , Luca Boccassi Content-Type: text/plain X-BeenThere: test-report@dpdk.org X-Mailman-Version: 2.1.29 Precedence: list List-Id: automatic DPDK test reports List-Unsubscribe: , List-Archive: List-Post: List-Help: List-Subscribe: , Errors-To: test-report-bounces@dpdk.org _Testing PASS_ Branch: tags/v22.11 9784db2c5af1eecd02fc21132b59b5b266039b87 --> testing pass Upstream job id: Windows-Compile-DPDK-Native#32311 Test environment and result as below: +-------------------------------+--------------------+-------------------------+----------------------+ | Environment | dpdk_meson_compile | dpdk_llvm_clang_compile | dpdk_mingw64_compile | +===============================+====================+=========================+======================+ | FreeBSD 14.2 | PASS | SKIPPED | SKIPPED | +-------------------------------+--------------------+-------------------------+----------------------+ | Ubuntu 20.04 | PASS | SKIPPED | SKIPPED | +-------------------------------+--------------------+-------------------------+----------------------+ | CentOS Stream 9 | PASS | SKIPPED | SKIPPED | +-------------------------------+--------------------+-------------------------+----------------------+ | CentOS Stream 10 | PASS | SKIPPED | SKIPPED | +-------------------------------+--------------------+-------------------------+----------------------+ | Debian GNU/Linux 12 | PASS | SKIPPED | SKIPPED | +-------------------------------+--------------------+-------------------------+----------------------+ | Fedora Linux 42 | PASS | SKIPPED | SKIPPED | +-------------------------------+--------------------+-------------------------+----------------------+ | openSUSE Leap 15.6 | PASS | SKIPPED | SKIPPED | +-------------------------------+--------------------+-------------------------+----------------------+ | Red Hat Enterprise Linux 8.10 | PASS | SKIPPED | SKIPPED | +-------------------------------+--------------------+-------------------------+----------------------+ | Red Hat Enterprise Linux 9.5 | PASS | SKIPPED | SKIPPED | +-------------------------------+--------------------+-------------------------+----------------------+ | Ubuntu 22.04 | PASS | SKIPPED | SKIPPED | +-------------------------------+--------------------+-------------------------+----------------------+ | Ubuntu 24.04 | PASS | SKIPPED | SKIPPED | +-------------------------------+--------------------+-------------------------+----------------------+ | Windows Server 2022 | SKIPPED | PASS | PASS | +-------------------------------+--------------------+-------------------------+----------------------+ FreeBSD 14.2 Kernel: 14.2-RELEASE Compiler: clang 18.1.6 Ubuntu 20.04 Kernel: 4.19 Compiler: gcc gcc (Ubuntu 9.4.0-1ubuntu1~20.04.2) 9.4.0 CentOS Stream 9 Kernel: 5.15 Compiler: gcc gcc (GCC) 11.5.0 20240719 (Red Hat 11.5.0-11) CentOS Stream 10 Kernel: 5.15 Compiler: gcc gcc (GCC) 14.2.1 20250110 (Red Hat 14.2.1-8) Debian GNU/Linux 12 Kernel: 5.15 Compiler: gcc gcc (Debian 12.2.0-14+deb12u1) 12.2.0 Fedora Linux 42 Kernel: 5.15 Compiler: clang gcc (GCC) 15.2.1 20250808 (Red Hat 15.2.1-1) openSUSE Leap 15.6 Kernel: 5.15 Compiler: gcc gcc (SUSE Linux) 7.5.0 Red Hat Enterprise Linux 8.10 Kernel: 5.15 Compiler: gcc gcc (GCC) 8.5.0 20210514 (Red Hat 8.5.0-22) Red Hat Enterprise Linux 9.5 Kernel: 5.15 Compiler: gcc gcc (GCC) 11.5.0 20240719 (Red Hat 11.5.0-2) Ubuntu 22.04 Kernel: 5.15 Compiler: gcc gcc (Ubuntu 11.4.0-1ubuntu1~22.04) 11.4.0 Ubuntu 24.04 Kernel: 5.15 Compiler: gcc gcc (Ubuntu 13.3.0-6ubuntu2~24.04) 13.3.0 Windows Server 2022 Kernel: 10.0.20348.2031 Compiler: clang 15.0.7, gcc 14.1.0 (MinGW), and MSVC VS 19.39.33521 To view detailed results, visit: https://lab.dpdk.org/results/dashboard/tarballs/35549/ UNH-IOL DPDK Community Lab To manage your email subscriptions, visit: https://lab.dpdk.org/results/dashboard/preferences/subscriptions/