From mboxrd@z Thu Jan 1 00:00:00 1970 Return-Path: Received: from mails.dpdk.org (mails.dpdk.org [217.70.189.124]) by inbox.dpdk.org (Postfix) with ESMTP id 3F5C448B01 for ; Fri, 14 Nov 2025 06:29:34 +0100 (CET) Received: from mails.dpdk.org (localhost [127.0.0.1]) by mails.dpdk.org (Postfix) with ESMTP id 1BB8B40151; Fri, 14 Nov 2025 06:29:34 +0100 (CET) Received: from mail-oa1-f99.google.com (mail-oa1-f99.google.com [209.85.160.99]) by mails.dpdk.org (Postfix) with ESMTP id 03BC340151 for ; Fri, 14 Nov 2025 06:29:32 +0100 (CET) Received: by mail-oa1-f99.google.com with SMTP id 586e51a60fabf-3c97709a4fbso441164fac.0 for ; Thu, 13 Nov 2025 21:29:32 -0800 (PST) DKIM-Signature: v=1; a=rsa-sha256; c=relaxed/relaxed; d=iol.unh.edu; s=unh-iol; t=1763098172; x=1763702972; darn=dpdk.org; h=references:in-reply-to:cc:to:from:subject:message-id:date:from:to :cc:subject:date:message-id:reply-to; bh=EtogEya0trbgQSETdVrdy3rICodVYYTzzGsoM5Sneoc=; b=jJ3zgzHi/WD0WvoTBh4NdxSFtlSzkGpaMtPTBRPzZtkenI6Pxo1QZ7dkvDBFfoCFr/ Ai+mD9O3FpHg5ekJ3pCpHpdYwTTejG8AdAlu3RwkRYT/q+vlPt09UULf89io0DQ7yTM3 OKKzS3PmNdr/C1rnOXAXgOhnK3PSLMVVKOo30= X-Google-DKIM-Signature: v=1; a=rsa-sha256; c=relaxed/relaxed; d=1e100.net; s=20230601; t=1763098172; x=1763702972; h=references:in-reply-to:cc:to:from:subject:message-id:date:x-gm-gg :x-gm-message-state:from:to:cc:subject:date:message-id:reply-to; bh=EtogEya0trbgQSETdVrdy3rICodVYYTzzGsoM5Sneoc=; b=XzyEUZSakgfKvh/hb42J5eH2gFNdUaKojai8iotqd5xuIuytsv5l7IH/LwbBqv1bKK mvUWumQ0AZGdUrLPxE/axWqcvwYJKsVhIy6U+aQt6/2y0hLp+gXFu4k2ddz1HVkUJquZ TANVRBl0bTvQqNLcCZcHjnE3URTTR3R0h2QeeQmdufCZ1A/hNQXx1zsHJw6m+/oDmd/0 /O4eN5zBU772G+KtXkM9qlihcaIGZc0gm4ekP+lYEFnZiOAhzO7/xvWYNIRASegJFA9D aBYUjTdSoCWl8QrN0Jsco5PxbP6sJXrC+MbsPodzQYKvawBVgqULD9Og+S79qt+rg5Rg NtwA== X-Gm-Message-State: AOJu0YzmFZARSYi03TvRbICZI5DS3u/haJqGtwg/IRDM5SdQxp0TzYCw zgZwKrUZoKybt1NrZfBydysDQTYNEiKfBxRm4h7siGvQoFW9GlGYGC8aeQIBQRqeuBrcQF1rR42 GL/UgHABsY/bUTfElPML0QEby5QeCpS7EfW/yYKPvh6vZ X-Gm-Gg: ASbGncsphzGYpeO11Usg2qM6hYbLqZ2rYK9Yp0qudMUjtCRt6GohkRAYgm/3vp2PizN 4fxIzlga+Qb2/1Npf8reueAKSOQTuDJFFOBC7ArWkqSSfpDk/d4Ih/49BY6Y77+MNxiWbMrQWJP yLb24r05pihnpE1+7ggb1NTA3lSZSlWtfD5suzixs/+n2t3mPzyVrmzJsc8rNLpvSRD+hfHcr0t jggEk8XkHzvOgh812j8+vNoyXqLT6Pom9JWblJdvObq4haG9FpII80ak358hshaFt9EkMNgvyjw 7rAF/kx793XloNG7udz35cyi2gBIgdWwM7duwqpWQ0UkmvVWOy3TMek71C69bScRLPLcs2t5AGH U2UYvv9w/bpRzZtTVoUoaaoV177OxkU4= X-Google-Smtp-Source: AGHT+IHM+3dWUtF1DlHfh4UHmgDMpv5IeVcCbBpRRmasAKUl8TOVms6oa4f/GZ/zdbIA26JiaDHn0jAP9rKA X-Received: by 2002:a05:6871:3a0f:b0:3e8:4b31:8be3 with SMTP id 586e51a60fabf-3e868efa5a7mr1039998fac.12.1763098172130; Thu, 13 Nov 2025 21:29:32 -0800 (PST) Received: from postal.iol.unh.edu (postal.iol.unh.edu. [132.177.123.84]) by smtp-relay.gmail.com with ESMTPS id 46e09a7af769-7c73a35fcdfsm371445a34.8.2025.11.13.21.29.32 (version=TLS1_2 cipher=ECDHE-ECDSA-AES128-GCM-SHA256 bits=128/128); Thu, 13 Nov 2025 21:29:32 -0800 (PST) X-Relaying-Domain: iol.unh.edu Date: Thu, 13 Nov 2025 21:29:32 -0800 (PST) Message-ID: <6916be3c.050a0220.3b910.129fSMTPIN_ADDED_MISSING@mx.google.com> Received: from [172.21.0.2] (unknown [172.18.0.240]) by postal.iol.unh.edu (Postfix) with ESMTP id A3C886051830; Fri, 14 Nov 2025 00:29:31 -0500 (EST) Subject: |SUCCESS| pw158744 [PATCH] net/mlx5: fix cross GVMI metadata match f From: dpdklab@iol.unh.edu To: Test Report Cc: dpdk-test-reports@iol.unh.edu In-Reply-To: <20251113071746.434067-1-getelson@nvidia.com> References: <20251113071746.434067-1-getelson@nvidia.com> Content-Type: text/plain X-BeenThere: test-report@dpdk.org X-Mailman-Version: 2.1.29 Precedence: list List-Id: automatic DPDK test reports List-Unsubscribe: , List-Archive: List-Post: List-Help: List-Subscribe: , Errors-To: test-report-bounces@dpdk.org Test-Label: iol-unit-amd64-testing Test-Status: SUCCESS http://dpdk.org/patch/158744 _Testing PASS_ Submitter: Gregory Etelson Date: Thursday, November 13 2025 07:17:45 DPDK git baseline: Repo:dpdk-next-net-mlx Branch: master CommitID:ae657d56b1f0ea979b3f611edf28d773efc2ddcf 158744 --> testing pass Upstream job id: Generic-VM-Unit-Test-DPDK#32519 Test environment and result as below: +-------------------------------+----------------+ | Environment | dpdk_unit_test | +===============================+================+ | CentOS Stream 9 | PASS | +-------------------------------+----------------+ | Fedora Linux 40 | PASS | +-------------------------------+----------------+ | CentOS Stream 10 | PASS | +-------------------------------+----------------+ | Fedora Linux 42 | PASS | +-------------------------------+----------------+ | Debian GNU/Linux 12 | PASS | +-------------------------------+----------------+ | Ubuntu 20.04 | PASS | +-------------------------------+----------------+ | Ubuntu 22.04 | PASS | +-------------------------------+----------------+ | Fedora Linux 41 | PASS | +-------------------------------+----------------+ | Red Hat Enterprise Linux 8.10 | PASS | +-------------------------------+----------------+ | Red Hat Enterprise Linux 9.5 | PASS | +-------------------------------+----------------+ | Ubuntu 24.04 | PASS | +-------------------------------+----------------+ | Windows Server 2022 | PASS | +-------------------------------+----------------+ CentOS Stream 9 Kernel: 5.15 Compiler: gcc gcc (GCC) 11.5.0 20240719 (Red Hat 11.5.0-11) Fedora Linux 40 Kernel: 5.15 Compiler: gcc gcc (GCC) 14.2.1 20240912 (Red Hat 14.2.1-3) CentOS Stream 10 Kernel: 5.15 Compiler: gcc gcc (GCC) 14.2.1 20250110 (Red Hat 14.2.1-8) Fedora Linux 42 Kernel: 5.15 Compiler: gcc gcc (GCC) 15.2.1 20250808 (Red Hat 15.2.1-1) Debian GNU/Linux 12 Kernel: 5.15 Compiler: gcc gcc (Debian 12.2.0-14+deb12u1) 12.2.0 Ubuntu 20.04 Kernel: 5.15 Compiler: gcc gcc (Ubuntu 9.4.0-1ubuntu1~20.04.2) 9.4.0 Ubuntu 22.04 Kernel: 5.15 Compiler: gcc gcc (Ubuntu 11.4.0-1ubuntu1~22.04) 11.4.0 Fedora Linux 41 Kernel: 5.15 Compiler: gcc gcc (GCC) 14.3.1 20250523 (Red Hat 14.3.1-1) Red Hat Enterprise Linux 8.10 Kernel: 5.15 Compiler: gcc gcc (GCC) 8.5.0 20210514 (Red Hat 8.5.0-22) Red Hat Enterprise Linux 9.5 Kernel: 5.15 Compiler: gcc gcc (GCC) 11.5.0 20240719 (Red Hat 11.5.0-2) Ubuntu 24.04 Kernel: 5.15 Compiler: gcc gcc (Ubuntu 13.3.0-6ubuntu2~24.04) 13.3.0 Windows Server 2022 Kernel: 10.0.20348.2031 Compiler: clang 15.0.7, gcc 14.1.0 (MinGW), and MSVC VS 19.39.33521 To view detailed results, visit: https://lab.dpdk.org/results/dashboard/patchsets/34564/ UNH-IOL DPDK Community Lab To manage your email subscriptions, visit: https://lab.dpdk.org/results/dashboard/preferences/subscriptions/