From mboxrd@z Thu Jan 1 00:00:00 1970 Return-Path: Received: from mails.dpdk.org (mails.dpdk.org [217.70.189.124]) by inbox.dpdk.org (Postfix) with ESMTP id 8F9AD48B01 for ; Fri, 14 Nov 2025 06:44:03 +0100 (CET) Received: from mails.dpdk.org (localhost [127.0.0.1]) by mails.dpdk.org (Postfix) with ESMTP id 8A13A40151; Fri, 14 Nov 2025 06:44:03 +0100 (CET) Received: from mail-il1-f228.google.com (mail-il1-f228.google.com [209.85.166.228]) by mails.dpdk.org (Postfix) with ESMTP id 5942740151 for ; Fri, 14 Nov 2025 06:44:02 +0100 (CET) Received: by mail-il1-f228.google.com with SMTP id e9e14a558f8ab-433101f2032so7615275ab.1 for ; Thu, 13 Nov 2025 21:44:02 -0800 (PST) DKIM-Signature: v=1; a=rsa-sha256; c=relaxed/relaxed; d=iol.unh.edu; s=unh-iol; t=1763099041; x=1763703841; darn=dpdk.org; h=references:in-reply-to:cc:to:from:subject:message-id:date:from:to :cc:subject:date:message-id:reply-to; bh=ekeHUmIVt3YPX3GNV1okKweWThnjPObbFw9SNzG+vfw=; b=MDvdMj5PAO+M1+h+EnBgzTWc30AAxQO874NKJlWRSJNUeqNxL5dFLOABpAgbLporBW Xw77XXwnY/jt9LW/0i2t1jfwKyCb6qcIopnZVPQeLCYrDdHl37xFvL63up3Cy3bFxPWB ko7zNqVUSadOIK2VlHwxRenZoJsPSSd0ziOqA= X-Google-DKIM-Signature: v=1; a=rsa-sha256; c=relaxed/relaxed; d=1e100.net; s=20230601; t=1763099041; x=1763703841; h=references:in-reply-to:cc:to:from:subject:message-id:date:x-gm-gg :x-gm-message-state:from:to:cc:subject:date:message-id:reply-to; bh=ekeHUmIVt3YPX3GNV1okKweWThnjPObbFw9SNzG+vfw=; b=KHLNKNxhd9pd3dQ6FG6BN3rFSweXGyt886BSXaOUBHLGW4l3fqMSyV6szMgMAIfOPw J9cmrB22CooUal1JpBryzwHwZAJgwdARgoh3RU1TuhMTvWCsdK1GqTYj9wHSKG+Ia99E nTSnv5b6Akf/kTup/xkLxM7rbsXnXGfDi2NeWMqI2yqUhnojnuJ02yBILC9ZUveS9F3u iCN53awiMe7SF39mONDN72EygQpP9KMz4lMNC1vZ2j7A5eg8GrAC2qtnWZq3vKi/L2or 8YWUTN1o7jeS8WKQOD/JxC7LvoUR6aWRx2PLjrJ/eoC769XyuNdiUevZCqM9UMOcceSR SZTQ== X-Gm-Message-State: AOJu0YybQ+ggag9Rih2dCCOvPkaDaJDuwMjpFZ/uTY4cX3+uMA20+cse 3B49CSzULUD/qcrb5xMCKakypyHrGXhJmLESu+xxLt2AmZVkoGoRcCR7iovHRLAEJJFOKYNVw2/ qENrb+LeSO7xpLIeLbA1475olWRE+YJcw8NnkO9eT5YpX X-Gm-Gg: ASbGncuSRZUJ+wo9lvNDGivBpIPnfRTujVUWje8jDgBdIhMq+zyHAi1lNGMrOwjYe+q 6F9aDecuG7YcgLnY6FwYI1cPaS1hk3nfficgenm0mEVNpqhQ8JUupeK3o3oeCUfPFhqGIbgA2/r t3mC7tEMLsils4Tuz/faZQOTP98z6r0bsSRGfMwdViWsszNO0TVdG900ufalUFb2eJ+eI0CYQi5 YReZqLOcHsABXUQ8QeQIRM9bD4HzhxMmaI92hOU/1/Okonxn/isdt5QsJw4sBKFpyxplDyMn0nc S8DfeMBqKtR6ID4zEPoRPZQu3qRtSprRjwVezKsC9LpzZeMdeboc4SOnOJOZTWlzJemLpWQVYwy qMHpLdVnAvLwIQYIm1oMRJrIWN+N8tdY= X-Google-Smtp-Source: AGHT+IF6aG7JLDfos3ZO/qjLu481TW0WVE8H0KLtStiUAHunVDcOFIdUf+4VbYX38WpXnqqnIZu3M88KXEEv X-Received: by 2002:a05:6e02:148f:b0:433:2597:8cc with SMTP id e9e14a558f8ab-4348c9498fbmr31654805ab.29.1763099041580; Thu, 13 Nov 2025 21:44:01 -0800 (PST) Received: from postal.iol.unh.edu (postal.iol.unh.edu. [132.177.123.84]) by smtp-relay.gmail.com with ESMTPS id e9e14a558f8ab-434839d52a6sm3279925ab.26.2025.11.13.21.44.01 (version=TLS1_2 cipher=ECDHE-ECDSA-AES128-GCM-SHA256 bits=128/128); Thu, 13 Nov 2025 21:44:01 -0800 (PST) X-Relaying-Domain: iol.unh.edu Date: Thu, 13 Nov 2025 21:44:01 -0800 (PST) Message-ID: <6916c1a1.050a0220.176e1d.fb8dSMTPIN_ADDED_MISSING@mx.google.com> Received: from [172.21.0.2] (unknown [172.18.0.240]) by postal.iol.unh.edu (Postfix) with ESMTP id 330296051830; Fri, 14 Nov 2025 00:44:01 -0500 (EST) Subject: |SUCCESS| pw158765-158768 [PATCH] [v5,4/4] vhost_user: Function defs From: dpdklab@iol.unh.edu To: Test Report Cc: dpdk-test-reports@iol.unh.edu, Chenbo Xia , Maxime Coquelin In-Reply-To: <20251113124425.2913881-5-pravin.bathija@dell.com> References: <20251113124425.2913881-5-pravin.bathija@dell.com> Content-Type: text/plain X-BeenThere: test-report@dpdk.org X-Mailman-Version: 2.1.29 Precedence: list List-Id: automatic DPDK test reports List-Unsubscribe: , List-Archive: List-Post: List-Help: List-Subscribe: , Errors-To: test-report-bounces@dpdk.org Test-Label: iol-compile-amd64-testing Test-Status: SUCCESS http://dpdk.org/patch/158768 _Testing PASS_ Submitter: Bathija, Pravin Date: Thursday, November 13 2025 12:44:25 DPDK git baseline: Repo:dpdk-next-virtio Branch: master CommitID:6b37c26a95388aa41bb5267c7c42f604fd571a38 158765-158768 --> testing pass Upstream job id: Generic-DPDK-Compile-Meson#444070 Test environment and result as below: +-------------------------------+--------------------+------------------+ | Environment | dpdk_meson_compile | dpdk_compile_ovs | +===============================+====================+==================+ | Ubuntu 20.04 | PASS | SKIPPED | +-------------------------------+--------------------+------------------+ | FreeBSD 14.2 | PASS | SKIPPED | +-------------------------------+--------------------+------------------+ | CentOS Stream 9 | PASS | SKIPPED | +-------------------------------+--------------------+------------------+ | CentOS Stream 10 | PASS | SKIPPED | +-------------------------------+--------------------+------------------+ | Debian GNU/Linux 12 | PASS | SKIPPED | +-------------------------------+--------------------+------------------+ | Fedora Linux 42 | PASS | PASS | +-------------------------------+--------------------+------------------+ | openSUSE Leap 15.6 | PASS | SKIPPED | +-------------------------------+--------------------+------------------+ | Red Hat Enterprise Linux 8.10 | PASS | SKIPPED | +-------------------------------+--------------------+------------------+ | Red Hat Enterprise Linux 9.5 | PASS | SKIPPED | +-------------------------------+--------------------+------------------+ | Ubuntu 22.04 | PASS | SKIPPED | +-------------------------------+--------------------+------------------+ | Ubuntu 24.04 | PASS | PASS | +-------------------------------+--------------------+------------------+ | Alpine Linux 3.22.0 | PASS | SKIPPED | +-------------------------------+--------------------+------------------+ Ubuntu 20.04 Kernel: 4.19 Compiler: gcc gcc (Ubuntu 9.4.0-1ubuntu1~20.04.2) 9.4.0 FreeBSD 14.2 Kernel: 14.2-RELEASE Compiler: clang 18.1.6 CentOS Stream 9 Kernel: 5.15 Compiler: gcc gcc (GCC) 11.5.0 20240719 (Red Hat 11.5.0-11) CentOS Stream 10 Kernel: 5.15 Compiler: gcc gcc (GCC) 14.2.1 20250110 (Red Hat 14.2.1-8) Debian GNU/Linux 12 Kernel: 5.15 Compiler: gcc gcc (Debian 12.2.0-14+deb12u1) 12.2.0 Fedora Linux 42 Kernel: 5.15 Compiler: clang gcc (GCC) 15.2.1 20250808 (Red Hat 15.2.1-1) openSUSE Leap 15.6 Kernel: 5.15 Compiler: gcc gcc (SUSE Linux) 7.5.0 Red Hat Enterprise Linux 8.10 Kernel: 5.15 Compiler: gcc gcc (GCC) 8.5.0 20210514 (Red Hat 8.5.0-22) Red Hat Enterprise Linux 9.5 Kernel: 5.15 Compiler: gcc gcc (GCC) 11.5.0 20240719 (Red Hat 11.5.0-2) Ubuntu 22.04 Kernel: 5.15 Compiler: gcc gcc (Ubuntu 11.4.0-1ubuntu1~22.04) 11.4.0 Ubuntu 24.04 Kernel: 5.15 Compiler: gcc gcc (Ubuntu 13.3.0-6ubuntu2~24.04) 13.3.0 Alpine Linux 3.22.0 Kernel: 5.15 Compiler: gcc gcc (Alpine 14.2.0) 14.2.0 To view detailed results, visit: https://lab.dpdk.org/results/dashboard/patchsets/34576/ UNH-IOL DPDK Community Lab To manage your email subscriptions, visit: https://lab.dpdk.org/results/dashboard/preferences/subscriptions/