From mboxrd@z Thu Jan 1 00:00:00 1970 Return-Path: Received: from mails.dpdk.org (mails.dpdk.org [217.70.189.124]) by inbox.dpdk.org (Postfix) with ESMTP id B43DB48B01 for ; Fri, 14 Nov 2025 07:06:37 +0100 (CET) Received: from mails.dpdk.org (localhost [127.0.0.1]) by mails.dpdk.org (Postfix) with ESMTP id AF27C40151; Fri, 14 Nov 2025 07:06:37 +0100 (CET) Received: from mail-pj1-f97.google.com (mail-pj1-f97.google.com [209.85.216.97]) by mails.dpdk.org (Postfix) with ESMTP id 4891640151 for ; Fri, 14 Nov 2025 07:06:35 +0100 (CET) Received: by mail-pj1-f97.google.com with SMTP id 98e67ed59e1d1-3437ea05540so1645724a91.0 for ; Thu, 13 Nov 2025 22:06:35 -0800 (PST) DKIM-Signature: v=1; a=rsa-sha256; c=relaxed/relaxed; d=iol.unh.edu; s=unh-iol; t=1763100395; x=1763705195; darn=dpdk.org; h=references:in-reply-to:cc:to:from:subject:message-id:date:from:to :cc:subject:date:message-id:reply-to; bh=bs9S3hl+Q99T7sQsXhYSxm1auWGOnq/PhN/7ZihQsjw=; b=cxbITefOjZgnoZWYECTueEvzkSmnWbBWjNPzqmTStC5AaYiTkvkCdNVKGpqG84WNEb flm2pmWX0oiEF1kk/I1L++bO5TOsoUHBClo3uqcSvC0/+DkNdT4fvfK/DQN4tGomrOdf 4WHGJToL/+qEQZej4unOHJ9gqTKzmNIPDB0D0= X-Google-DKIM-Signature: v=1; a=rsa-sha256; c=relaxed/relaxed; d=1e100.net; s=20230601; t=1763100395; x=1763705195; h=references:in-reply-to:cc:to:from:subject:message-id:date:x-gm-gg :x-gm-message-state:from:to:cc:subject:date:message-id:reply-to; bh=bs9S3hl+Q99T7sQsXhYSxm1auWGOnq/PhN/7ZihQsjw=; b=wQV8BG6wr1qaZO2Oxc/QaNlHikhf1JUbQTIiXPnKeoabJUMrBFEERwzmU+0tD7BDH+ /6lDdAWYkg4Fv3sfnecX6Nu9nEae5gtMwcKJIBNb4o9vJuU6UpEAMAxVkDfHwHmzMPm+ 5FRISi3Ioty7STI92bqo01gHxK3wT85FdnPbiKMiuRg6+sW0cJdYDLE4N7pIf8gFLo0V YlMt4Yy/3cEuAZ0HAsQv4r04+0w1YL5kYpy1vyNAkswnDkkNRpUkkg0koHxpl3wfJTpp SczYmRw2relnTn1ADh45YH7vMM11dkHS/8lLjrjGs1aBN7HXkcchOrGdJXRA0ADhiZpN NT3A== X-Gm-Message-State: AOJu0Yz+q8ptR6waMj539RbSRNgcl/VZwkrdXQFfZMTDUv/ls5OEARRT hIDJUvXXDu88EJoOPDTRPG9jJYL6mTNVvDHkgE/PVaGxibF4fXO/DAlmayLWA7lVjnM/rTGdTc5 5KTBok6XuNl0IvUcNfujoUcQM3bO7/ONYFcXei+Jn1b+TbebmOnIWDAG8J2/o X-Gm-Gg: ASbGncsyYZ03XglTXk08fjKvIsrdGH4annmvtka1lQAnqeu9IwneFAng3Ai6flhdK39 Z7wRFco1SjyxqsYaiKCWQhwuTMRaawQ/E/LzY/EeN1PsiRu/8RXMnmX1XxU9uT6u0Jyf5Nx+AcK ZRgPnr62ZSHSNSwaSmtE/wa7JA46yA8Z1+6YLqLzCOz5rU+m+Ap1BOB+zM6SdOJmIT1Gu20+iUk UE0UZelyHTp0L/8ZUW/3vRcsx0nsNWGlJvJC1ZijziYpF5CAC6cq2Em1wV6WBBLYbqxQWbGyuN0 JgSjxo7hOmghPor3rPc5AV+m9yQftxlscxOZnNHBii9ssFmoVbVRC++zvMsvsxJj/FXsDvibDFs sHD3f2PTA X-Google-Smtp-Source: AGHT+IFTsWdws3Md6IxP0HY4gRzsLyCCI/EXee9yKurpRipmUs7RBd0TMR2JaYKx3p+lKUpukCH/In2dBtrX X-Received: by 2002:a17:90b:5407:b0:340:54a1:d703 with SMTP id 98e67ed59e1d1-343fa754ba4mr1969308a91.35.1763100395059; Thu, 13 Nov 2025 22:06:35 -0800 (PST) Received: from postal.iol.unh.edu (postal.iol.unh.edu. [2606:4100:3880:1234::84]) by smtp-relay.gmail.com with ESMTPS id 98e67ed59e1d1-343ed4c95c9sm503445a91.1.2025.11.13.22.06.34 (version=TLS1_2 cipher=ECDHE-ECDSA-AES128-GCM-SHA256 bits=128/128); Thu, 13 Nov 2025 22:06:35 -0800 (PST) X-Relaying-Domain: iol.unh.edu Date: Thu, 13 Nov 2025 22:06:35 -0800 (PST) Message-ID: <6916c6eb.170a0220.13f9ee.7daaSMTPIN_ADDED_MISSING@mx.google.com> Received: from [172.21.0.2] (unknown [172.18.0.240]) by postal.iol.unh.edu (Postfix) with ESMTP id 473346051830; Fri, 14 Nov 2025 01:06:34 -0500 (EST) Subject: |SUCCESS| pw158754 [PATCH] net/ice: add MAC anti-spoof disable optio From: dpdklab@iol.unh.edu To: Test Report Cc: dpdk-test-reports@iol.unh.edu, Bruce Richardson In-Reply-To: <20251113105914.34949-1-anurag.mandal@intel.com> References: <20251113105914.34949-1-anurag.mandal@intel.com> Content-Type: text/plain X-BeenThere: test-report@dpdk.org X-Mailman-Version: 2.1.29 Precedence: list List-Id: automatic DPDK test reports List-Unsubscribe: , List-Archive: List-Post: List-Help: List-Subscribe: , Errors-To: test-report-bounces@dpdk.org Test-Label: iol-compile-amd64-testing Test-Status: SUCCESS http://dpdk.org/patch/158754 _Testing PASS_ Submitter: Anurag Mandal Date: Thursday, November 13 2025 10:59:14 DPDK git baseline: Repo:dpdk-next-net-intel Branch: master CommitID:123703be5bdd0fa45e4fda14f36a0d941d1f7e63 158754 --> testing pass Upstream job id: Windows-Compile-DPDK-VS#7534 Test environment and result as below: +-------------------------------+--------------------+-------------------------+------------------+-------------------+ | Environment | dpdk_meson_compile | dpdk_llvm_clang_compile | dpdk_compile_ovs | dpdk_msvc_compile | +===============================+====================+=========================+==================+===================+ | Ubuntu 20.04 | PASS | SKIPPED | SKIPPED | SKIPPED | +-------------------------------+--------------------+-------------------------+------------------+-------------------+ | FreeBSD 14.2 | PASS | SKIPPED | SKIPPED | SKIPPED | +-------------------------------+--------------------+-------------------------+------------------+-------------------+ | CentOS Stream 9 | PASS | SKIPPED | SKIPPED | SKIPPED | +-------------------------------+--------------------+-------------------------+------------------+-------------------+ | CentOS Stream 10 | PASS | SKIPPED | SKIPPED | SKIPPED | +-------------------------------+--------------------+-------------------------+------------------+-------------------+ | Debian GNU/Linux 12 | PASS | SKIPPED | SKIPPED | SKIPPED | +-------------------------------+--------------------+-------------------------+------------------+-------------------+ | Fedora Linux 42 | PASS | SKIPPED | PASS | SKIPPED | +-------------------------------+--------------------+-------------------------+------------------+-------------------+ | openSUSE Leap 15.6 | PASS | SKIPPED | SKIPPED | SKIPPED | +-------------------------------+--------------------+-------------------------+------------------+-------------------+ | Red Hat Enterprise Linux 8.10 | PASS | SKIPPED | SKIPPED | SKIPPED | +-------------------------------+--------------------+-------------------------+------------------+-------------------+ | Red Hat Enterprise Linux 9.5 | PASS | SKIPPED | SKIPPED | SKIPPED | +-------------------------------+--------------------+-------------------------+------------------+-------------------+ | Ubuntu 22.04 | PASS | SKIPPED | SKIPPED | SKIPPED | +-------------------------------+--------------------+-------------------------+------------------+-------------------+ | Ubuntu 24.04 | PASS | SKIPPED | PASS | SKIPPED | +-------------------------------+--------------------+-------------------------+------------------+-------------------+ | Alpine Linux 3.22.0 | PASS | SKIPPED | SKIPPED | SKIPPED | +-------------------------------+--------------------+-------------------------+------------------+-------------------+ | Windows Server 2022 | SKIPPED | PASS | SKIPPED | PASS | +-------------------------------+--------------------+-------------------------+------------------+-------------------+ Ubuntu 20.04 Kernel: 4.19 Compiler: gcc gcc (Ubuntu 9.4.0-1ubuntu1~20.04.2) 9.4.0 FreeBSD 14.2 Kernel: 14.2-RELEASE Compiler: clang 18.1.6 CentOS Stream 9 Kernel: 5.15 Compiler: gcc gcc (GCC) 11.5.0 20240719 (Red Hat 11.5.0-11) CentOS Stream 10 Kernel: 5.15 Compiler: gcc gcc (GCC) 14.2.1 20250110 (Red Hat 14.2.1-8) Debian GNU/Linux 12 Kernel: 5.15 Compiler: gcc gcc (Debian 12.2.0-14+deb12u1) 12.2.0 Fedora Linux 42 Kernel: 5.15 Compiler: clang gcc (GCC) 15.2.1 20250808 (Red Hat 15.2.1-1) openSUSE Leap 15.6 Kernel: 5.15 Compiler: gcc gcc (SUSE Linux) 7.5.0 Red Hat Enterprise Linux 8.10 Kernel: 5.15 Compiler: gcc gcc (GCC) 8.5.0 20210514 (Red Hat 8.5.0-22) Red Hat Enterprise Linux 9.5 Kernel: 5.15 Compiler: gcc gcc (GCC) 11.5.0 20240719 (Red Hat 11.5.0-2) Ubuntu 22.04 Kernel: 5.15 Compiler: gcc gcc (Ubuntu 11.4.0-1ubuntu1~22.04) 11.4.0 Ubuntu 24.04 Kernel: 5.15 Compiler: gcc gcc (Ubuntu 13.3.0-6ubuntu2~24.04) 13.3.0 Alpine Linux 3.22.0 Kernel: 5.15 Compiler: gcc gcc (Alpine 14.2.0) 14.2.0 Windows Server 2022 Kernel: 10.0.20348.2031 Compiler: clang 15.0.7, gcc 14.1.0 (MinGW), and MSVC VS 19.39.33521 To view detailed results, visit: https://lab.dpdk.org/results/dashboard/patchsets/34571/ UNH-IOL DPDK Community Lab To manage your email subscriptions, visit: https://lab.dpdk.org/results/dashboard/preferences/subscriptions/