From mboxrd@z Thu Jan 1 00:00:00 1970 Return-Path: Received: from mails.dpdk.org (mails.dpdk.org [217.70.189.124]) by inbox.dpdk.org (Postfix) with ESMTP id 64EFF48B01 for ; Fri, 14 Nov 2025 07:11:59 +0100 (CET) Received: from mails.dpdk.org (localhost [127.0.0.1]) by mails.dpdk.org (Postfix) with ESMTP id 6096040151; Fri, 14 Nov 2025 07:11:59 +0100 (CET) Received: from mail-pl1-f225.google.com (mail-pl1-f225.google.com [209.85.214.225]) by mails.dpdk.org (Postfix) with ESMTP id 1C2E040151 for ; Fri, 14 Nov 2025 07:11:58 +0100 (CET) Received: by mail-pl1-f225.google.com with SMTP id d9443c01a7336-2984dfae0acso19377525ad.0 for ; Thu, 13 Nov 2025 22:11:58 -0800 (PST) DKIM-Signature: v=1; a=rsa-sha256; c=relaxed/relaxed; d=iol.unh.edu; s=unh-iol; t=1763100717; x=1763705517; darn=dpdk.org; h=references:in-reply-to:cc:to:from:subject:message-id:date:from:to :cc:subject:date:message-id:reply-to; bh=+G5i0US0oYuEOJVoPK2He58oVNS7TXWoGO/7AhwLBHQ=; b=BdA7XKHmP6XJs4DU+3u9p4Y7qcDw/++v8YfizJechqPuUxedUeQhpCV7duOH0o8r/Y V8vG0bISsN5ycMU7aFCPzkgNRYbU5zpXs0ptoYLmavpfXJBTqLQ5dkI5eAgyTTtOKDIa slAHnnWdrYE8BP02WhJZL3/y1A31ClQk08jlE= X-Google-DKIM-Signature: v=1; a=rsa-sha256; c=relaxed/relaxed; d=1e100.net; s=20230601; t=1763100717; x=1763705517; h=references:in-reply-to:cc:to:from:subject:message-id:date:x-gm-gg :x-gm-message-state:from:to:cc:subject:date:message-id:reply-to; bh=+G5i0US0oYuEOJVoPK2He58oVNS7TXWoGO/7AhwLBHQ=; b=BR1WzMvhOriInupxRBZeo8jR0e0JYdMw6b701B0dnLyjG7hZXMPxJlUge3L+JKgVAC tL+6798DVvsX9dwOEUIpkbBBKBtvn/t1RXGplA5mBES11NRZMveq/sMd6Xw8tRVSaDNC uh6mq3Wk5crdBYoej95knm5YoahX9vYpI8SnIemsEhKA0QweRbp1EmKMnnN31yqQcPds 2IWgWdZwTvN7+sy1EvCnDuCOZenpQ/btCY9QDhRF0HO3IyJ2NJPLsIf/pfXdBsZmat1g mkM9YbK+lksPdTiCLMUj3oeVztUCVm/jv6GZcgqotmOx2KvHFDxmEn0er4yai4edXvst o6BQ== X-Gm-Message-State: AOJu0YyFbMwORNbFNz0uN6HlvnzOixfyAwKo7187XJn9adu3s7xNU02N 4LNOnOcikY/sPdr6P/yQMFdl4xZww9OaK56KZMkuYn4QVjZj8LRB67TsT0pHJPWshjIyFOsV6yI jt0aKN6NlH6wX4PHH0yLqiIlj2qF8Zob93mWB+qbDivNt X-Gm-Gg: ASbGncsm1rXocB2TxwRYy+1WpvckgcfxNaXHZt0/47SWv6C4z76QEFqP76dDmENsyiK OL5ymCrMQiKJIDVLLI9GMhxBx5kXYF76bezydosSRkvxr++fSh726pL3ozxue7bxxvVfePNM8SM Mb0RtomobscKwVdC7KnQUpGPAIRWeORZRL3uaj6sUVzYZc1axlIyRJie8UaRldHopFPvvuPeyqN 84yJdNG1SIU0yD5S9DBrcl8NYZaxDNr+bS7u43BAlbvBXXr4ISKKoDK6tGznXBY4Bxsk52s5SM+ Q1l5YCZDpt3iNwbHVQM0z1rOByTMH5t/AW0il+K+KNln/Kl/HFx+hb38g+SacoewQ/0bF2KPTSy iwEDy7oLQG/R10tfBTnK7pdow0XoSQHU= X-Google-Smtp-Source: AGHT+IFFXmJOk2bub7ejYekmqJ+xtUz0FlZCG/b+vv9DrlvjSXgeBXkHeBsmHhTG/kwDIJqU2sRCfKLBN6d2 X-Received: by 2002:a17:903:1104:b0:293:33b:a9b0 with SMTP id d9443c01a7336-2986a73af41mr19433135ad.32.1763100717289; Thu, 13 Nov 2025 22:11:57 -0800 (PST) Received: from postal.iol.unh.edu (postal.iol.unh.edu. [132.177.123.84]) by smtp-relay.gmail.com with ESMTPS id d9443c01a7336-2985c245e10sm4656555ad.20.2025.11.13.22.11.57 (version=TLS1_2 cipher=ECDHE-ECDSA-AES128-GCM-SHA256 bits=128/128); Thu, 13 Nov 2025 22:11:57 -0800 (PST) X-Relaying-Domain: iol.unh.edu Date: Thu, 13 Nov 2025 22:11:57 -0800 (PST) Message-ID: <6916c82d.170a0220.31ee86.7712SMTPIN_ADDED_MISSING@mx.google.com> Received: from [172.21.0.2] (unknown [172.18.0.240]) by postal.iol.unh.edu (Postfix) with ESMTP id 88B0E6051830; Fri, 14 Nov 2025 01:11:56 -0500 (EST) Subject: |SUCCESS| pw158761-158764 [PATCH] [v5,4/4] vhost_user: Function defs From: dpdklab@iol.unh.edu To: Test Report Cc: dpdk-test-reports@iol.unh.edu, Chenbo Xia , Maxime Coquelin In-Reply-To: <20251113124210.2913846-5-pravin.bathija@dell.com> References: <20251113124210.2913846-5-pravin.bathija@dell.com> Content-Type: text/plain X-BeenThere: test-report@dpdk.org X-Mailman-Version: 2.1.29 Precedence: list List-Id: automatic DPDK test reports List-Unsubscribe: , List-Archive: List-Post: List-Help: List-Subscribe: , Errors-To: test-report-bounces@dpdk.org Test-Label: iol-compile-amd64-testing Test-Status: SUCCESS http://dpdk.org/patch/158764 _Testing PASS_ Submitter: Bathija, Pravin Date: Thursday, November 13 2025 12:42:10 DPDK git baseline: Repo:dpdk-next-virtio Branch: master CommitID:6b37c26a95388aa41bb5267c7c42f604fd571a38 158761-158764 --> testing pass Upstream job id: Generic-DPDK-Compile-Meson#444046 Test environment and result as below: +-------------------------------+--------------------+------------------+ | Environment | dpdk_meson_compile | dpdk_compile_ovs | +===============================+====================+==================+ | FreeBSD 14.2 | PASS | SKIPPED | +-------------------------------+--------------------+------------------+ | Ubuntu 20.04 | PASS | SKIPPED | +-------------------------------+--------------------+------------------+ | CentOS Stream 9 | PASS | SKIPPED | +-------------------------------+--------------------+------------------+ | CentOS Stream 10 | PASS | SKIPPED | +-------------------------------+--------------------+------------------+ | Debian GNU/Linux 12 | PASS | SKIPPED | +-------------------------------+--------------------+------------------+ | Fedora Linux 42 | PASS | PASS | +-------------------------------+--------------------+------------------+ | openSUSE Leap 15.6 | PASS | SKIPPED | +-------------------------------+--------------------+------------------+ | Red Hat Enterprise Linux 8.10 | PASS | SKIPPED | +-------------------------------+--------------------+------------------+ | Red Hat Enterprise Linux 9.5 | PASS | SKIPPED | +-------------------------------+--------------------+------------------+ | Ubuntu 22.04 | PASS | SKIPPED | +-------------------------------+--------------------+------------------+ | Ubuntu 24.04 | PASS | PASS | +-------------------------------+--------------------+------------------+ | Alpine Linux 3.22.0 | PASS | SKIPPED | +-------------------------------+--------------------+------------------+ FreeBSD 14.2 Kernel: 14.2-RELEASE Compiler: clang 18.1.6 Ubuntu 20.04 Kernel: 4.19 Compiler: gcc gcc (Ubuntu 9.4.0-1ubuntu1~20.04.2) 9.4.0 CentOS Stream 9 Kernel: 5.15 Compiler: gcc gcc (GCC) 11.5.0 20240719 (Red Hat 11.5.0-11) CentOS Stream 10 Kernel: 5.15 Compiler: gcc gcc (GCC) 14.2.1 20250110 (Red Hat 14.2.1-8) Debian GNU/Linux 12 Kernel: 5.15 Compiler: gcc gcc (Debian 12.2.0-14+deb12u1) 12.2.0 Fedora Linux 42 Kernel: 5.15 Compiler: clang gcc (GCC) 15.2.1 20250808 (Red Hat 15.2.1-1) openSUSE Leap 15.6 Kernel: 5.15 Compiler: gcc gcc (SUSE Linux) 7.5.0 Red Hat Enterprise Linux 8.10 Kernel: 5.15 Compiler: gcc gcc (GCC) 8.5.0 20210514 (Red Hat 8.5.0-22) Red Hat Enterprise Linux 9.5 Kernel: 5.15 Compiler: gcc gcc (GCC) 11.5.0 20240719 (Red Hat 11.5.0-2) Ubuntu 22.04 Kernel: 5.15 Compiler: gcc gcc (Ubuntu 11.4.0-1ubuntu1~22.04) 11.4.0 Ubuntu 24.04 Kernel: 5.15 Compiler: gcc gcc (Ubuntu 13.3.0-6ubuntu2~24.04) 13.3.0 Alpine Linux 3.22.0 Kernel: 5.15 Compiler: gcc gcc (Alpine 14.2.0) 14.2.0 To view detailed results, visit: https://lab.dpdk.org/results/dashboard/patchsets/34574/ UNH-IOL DPDK Community Lab To manage your email subscriptions, visit: https://lab.dpdk.org/results/dashboard/preferences/subscriptions/