From mboxrd@z Thu Jan 1 00:00:00 1970 Return-Path: Received: from mails.dpdk.org (mails.dpdk.org [217.70.189.124]) by inbox.dpdk.org (Postfix) with ESMTP id 0C97848B01 for ; Fri, 14 Nov 2025 07:17:46 +0100 (CET) Received: from mails.dpdk.org (localhost [127.0.0.1]) by mails.dpdk.org (Postfix) with ESMTP id 060A140151; Fri, 14 Nov 2025 07:17:46 +0100 (CET) Received: from mail-pl1-f227.google.com (mail-pl1-f227.google.com [209.85.214.227]) by mails.dpdk.org (Postfix) with ESMTP id 5C4B040151 for ; Fri, 14 Nov 2025 07:17:45 +0100 (CET) Received: by mail-pl1-f227.google.com with SMTP id d9443c01a7336-29806bd47b5so10887775ad.3 for ; Thu, 13 Nov 2025 22:17:45 -0800 (PST) DKIM-Signature: v=1; a=rsa-sha256; c=relaxed/relaxed; d=iol.unh.edu; s=unh-iol; t=1763101064; x=1763705864; darn=dpdk.org; h=references:in-reply-to:cc:to:from:subject:message-id:date:from:to :cc:subject:date:message-id:reply-to; bh=1XQb3nf+ICudtZ/E7eMXI6lCLifZgPeH0Kh4q37HhMU=; b=WSHkQS72zx9Xmbox5WXqKfP3vzw8w9jupoezQxezwHrbPW6pln7QJd8Zr+iWsSXZL7 xZA8Z2eR5aHg4y0GCzViQ918weqd2fMBgpKIOYWYbJWdGknExR2i+zkPRtBCPwFSkJmg OvPi6iUmO0slpe44lBUyev2yAfPI9TZal5tgQ= X-Google-DKIM-Signature: v=1; a=rsa-sha256; c=relaxed/relaxed; d=1e100.net; s=20230601; t=1763101064; x=1763705864; h=references:in-reply-to:cc:to:from:subject:message-id:date:x-gm-gg :x-gm-message-state:from:to:cc:subject:date:message-id:reply-to; bh=1XQb3nf+ICudtZ/E7eMXI6lCLifZgPeH0Kh4q37HhMU=; b=A05N0+1EwxhDFCUew81/1Z0+H0dkPyO7EInB6/o3wgbLnX08HJ+8olCAhvqT/GDMIJ tsABDuZHWNv/b44SUubSxAtbR9bHuoLY2yWHitzTgg9jKLNuU0XGKWkBhqoukt+YyegP NHYzMQ0WSZKyq/x4Q0dicgW1mM1gxxqcP1QyEch6fmET3XVKsuHdll/5UhOnPqenjzdC Qg9g90hLPofuFrYUdXPkojeJLhPFTFXjnLi5v7rybpeSgS3rFQDN+mfnFSq6MGM6Lnur dqgc98Xxhbre6wNlCIBrZOqv8E9m+5GRgD9sAckx+cttn9BJvpbqpXjO6+N6BoB/bqsu Ecgw== X-Gm-Message-State: AOJu0Yzw8+P0HPlQdPrlFX0yhcjXIsMPuzrH2/SWhmG4FlkUEN3hl6TI Kb9r8cbWeq5DaGUZS2imHDNXDK+su0OyiWJG5V/Vo6F5Fyss+Q8846oPxDw56DrxFRWAAL1O70J OSdWC3H8gFqsUGDa7Qvzvp55gspObADNZI90fV8AyFfar X-Gm-Gg: ASbGncte2dH4AjTsIFdAXXSohvfgFchXM0EVj1dPjO6uYqChE6iuRFoS5BlYz8ZBKBV 0h0DSEbFcZ8u+udUJdWwl9TrsvedXMOFkqww8DZ/DdFLMWjyhiUmu2s2S9u1mQ7coq180W1aEl9 Nma0Sg6qy9Cq9QOX/9vq4laiI7WnjahPfH/spos8exddWQEpB513E32apgCBLpRt942IOLMyfkf kISCLNqfh7GeWoJBt93qJrzaU5SOS86JYJu+ufmPkdgkwjZHsFGB/s7rqjp/xQPJlz2jWdLgAl4 sfYDHRXl/9mA9oMkJyhEWUUU53CeOkPnqDZCanb29JmBc45buKLjNERdRUV0/Igem7eidGia3UG SA8BxVI6pjvxJgar0ZfEloFXk4LBsqIw= X-Google-Smtp-Source: AGHT+IGh8Sbiqj4q3J/kqqvEz6BYVw1RrnBsmqgzKjt1SAzIl3nebNXc/98HgjgRdnrR0MJr2RntOPPN5GZ9 X-Received: by 2002:a17:902:db0f:b0:297:c4b0:8d58 with SMTP id d9443c01a7336-2986a750965mr17731535ad.46.1763101064566; Thu, 13 Nov 2025 22:17:44 -0800 (PST) Received: from postal.iol.unh.edu (postal.iol.unh.edu. [132.177.123.84]) by smtp-relay.gmail.com with ESMTPS id d9443c01a7336-2985c244ea3sm4669565ad.18.2025.11.13.22.17.44 (version=TLS1_2 cipher=ECDHE-ECDSA-AES128-GCM-SHA256 bits=128/128); Thu, 13 Nov 2025 22:17:44 -0800 (PST) X-Relaying-Domain: iol.unh.edu Date: Thu, 13 Nov 2025 22:17:44 -0800 (PST) Message-ID: <6916c988.170a0220.1fc12b.6352SMTPIN_ADDED_MISSING@mx.google.com> Received: from [172.21.0.2] (unknown [172.18.0.240]) by postal.iol.unh.edu (Postfix) with ESMTP id BCDD36051830; Fri, 14 Nov 2025 01:17:43 -0500 (EST) Subject: |SUCCESS| pw158744 [PATCH] net/mlx5: fix cross GVMI metadata match f From: dpdklab@iol.unh.edu To: Test Report Cc: dpdk-test-reports@iol.unh.edu In-Reply-To: <20251113071746.434067-1-getelson@nvidia.com> References: <20251113071746.434067-1-getelson@nvidia.com> Content-Type: text/plain X-BeenThere: test-report@dpdk.org X-Mailman-Version: 2.1.29 Precedence: list List-Id: automatic DPDK test reports List-Unsubscribe: , List-Archive: List-Post: List-Help: List-Subscribe: , Errors-To: test-report-bounces@dpdk.org Test-Label: iol-unit-amd64-testing Test-Status: SUCCESS http://dpdk.org/patch/158744 _Testing PASS_ Submitter: Gregory Etelson Date: Thursday, November 13 2025 07:17:45 DPDK git baseline: Repo:dpdk-next-net-mlx Branch: master CommitID:ae657d56b1f0ea979b3f611edf28d773efc2ddcf 158744 --> testing pass Upstream job id: Generic-VM-Unit-Test-DPDK#32521 Test environment and result as below: +-------------------------------+----------------+ | Environment | dpdk_unit_test | +===============================+================+ | CentOS Stream 9 | PASS | +-------------------------------+----------------+ | Fedora Linux 40 | PASS | +-------------------------------+----------------+ | CentOS Stream 10 | PASS | +-------------------------------+----------------+ | Fedora Linux 42 | PASS | +-------------------------------+----------------+ | Debian GNU/Linux 12 | PASS | +-------------------------------+----------------+ | Ubuntu 20.04 | PASS | +-------------------------------+----------------+ | Ubuntu 22.04 | PASS | +-------------------------------+----------------+ | Fedora Linux 41 | PASS | +-------------------------------+----------------+ | Red Hat Enterprise Linux 8.10 | PASS | +-------------------------------+----------------+ | Red Hat Enterprise Linux 9.5 | PASS | +-------------------------------+----------------+ | Ubuntu 24.04 | PASS | +-------------------------------+----------------+ | Windows Server 2022 | PASS | +-------------------------------+----------------+ CentOS Stream 9 Kernel: 5.15 Compiler: gcc gcc (GCC) 11.5.0 20240719 (Red Hat 11.5.0-11) Fedora Linux 40 Kernel: 5.15 Compiler: gcc gcc (GCC) 14.2.1 20240912 (Red Hat 14.2.1-3) CentOS Stream 10 Kernel: 5.15 Compiler: gcc gcc (GCC) 14.2.1 20250110 (Red Hat 14.2.1-8) Fedora Linux 42 Kernel: 5.15 Compiler: gcc gcc (GCC) 15.2.1 20250808 (Red Hat 15.2.1-1) Debian GNU/Linux 12 Kernel: 5.15 Compiler: gcc gcc (Debian 12.2.0-14+deb12u1) 12.2.0 Ubuntu 20.04 Kernel: 5.15 Compiler: gcc gcc (Ubuntu 9.4.0-1ubuntu1~20.04.2) 9.4.0 Ubuntu 22.04 Kernel: 5.15 Compiler: gcc gcc (Ubuntu 11.4.0-1ubuntu1~22.04) 11.4.0 Fedora Linux 41 Kernel: 5.15 Compiler: gcc gcc (GCC) 14.3.1 20250523 (Red Hat 14.3.1-1) Red Hat Enterprise Linux 8.10 Kernel: 5.15 Compiler: gcc gcc (GCC) 8.5.0 20210514 (Red Hat 8.5.0-22) Red Hat Enterprise Linux 9.5 Kernel: 5.15 Compiler: gcc gcc (GCC) 11.5.0 20240719 (Red Hat 11.5.0-2) Ubuntu 24.04 Kernel: 5.15 Compiler: gcc gcc (Ubuntu 13.3.0-6ubuntu2~24.04) 13.3.0 Windows Server 2022 Kernel: 10.0.20348.2031 Compiler: clang 15.0.7, gcc 14.1.0 (MinGW), and MSVC VS 19.39.33521 To view detailed results, visit: https://lab.dpdk.org/results/dashboard/patchsets/34564/ UNH-IOL DPDK Community Lab To manage your email subscriptions, visit: https://lab.dpdk.org/results/dashboard/preferences/subscriptions/