From mboxrd@z Thu Jan 1 00:00:00 1970 Return-Path: Received: from mails.dpdk.org (mails.dpdk.org [217.70.189.124]) by inbox.dpdk.org (Postfix) with ESMTP id 25F2B48B01 for ; Fri, 14 Nov 2025 07:58:17 +0100 (CET) Received: from mails.dpdk.org (localhost [127.0.0.1]) by mails.dpdk.org (Postfix) with ESMTP id 2072740151; Fri, 14 Nov 2025 07:58:17 +0100 (CET) Received: from mail-qt1-f227.google.com (mail-qt1-f227.google.com [209.85.160.227]) by mails.dpdk.org (Postfix) with ESMTP id 0137140151 for ; Fri, 14 Nov 2025 07:58:15 +0100 (CET) Received: by mail-qt1-f227.google.com with SMTP id d75a77b69052e-4ed59386345so6807071cf.3 for ; Thu, 13 Nov 2025 22:58:15 -0800 (PST) DKIM-Signature: v=1; a=rsa-sha256; c=relaxed/relaxed; d=iol.unh.edu; s=unh-iol; t=1763103495; x=1763708295; darn=dpdk.org; h=references:in-reply-to:cc:to:from:subject:message-id:date:from:to :cc:subject:date:message-id:reply-to; bh=AYsWRA2BwLZ3yqmopAdbl7zKgBLW0UQaRSr2A52vLck=; b=VdS1wvORju8W+/YaxJ0+sMwWQyLRZefWCFEXto7vML0MhbUCV7QFid6jgSEWBZcbub /dF9Kyy7EOBqxhaSdeGk6nUe5KZw8+wiJGXB0lNXH3PtB96Qe7hynnTUKpSmPSFGLpXo nENv0X/h99/csFvnCCHppubGJznIRQhxaMX3M= X-Google-DKIM-Signature: v=1; a=rsa-sha256; c=relaxed/relaxed; d=1e100.net; s=20230601; t=1763103495; x=1763708295; h=references:in-reply-to:cc:to:from:subject:message-id:date:x-gm-gg :x-gm-message-state:from:to:cc:subject:date:message-id:reply-to; bh=AYsWRA2BwLZ3yqmopAdbl7zKgBLW0UQaRSr2A52vLck=; b=DRB7SCxV4v4EHJ8X374WUAxBqkjXi9/6LBfS77j8hnWF//1cOpo0R4osV+NMeT5N6e q9C2V7DHJjdRz/kUcX+Z/J3JLCC10yb5WEFp0XZfuMzldHzYZ3ZjDXrpPSxlBNfKfd23 vGRzTv6N9oq610YYVl+DCWPo5befGliNluhMwC40Y3cJnuRxWQ0cb2WeXGx6IVPQJHyG x6+yhJDIHkWegQgkl348hwOFVmi53uE1bbhd9hq04eYsb8NSX/IdGyXXThmO9L9FF29z 51Eela120Af+c8IuiYZC/VkZujRdBQUZBHU6Ysh+Tg7DFwnkneiM3MuHqd6/wl4o+lIh 9pXQ== X-Gm-Message-State: AOJu0YwpvVZE9337GXM1UyPUzg34ymZumOmsUwvQHQt1x22V8UMA3LdZ DB8/Gzvsz1rBp9i5TlN16qC2Zid6lNS+bPWlvgIV2JJun8sm6Gka8NbUQgw+ACaOVwV3hhhrq5w NLEtaU8fk4Tk2o65cIWmY3UDJwedy8GEbHX4DJe8jDSdi X-Gm-Gg: ASbGncvM7YFRwf6qKSw2lyYM5JHGCikFrzKzqmH6fbWswf2W6SOgrl0T0tKptzJpSJX snyTv4pkJKfJ3MfF09glV0AWIx5kevnuIgBHnsqry10pyMiTHDXTceK9zM9nIS1sBj5t0Wy5YJ8 FopCd3ynVJeWpKba5RhCB67DzU3Q1xXTIQ48P11547ZBdLC2zRbMMr3f7cZKbqdardOcekO7iNe wV6xosEIuIA8BzIxMh9i7Rj/01CE6V1toZl0ZVAxXjOepeTFrfvwDnshYrtAboGboTUVad6M+u2 TMJjaBBuDNrJNM6aZbjcIyiXJV5PXsffq7XqmIL9aSwCT/e3KW+b8btcv5O56EOfNmZnfbTPr9E smewQrVGUb7IT5s4o0OLi/5pOS22R5tM= X-Google-Smtp-Source: AGHT+IGLAqNb2SxeeTE9GlOlvTb/NxIIYGEnf/V30AlYUFH7DRIqZRVRVGwbkZbcfxsaHCtE77+QfSLAS25I X-Received: by 2002:a05:622a:2:b0:4ec:f073:423f with SMTP id d75a77b69052e-4edf206389amr32886531cf.20.1763103495315; Thu, 13 Nov 2025 22:58:15 -0800 (PST) Received: from postal.iol.unh.edu (postal.iol.unh.edu. [132.177.123.84]) by smtp-relay.gmail.com with ESMTPS id d75a77b69052e-4ede85a1bd5sm1983861cf.0.2025.11.13.22.58.15 (version=TLS1_2 cipher=ECDHE-ECDSA-AES128-GCM-SHA256 bits=128/128); Thu, 13 Nov 2025 22:58:15 -0800 (PST) X-Relaying-Domain: iol.unh.edu Date: Thu, 13 Nov 2025 22:58:15 -0800 (PST) Message-ID: <6916d307.c80a0220.85494.96f7SMTPIN_ADDED_MISSING@mx.google.com> Received: from [172.21.0.2] (unknown [172.18.0.240]) by postal.iol.unh.edu (Postfix) with ESMTP id CD6FB6051830; Fri, 14 Nov 2025 01:58:14 -0500 (EST) Subject: |SUCCESS| pw158755 [PATCH] [v1] net/axgbe: fix the build warninig fo From: dpdklab@iol.unh.edu To: Test Report Cc: dpdk-test-reports@iol.unh.edu, Stephen Hemminger In-Reply-To: <20251113113055.371-1-VenkatKumar.Ande@amd.com> References: <20251113113055.371-1-VenkatKumar.Ande@amd.com> Content-Type: text/plain X-BeenThere: test-report@dpdk.org X-Mailman-Version: 2.1.29 Precedence: list List-Id: automatic DPDK test reports List-Unsubscribe: , List-Archive: List-Post: List-Help: List-Subscribe: , Errors-To: test-report-bounces@dpdk.org Test-Label: iol-compile-amd64-testing Test-Status: SUCCESS http://dpdk.org/patch/158755 _Testing PASS_ Submitter: Venkat Kumar Ande Date: Thursday, November 13 2025 11:30:55 DPDK git baseline: Repo:dpdk-next-net Branch: master CommitID:29807269854f9bfc72f1323273de8e23adc724d4 158755 --> testing pass Upstream job id: Windows-Compile-DPDK-VS#7535 Test environment and result as below: +-------------------------------+--------------------+------------------+-------------------+ | Environment | dpdk_meson_compile | dpdk_compile_ovs | dpdk_msvc_compile | +===============================+====================+==================+===================+ | Ubuntu 20.04 | PASS | SKIPPED | SKIPPED | +-------------------------------+--------------------+------------------+-------------------+ | FreeBSD 14.2 | PASS | SKIPPED | SKIPPED | +-------------------------------+--------------------+------------------+-------------------+ | CentOS Stream 10 | PASS | SKIPPED | SKIPPED | +-------------------------------+--------------------+------------------+-------------------+ | CentOS Stream 9 | PASS | SKIPPED | SKIPPED | +-------------------------------+--------------------+------------------+-------------------+ | Debian GNU/Linux 12 | PASS | SKIPPED | SKIPPED | +-------------------------------+--------------------+------------------+-------------------+ | Fedora Linux 42 | PASS | PASS | SKIPPED | +-------------------------------+--------------------+------------------+-------------------+ | openSUSE Leap 15.6 | PASS | SKIPPED | SKIPPED | +-------------------------------+--------------------+------------------+-------------------+ | Red Hat Enterprise Linux 8.10 | PASS | SKIPPED | SKIPPED | +-------------------------------+--------------------+------------------+-------------------+ | Red Hat Enterprise Linux 9.5 | PASS | SKIPPED | SKIPPED | +-------------------------------+--------------------+------------------+-------------------+ | Ubuntu 22.04 | PASS | SKIPPED | SKIPPED | +-------------------------------+--------------------+------------------+-------------------+ | Ubuntu 24.04 | PASS | PASS | SKIPPED | +-------------------------------+--------------------+------------------+-------------------+ | Alpine Linux 3.22.0 | PASS | SKIPPED | SKIPPED | +-------------------------------+--------------------+------------------+-------------------+ | Windows Server 2022 | SKIPPED | SKIPPED | PASS | +-------------------------------+--------------------+------------------+-------------------+ Ubuntu 20.04 Kernel: 4.19 Compiler: gcc gcc (Ubuntu 9.4.0-1ubuntu1~20.04.2) 9.4.0 FreeBSD 14.2 Kernel: 14.2-RELEASE Compiler: clang 18.1.6 CentOS Stream 10 Kernel: 5.15 Compiler: gcc gcc (GCC) 14.2.1 20250110 (Red Hat 14.2.1-8) CentOS Stream 9 Kernel: 5.15 Compiler: gcc gcc (GCC) 11.5.0 20240719 (Red Hat 11.5.0-11) Debian GNU/Linux 12 Kernel: 5.15 Compiler: gcc gcc (Debian 12.2.0-14+deb12u1) 12.2.0 Fedora Linux 42 Kernel: 5.15 Compiler: clang gcc (GCC) 15.2.1 20250808 (Red Hat 15.2.1-1) openSUSE Leap 15.6 Kernel: 5.15 Compiler: gcc gcc (SUSE Linux) 7.5.0 Red Hat Enterprise Linux 8.10 Kernel: 5.15 Compiler: gcc gcc (GCC) 8.5.0 20210514 (Red Hat 8.5.0-22) Red Hat Enterprise Linux 9.5 Kernel: 5.15 Compiler: gcc gcc (GCC) 11.5.0 20240719 (Red Hat 11.5.0-2) Ubuntu 22.04 Kernel: 5.15 Compiler: gcc gcc (Ubuntu 11.4.0-1ubuntu1~22.04) 11.4.0 Ubuntu 24.04 Kernel: 5.15 Compiler: gcc gcc (Ubuntu 13.3.0-6ubuntu2~24.04) 13.3.0 Alpine Linux 3.22.0 Kernel: 5.15 Compiler: gcc gcc (Alpine 14.2.0) 14.2.0 Windows Server 2022 Kernel: 10.0.20348.2031 Compiler: clang 15.0.7, gcc 14.1.0 (MinGW), and MSVC VS 19.39.33521 To view detailed results, visit: https://lab.dpdk.org/results/dashboard/patchsets/34572/ UNH-IOL DPDK Community Lab To manage your email subscriptions, visit: https://lab.dpdk.org/results/dashboard/preferences/subscriptions/