From mboxrd@z Thu Jan 1 00:00:00 1970 Return-Path: Received: from mails.dpdk.org (mails.dpdk.org [217.70.189.124]) by inbox.dpdk.org (Postfix) with ESMTP id D378F48B03 for ; Fri, 14 Nov 2025 08:04:05 +0100 (CET) Received: from mails.dpdk.org (localhost [127.0.0.1]) by mails.dpdk.org (Postfix) with ESMTP id CCDDF40151; Fri, 14 Nov 2025 08:04:05 +0100 (CET) Received: from mail-pl1-f227.google.com (mail-pl1-f227.google.com [209.85.214.227]) by mails.dpdk.org (Postfix) with ESMTP id 4649740151 for ; Fri, 14 Nov 2025 08:04:04 +0100 (CET) Received: by mail-pl1-f227.google.com with SMTP id d9443c01a7336-2958db8ae4fso16432965ad.2 for ; Thu, 13 Nov 2025 23:04:04 -0800 (PST) DKIM-Signature: v=1; a=rsa-sha256; c=relaxed/relaxed; d=iol.unh.edu; s=unh-iol; t=1763103843; x=1763708643; darn=dpdk.org; h=references:in-reply-to:cc:to:from:subject:message-id:date:from:to :cc:subject:date:message-id:reply-to; bh=aS17Ed8RfBjsXYZ9EuQNEQBwOiupdippitbKyUTKTbI=; b=F09V1qXFA96+41CndyuVwxWfuYeqYAFDuYUnf+QYQ5iUeAsO7+ICGnXiiuqqvMOI20 FMwucAfn8ZYSoPFoiwwXCGHGa9Na+Au7uUYbVmWEiPL+vGrqqPfHW84t8d/f5rXkibw9 Q8pJl3fadSk0uWbPmm6YAHO5sSD0pknpOTbgk= X-Google-DKIM-Signature: v=1; a=rsa-sha256; c=relaxed/relaxed; d=1e100.net; s=20230601; t=1763103843; x=1763708643; h=references:in-reply-to:cc:to:from:subject:message-id:date:x-gm-gg :x-gm-message-state:from:to:cc:subject:date:message-id:reply-to; bh=aS17Ed8RfBjsXYZ9EuQNEQBwOiupdippitbKyUTKTbI=; b=T4LxBXdtUCMgXy6YHJo8zY4F+NUDqQ2o5xDPxBicXnVt6rThXtyATSqd3aVcq5/b/+ TrsPTdH6bS5ewRC3rMxC/+tgaDMZoIbVPBvIka+SyYACx1Ua8Bvw/bwkAuSiauEQCA2S 2wqttvIaK4nn3vJFUtBTW1x8gtvG7JRGpdXX5ojVO549Jm06tnJlqOVgNV/lFmJaqJIR lXFZOrmJtYYcwJUl1IzpbkNYq8tc8P4c4hqw+CtzilZmxQ4mk7c+GeG3Ia6AI74n3UjO ntHyYRQyQw/WBIpraO1ljbrxjfqNWcTo5KDMZP+bPx8IisGfd1Y3PxUKqn3XGyI96ghX v/Ww== X-Gm-Message-State: AOJu0YyoiT2C6XF6S+84RrA4fGZNoOddG5Y/+qHm+PZfcep/zOUwhKry KTeclECDdIRwSY40CZd9wfa5Q0SOSeWAVxLjKZigloHJpINlNqNcrBKQBitP4BgV+6c9/sCTmnc A8tyfSH5UwLr1KBK93LYQG0+tXHLOHF2aO2NBqIjrcdfM X-Gm-Gg: ASbGncuSS0KEUFLXxRyvtSH9/8E5x41ogt9LSce6TixIIytzMKDXMahrKtNyS9HIbKk X+k+WwgB6aYChjjqhSBsOImpH6q3r/G+96ATooV/78iQQHZ3K2HlruRu2u5+xxLgw5/ARaZnMls S9xAfWdNdeBZ2Ik/ZToQ5uGO/LhJgK/ymLdWPpTJXzbAo0Baw4tKSKj7PFMBSlYl5d7I7XXFbr4 HI0YcuWzKg/nEk6gyLFvOh9zlxAwyrnuYQAcDxf7TO8T5leC83vY1V2pNG5Q9IHYbNjRdA55llX yJE0q87d2CymzT2KzxS1xvNoVGc1NMyF0I6Xl22npkjTO8kJUMYCnyxyhGJA2qOshEHJ/A7USHq E2B6zcT7XelsqfObfSJ1p40oHxrl4MO8= X-Google-Smtp-Source: AGHT+IH1zu8W2wpcaO0TLNnxpazWawbYdn61CGZhDdBMnYV48A/FzLjKP9K8Irzte//6hPIMCAwvqG0DMp/u X-Received: by 2002:a17:902:ecc3:b0:295:70b1:edcf with SMTP id d9443c01a7336-2986a73aec5mr23386005ad.36.1763103843376; Thu, 13 Nov 2025 23:04:03 -0800 (PST) Received: from postal.iol.unh.edu (postal.iol.unh.edu. [132.177.123.84]) by smtp-relay.gmail.com with ESMTPS id d9443c01a7336-2985c23458csm4635395ad.4.2025.11.13.23.04.03 (version=TLS1_2 cipher=ECDHE-ECDSA-AES128-GCM-SHA256 bits=128/128); Thu, 13 Nov 2025 23:04:03 -0800 (PST) X-Relaying-Domain: iol.unh.edu Date: Thu, 13 Nov 2025 23:04:03 -0800 (PST) Message-ID: <6916d463.170a0220.2d505b.5b3aSMTPIN_ADDED_MISSING@mx.google.com> Received: from [172.21.0.2] (unknown [172.18.0.240]) by postal.iol.unh.edu (Postfix) with ESMTP id 99BA76051830; Fri, 14 Nov 2025 02:04:02 -0500 (EST) Subject: |SUCCESS| pw158771 [PATCH] net/mlx5: fix uninitialized warning From: dpdklab@iol.unh.edu To: Test Report Cc: dpdk-test-reports@iol.unh.edu In-Reply-To: <20251113163301.285550-1-stephen@networkplumber.org> References: <20251113163301.285550-1-stephen@networkplumber.org> Content-Type: text/plain X-BeenThere: test-report@dpdk.org X-Mailman-Version: 2.1.29 Precedence: list List-Id: automatic DPDK test reports List-Unsubscribe: , List-Archive: List-Post: List-Help: List-Subscribe: , Errors-To: test-report-bounces@dpdk.org Test-Label: iol-compile-amd64-testing Test-Status: SUCCESS http://dpdk.org/patch/158771 _Testing PASS_ Submitter: Stephen Hemminger Date: Thursday, November 13 2025 16:33:01 DPDK git baseline: Repo:dpdk-next-net-mlx Branch: master CommitID:ae657d56b1f0ea979b3f611edf28d773efc2ddcf 158771 --> testing pass Upstream job id: Windows-Compile-DPDK-Native#32313 Test environment and result as below: +---------------------+--------------------+-------------------------+ | Environment | dpdk_meson_compile | dpdk_llvm_clang_compile | +=====================+====================+=========================+ | Ubuntu 20.04 | PASS | SKIPPED | +---------------------+--------------------+-------------------------+ | FreeBSD 14.2 | PASS | SKIPPED | +---------------------+--------------------+-------------------------+ | Windows Server 2022 | SKIPPED | PASS | +---------------------+--------------------+-------------------------+ Ubuntu 20.04 Kernel: 4.19 Compiler: gcc gcc (Ubuntu 9.4.0-1ubuntu1~20.04.2) 9.4.0 FreeBSD 14.2 Kernel: 14.2-RELEASE Compiler: clang 18.1.6 Windows Server 2022 Kernel: 10.0.20348.2031 Compiler: clang 15.0.7, gcc 14.1.0 (MinGW), and MSVC VS 19.39.33521 To view detailed results, visit: https://lab.dpdk.org/results/dashboard/patchsets/34579/ UNH-IOL DPDK Community Lab To manage your email subscriptions, visit: https://lab.dpdk.org/results/dashboard/preferences/subscriptions/