From mboxrd@z Thu Jan 1 00:00:00 1970 Return-Path: Received: from mails.dpdk.org (mails.dpdk.org [217.70.189.124]) by inbox.dpdk.org (Postfix) with ESMTP id 47A7648B04 for ; Fri, 14 Nov 2025 08:08:19 +0100 (CET) Received: from mails.dpdk.org (localhost [127.0.0.1]) by mails.dpdk.org (Postfix) with ESMTP id 4320140151; Fri, 14 Nov 2025 08:08:19 +0100 (CET) Received: from mail-pl1-f228.google.com (mail-pl1-f228.google.com [209.85.214.228]) by mails.dpdk.org (Postfix) with ESMTP id 074ED40151 for ; Fri, 14 Nov 2025 08:08:18 +0100 (CET) Received: by mail-pl1-f228.google.com with SMTP id d9443c01a7336-2958db8ae4fso16468365ad.2 for ; Thu, 13 Nov 2025 23:08:17 -0800 (PST) DKIM-Signature: v=1; a=rsa-sha256; c=relaxed/relaxed; d=iol.unh.edu; s=unh-iol; t=1763104097; x=1763708897; darn=dpdk.org; h=cc:to:from:subject:message-id:date:from:to:cc:subject:date :message-id:reply-to; bh=d905CaGt+fvkrjw99bcpGxrflwTYxAiqIxa5gfbUXtI=; b=OHX2wv/ttOy/t+3Tq5VzewAKmM7QMbn9Y7rd5oAtWVd1EqCd2TCfTcBXCbOB1wjtnK OWI6aRq+hfeaf2XgVpTOhH+D5covUNIb3GHjtrehq6SINLIZv3gVcRSLTzAI5eQaUc/B vS6sdwyPoyDva3Rv+DgFhFdu4+0WCXu1XyzEs= X-Google-DKIM-Signature: v=1; a=rsa-sha256; c=relaxed/relaxed; d=1e100.net; s=20230601; t=1763104097; x=1763708897; h=cc:to:from:subject:message-id:date:x-gm-gg:x-gm-message-state:from :to:cc:subject:date:message-id:reply-to; bh=d905CaGt+fvkrjw99bcpGxrflwTYxAiqIxa5gfbUXtI=; b=HgJUah+dDuzQJTuF8klTb2v0Rf6fFc+Ro5uqmDwnRG7z+zOSpWEbdVHfhRi9uTc6Za 94fOcdIfxBzoZB60Hup9LTuq/ynuHLTnbgBZQRk9cfZmJzkPuyaEnmVBlKqMDQgMck/T r2hhS2tcPgslIQbwk+l1BNKEU9x/+dUALJDOnXMic71bXaVb9YHs6EKvaVFX7+81q/ge Fh6+HRwvA2qmPVsCHQgH/r7WhQgmU2KcH5LfygpHbhqrgoLs8OwDXo/svVxZzAy1dE8P OiH64A+qU90F0EqL35jP02/VMXESmlaEkMHJljLV3TwkuaEauBFSSiNir8JU/hdNqLbn I8Mg== X-Gm-Message-State: AOJu0YyBXQNHD2B7DR/YlqPP3aJgxM9kSrKq4OZSzVdLRSDV0BUopNZ2 gIZxEMpg+DMf+n+k1KS5R5y6JNvfFxvgHzqCW6vrTTn68OpyavWYLTDCA07QiRXElEh0cMefwIF KA3A7w3nL8zrUM9tJF5+bm6S6Tmo7HfwZK6QDAzSqmn3qQIn4e0Sf X-Gm-Gg: ASbGncvVZQjKJ72PrHHV95ekQ45iPFDi3Mk9bySScCcCYCUr6K8vjPCGrtTgxlluPyf Mc6illcHxpHdeu7eTxLI+EOq2TZLbyTro9zkJXFBEngaHsS7+sqn2fHrRmDdBIDWEMfYJvH++v9 6xb32jm1erWGbNiNIhs3dZ6oU8wGCETwQe+dMzztqquPZx29reYJIjwbzbqZ/IkrIfXjG5z1gDe qPv9FCZ3UJXxTTjedNH+wavWTBub+C3kM33CjByy9TI9i0eGeXlkPN4OoJxE7+mmKDRtpMyxJ6z 8w974FGpBWXwAcsJOoRJo7XqCPjpYGuJkeEHUTwcE7hNeaOeDxpNQaUwUY1hT3aKi8qocVS7HPD TOb+Xtpj2 X-Google-Smtp-Source: AGHT+IFNXuH3OBhEXp0gl2MIDjAEyPiT6fPe0Yxqb7AWJ3hFS62BzklWsijMK1Ga/F/73KgMnfBJrkPqVvER X-Received: by 2002:a17:903:41c3:b0:275:81ca:2c5 with SMTP id d9443c01a7336-2986a76b644mr24833015ad.59.1763104097014; Thu, 13 Nov 2025 23:08:17 -0800 (PST) Received: from postal.iol.unh.edu (postal.iol.unh.edu. [2606:4100:3880:1234::84]) by smtp-relay.gmail.com with ESMTPS id d9443c01a7336-2985c23458csm4643755ad.4.2025.11.13.23.08.16 (version=TLS1_2 cipher=ECDHE-ECDSA-AES128-GCM-SHA256 bits=128/128); Thu, 13 Nov 2025 23:08:17 -0800 (PST) X-Relaying-Domain: iol.unh.edu Date: Thu, 13 Nov 2025 23:08:17 -0800 (PST) Message-ID: <6916d561.170a0220.2d505b.5bfbSMTPIN_ADDED_MISSING@mx.google.com> Received: from [172.21.0.2] (unknown [172.18.0.240]) by postal.iol.unh.edu (Postfix) with ESMTP id 258F06051830; Fri, 14 Nov 2025 02:08:16 -0500 (EST) Subject: |SUCCESS| [GIT MASTER] 0bd935abcb823f581ce53986986aa54eaf6f8140 From: dpdklab@iol.unh.edu To: Test Report Cc: dpdk-test-reports@iol.unh.edu, Xueming Li , Christian Ehrhardt , Kevin Traynor , Luca Boccassi Content-Type: text/plain X-BeenThere: test-report@dpdk.org X-Mailman-Version: 2.1.29 Precedence: list List-Id: automatic DPDK test reports List-Unsubscribe: , List-Archive: List-Post: List-Help: List-Subscribe: , Errors-To: test-report-bounces@dpdk.org _Testing PASS_ Branch: tags/v24.11 0bd935abcb823f581ce53986986aa54eaf6f8140 --> testing pass Upstream job id: Generic-Unit-Test-DPDK#392626 Test environment and result as below: +-------------------------------+----------------+ | Environment | dpdk_unit_test | +===============================+================+ | CentOS Stream 9 | PASS | +-------------------------------+----------------+ | Fedora Linux 40 | PASS | +-------------------------------+----------------+ | Fedora Linux 41 | PASS | +-------------------------------+----------------+ | Fedora Linux 42 | PASS | +-------------------------------+----------------+ | Debian GNU/Linux 12 | PASS | +-------------------------------+----------------+ | CentOS Stream 10 | PASS | +-------------------------------+----------------+ | Red Hat Enterprise Linux 8.10 | PASS | +-------------------------------+----------------+ | Red Hat Enterprise Linux 9.5 | PASS | +-------------------------------+----------------+ | Ubuntu 22.04 | PASS | +-------------------------------+----------------+ | Ubuntu 24.04 | PASS | +-------------------------------+----------------+ | Ubuntu 20.04 | PASS | +-------------------------------+----------------+ CentOS Stream 9 Kernel: 5.15 Compiler: gcc gcc (GCC) 11.5.0 20240719 (Red Hat 11.5.0-11) Fedora Linux 40 Kernel: 5.15 Compiler: gcc gcc (GCC) 14.2.1 20240912 (Red Hat 14.2.1-3) Fedora Linux 41 Kernel: 5.15 Compiler: gcc gcc (GCC) 14.3.1 20250523 (Red Hat 14.3.1-1) Fedora Linux 42 Kernel: 5.15 Compiler: gcc gcc (GCC) 15.2.1 20250808 (Red Hat 15.2.1-1) Debian GNU/Linux 12 Kernel: 5.15 Compiler: gcc gcc (Debian 12.2.0-14+deb12u1) 12.2.0 CentOS Stream 10 Kernel: 5.15 Compiler: gcc gcc (GCC) 14.2.1 20250110 (Red Hat 14.2.1-8) Red Hat Enterprise Linux 8.10 Kernel: 5.15 Compiler: gcc gcc (GCC) 8.5.0 20210514 (Red Hat 8.5.0-22) Red Hat Enterprise Linux 9.5 Kernel: 5.15 Compiler: gcc gcc (GCC) 11.5.0 20240719 (Red Hat 11.5.0-2) Ubuntu 22.04 Kernel: 5.15 Compiler: gcc gcc (Ubuntu 11.4.0-1ubuntu1~22.04) 11.4.0 Ubuntu 24.04 Kernel: 5.15 Compiler: gcc gcc (Ubuntu 13.3.0-6ubuntu2~24.04) 13.3.0 Ubuntu 20.04 Kernel: 5.15 Compiler: gcc gcc (Ubuntu 9.4.0-1ubuntu1~20.04.2) 9.4.0 To view detailed results, visit: https://lab.dpdk.org/results/dashboard/tarballs/35594/ UNH-IOL DPDK Community Lab To manage your email subscriptions, visit: https://lab.dpdk.org/results/dashboard/preferences/subscriptions/