From mboxrd@z Thu Jan 1 00:00:00 1970 Return-Path: Received: from mails.dpdk.org (mails.dpdk.org [217.70.189.124]) by inbox.dpdk.org (Postfix) with ESMTP id F328A48B04 for ; Fri, 14 Nov 2025 08:14:46 +0100 (CET) Received: from mails.dpdk.org (localhost [127.0.0.1]) by mails.dpdk.org (Postfix) with ESMTP id EDC0140151; Fri, 14 Nov 2025 08:14:46 +0100 (CET) Received: from mail-pl1-f226.google.com (mail-pl1-f226.google.com [209.85.214.226]) by mails.dpdk.org (Postfix) with ESMTP id C9B6140151 for ; Fri, 14 Nov 2025 08:14:44 +0100 (CET) Received: by mail-pl1-f226.google.com with SMTP id d9443c01a7336-2958db8ae4fso16523795ad.2 for ; Thu, 13 Nov 2025 23:14:44 -0800 (PST) DKIM-Signature: v=1; a=rsa-sha256; c=relaxed/relaxed; d=iol.unh.edu; s=unh-iol; t=1763104484; x=1763709284; darn=dpdk.org; h=references:in-reply-to:cc:to:from:subject:message-id:date:from:to :cc:subject:date:message-id:reply-to; bh=oRV/Ja75VRS64LMX+M9pT7WR63jJOIKLIrl5lqaH3YQ=; b=QgHzuEE10YdEBoi+C+25SeU340BfFgI8+sdvsYl9MM8/IEB66ULx+0YFnrTMjSnXpS VyUkIuVBoELobkc6AqZ31M5tZNInpAABew1Fte10tT04cdIC0qoE8EY1cvchc6fcUL3z gyB8dkEmmlZMj5rYlPMu8zEZPaVQtgx5ASIZI= X-Google-DKIM-Signature: v=1; a=rsa-sha256; c=relaxed/relaxed; d=1e100.net; s=20230601; t=1763104484; x=1763709284; h=references:in-reply-to:cc:to:from:subject:message-id:date:x-gm-gg :x-gm-message-state:from:to:cc:subject:date:message-id:reply-to; bh=oRV/Ja75VRS64LMX+M9pT7WR63jJOIKLIrl5lqaH3YQ=; b=UcPkGyKABANKGEppOVjhokFTtVOihZg0IlXsbhVeGj3uISO3rEPrMzgLDKi7WUMI63 2HApHsyge2uNWauZZ8UCAFPsqXL+SoUx+1ryAiCSHXO8HFebaqlPfpBA/RJPdrhoqvCr 4x+VJLOBFf+gYJrCMYXuy3mJ5e1wqNzj6fMV5EPno5oYPCJupyTboJ02YCaVbTgjnWeD 0wDHF1CksgmOipAiUWyKgadGnWjh+XtKejBhfBEKeCpVo6ERX2+by4s9hY/NER+mbkfT C2gQBG5meA0yS7mzQTjt22xi4Fr9OS6sDjOrmmORs+J0SvK8wap50oSz1l/VPBx92AYR xZuA== X-Gm-Message-State: AOJu0Yxdk8LkGIqEPHmFKzhDI/Mk33BdSshO9HnffZJt6HrGrZ8rc6Fy V7gB/NUF/Ac6ph12vsPECjB8fPyD8zQCPh9MJk/+LSGFs/KbP2W8B6HXQk1BAXaqgoEQmumC/K2 NESU+eNGuLFvsHxUuLYpydHFJZJ/A0+a+SiAyoiZnDuOZTaHz+wWMwQuWlHLM X-Gm-Gg: ASbGncv621Emnbt3tGRFTiRmZEvxV3o8N8DafR4q0g62dDghI+sVsp7qA6/AXpi/LCB nH+mbQtLzRxZOSUZoBY8kMi5MSiM/blW5SeShIHXmjHRd47/vJJ9d0L3OUG2elbOs6E3tJHvMZJ t+Q815g9kYJVSpCb5rSgkpaTjL1IeB3smVlU3RmkZDzc/4yQDPC9gUawiBTOnQLTy2KYW58/dh0 /BrChPCRH8KXt9WbZa4mrUpBzQJuXvUH2Q+KtSho0BzE3ZcYUvjWAwibUNVTq20BYCpkQ8IEnwl olNjN4dbPF59Zf/A4iq7DG5P5inOhEkJXBs7kjTkxwvvIFyIFFCJfqdw69APK7n9OCI1Q1T25+7 Y3yL84r0f X-Google-Smtp-Source: AGHT+IFTxbsvlvxzRW/kBYh829kpXckIzfWoEzc/5jVf2UOuX+TGb55zaJUx7yoaJSNSBuUsRLYXKFDzcJIR X-Received: by 2002:a17:902:e74b:b0:295:fbc7:d282 with SMTP id d9443c01a7336-2986a6f081emr22990755ad.27.1763104483980; Thu, 13 Nov 2025 23:14:43 -0800 (PST) Received: from postal.iol.unh.edu (postal.iol.unh.edu. [2606:4100:3880:1234::84]) by smtp-relay.gmail.com with ESMTPS id d9443c01a7336-29861b38139sm3245915ad.44.2025.11.13.23.14.43 (version=TLS1_2 cipher=ECDHE-ECDSA-AES128-GCM-SHA256 bits=128/128); Thu, 13 Nov 2025 23:14:43 -0800 (PST) X-Relaying-Domain: iol.unh.edu Date: Thu, 13 Nov 2025 23:14:43 -0800 (PST) Message-ID: <6916d6e3.170a0220.253d1d.eb89SMTPIN_ADDED_MISSING@mx.google.com> Received: from [172.21.0.2] (unknown [172.18.0.240]) by postal.iol.unh.edu (Postfix) with ESMTP id 271B66051830; Fri, 14 Nov 2025 02:14:43 -0500 (EST) Subject: |SUCCESS| pw158745 [PATCH] [v3] net/ice: fix statistics read error From: dpdklab@iol.unh.edu To: Test Report Cc: dpdk-test-reports@iol.unh.edu, Bruce Richardson In-Reply-To: <20251113074710.8251-1-zhichaox.zeng@intel.com> References: <20251113074710.8251-1-zhichaox.zeng@intel.com> Content-Type: text/plain X-BeenThere: test-report@dpdk.org X-Mailman-Version: 2.1.29 Precedence: list List-Id: automatic DPDK test reports List-Unsubscribe: , List-Archive: List-Post: List-Help: List-Subscribe: , Errors-To: test-report-bounces@dpdk.org Test-Label: iol-unit-amd64-testing Test-Status: SUCCESS http://dpdk.org/patch/158745 _Testing PASS_ Submitter: Zhichao Zeng Date: Thursday, November 13 2025 07:47:10 DPDK git baseline: Repo:dpdk-next-net-intel Branch: master CommitID:c63646d076330fb2ef3282cbd413aaf93f0509e6 158745 --> testing pass Upstream job id: Generic-VM-Unit-Test-DPDK#32522 Test environment and result as below: +-------------------------------+----------------+ | Environment | dpdk_unit_test | +===============================+================+ | CentOS Stream 9 | PASS | +-------------------------------+----------------+ | Debian GNU/Linux 12 | PASS | +-------------------------------+----------------+ | Fedora Linux 41 | PASS | +-------------------------------+----------------+ | Fedora Linux 42 | PASS | +-------------------------------+----------------+ | Fedora Linux 40 | PASS | +-------------------------------+----------------+ | CentOS Stream 10 | PASS | +-------------------------------+----------------+ | Red Hat Enterprise Linux 8.10 | PASS | +-------------------------------+----------------+ | Red Hat Enterprise Linux 9.5 | PASS | +-------------------------------+----------------+ | Ubuntu 24.04 | PASS | +-------------------------------+----------------+ | Ubuntu 22.04 | PASS | +-------------------------------+----------------+ | Ubuntu 20.04 | PASS | +-------------------------------+----------------+ | Windows Server 2022 | PASS | +-------------------------------+----------------+ CentOS Stream 9 Kernel: 5.15 Compiler: gcc gcc (GCC) 11.5.0 20240719 (Red Hat 11.5.0-11) Debian GNU/Linux 12 Kernel: 5.15 Compiler: gcc gcc (Debian 12.2.0-14+deb12u1) 12.2.0 Fedora Linux 41 Kernel: 5.15 Compiler: clang gcc (GCC) 14.3.1 20250523 (Red Hat 14.3.1-1) Fedora Linux 42 Kernel: 5.15 Compiler: gcc gcc (GCC) 15.2.1 20250808 (Red Hat 15.2.1-1) Fedora Linux 40 Kernel: 5.15 Compiler: clang gcc (GCC) 14.2.1 20240912 (Red Hat 14.2.1-3) CentOS Stream 10 Kernel: 5.15 Compiler: gcc gcc (GCC) 14.2.1 20250110 (Red Hat 14.2.1-8) Red Hat Enterprise Linux 8.10 Kernel: 5.15 Compiler: gcc gcc (GCC) 8.5.0 20210514 (Red Hat 8.5.0-22) Red Hat Enterprise Linux 9.5 Kernel: 5.15 Compiler: gcc gcc (GCC) 11.5.0 20240719 (Red Hat 11.5.0-2) Ubuntu 24.04 Kernel: 5.15 Compiler: gcc gcc (Ubuntu 13.3.0-6ubuntu2~24.04) 13.3.0 Ubuntu 22.04 Kernel: 5.15 Compiler: gcc gcc (Ubuntu 11.4.0-1ubuntu1~22.04) 11.4.0 Ubuntu 20.04 Kernel: 5.15 Compiler: gcc gcc (Ubuntu 9.4.0-1ubuntu1~20.04.2) 9.4.0 Windows Server 2022 Kernel: 10.0.20348.2031 Compiler: clang 15.0.7, gcc 14.1.0 (MinGW), and MSVC VS 19.39.33521 To view detailed results, visit: https://lab.dpdk.org/results/dashboard/patchsets/34565/ UNH-IOL DPDK Community Lab To manage your email subscriptions, visit: https://lab.dpdk.org/results/dashboard/preferences/subscriptions/