From mboxrd@z Thu Jan 1 00:00:00 1970 Return-Path: Received: from mails.dpdk.org (mails.dpdk.org [217.70.189.124]) by inbox.dpdk.org (Postfix) with ESMTP id 1ABB248B04 for ; Fri, 14 Nov 2025 08:24:13 +0100 (CET) Received: from mails.dpdk.org (localhost [127.0.0.1]) by mails.dpdk.org (Postfix) with ESMTP id EA3DB40151; Fri, 14 Nov 2025 08:24:12 +0100 (CET) Received: from mail-pl1-f227.google.com (mail-pl1-f227.google.com [209.85.214.227]) by mails.dpdk.org (Postfix) with ESMTP id 2187B40151 for ; Fri, 14 Nov 2025 08:24:12 +0100 (CET) Received: by mail-pl1-f227.google.com with SMTP id d9443c01a7336-297dc3e299bso16982775ad.1 for ; Thu, 13 Nov 2025 23:24:12 -0800 (PST) DKIM-Signature: v=1; a=rsa-sha256; c=relaxed/relaxed; d=iol.unh.edu; s=unh-iol; t=1763105051; x=1763709851; darn=dpdk.org; h=references:in-reply-to:cc:to:from:subject:message-id:date:from:to :cc:subject:date:message-id:reply-to; bh=15LWfvW+OjVr/nCfEjYIrGWYc/gNjEfLtCRFpXDX9wM=; b=Qxag37vp/E4i900Z+Ee6h1LWIN35CWBWT0VIubhOt5py1HfXk0U4ZgMon5nDP+JtJ9 hIRtNZ8J7E09V/nZ6b8/WueyZzQ5yQp7j+AWoBoZGm13K7yK2A7SO86Vx+EM4EWgMlc0 Khxb5tZTmVatpaKvK4oYIPgDLKs1OXdtNpZWM= X-Google-DKIM-Signature: v=1; a=rsa-sha256; c=relaxed/relaxed; d=1e100.net; s=20230601; t=1763105051; x=1763709851; h=references:in-reply-to:cc:to:from:subject:message-id:date:x-gm-gg :x-gm-message-state:from:to:cc:subject:date:message-id:reply-to; bh=15LWfvW+OjVr/nCfEjYIrGWYc/gNjEfLtCRFpXDX9wM=; b=WD17wqG3V3Kz8TYDfnUnpdHdbHgJh1wE3ZXLXaF7nBxh1connv97tzkv2QiGWSq3L9 s5Rhki2w9sZXV+QlHZo7+pGirNAkOc04Cn7m0GoC1YOp13nB6YRp94Vv+ua+ipldVl12 zdlnJJ+RN4OXLiGlaECagRTC0MTURpiji1EJtEQN6QxSqhEqjTFmHdL4mdiAlWwr2fsj hoA7FdJSSW/R/RGmR+WbDVq2Eqn8OOBe3zgnL+XYDV1rp0L0jektQuY6u7OftCBlTL1G nfwPkyg08lfLQF45oDUbw2C5FNqm9dx19Ftm/3A0M+MtjZ9bPm1OKOhzg9GB++5CsrKC C8XQ== X-Gm-Message-State: AOJu0YzAW9SmTj6P7Txy0H0tmL17dR1OoLjR7xTNEfvvfVSGefSZju9c nxgM14NgPzOBkDx7U2RZdovbJ/MDkPfrGJWbWKrqh3cezeeXrTLHkhbg8o/nvN2CuTM7IMV7J4a ZkK6oxzGc6YqhCWz0xYYxA35+9ToxjHEdn3FRHMxkBZpe X-Gm-Gg: ASbGncu631A2buqBPaofhyRrwyo9Mfk8zN9MdF5Nc74iJVwAnseW6uzGEzR2jKRJ86g MVM9uy5tBoJktytWeyq3VoaKqo6b9wEtFO1aZntawDpdGYic8jdHXMEydnUEnLxyJn8LymhG4vX 2ZG0sXeD4i/GoW1TmwUj4gr7ZHaugz08cUD+6vXDUqB7/oe5lT1KNqfLoIMj6hR6B8/eF+mXhnY gFCWC3cDoBpu8GSgh+QxmljiQyN6gjviBr8NHNATaByDcjcOfwajQO/s67NGmgXbnc4eQ5F0/mG 3Lr4cpTxTkPrTFU3NJbpjuOxFZeNADxj0Sj0/NvtpyuEketGIPv77rqpan0c6E9mye+NHkRmOIG 8ThKBC/7urAX5xb3/en4FbparHxk+axI= X-Google-Smtp-Source: AGHT+IGB9NpQIcayEExPbOcFzYeEy0nyamOmEt5ZDdPXOxT8+xeD9JHcBdDz+oiXUCb5MqblHzDPehM4I5s0 X-Received: by 2002:a17:902:f68e:b0:296:217:33ff with SMTP id d9443c01a7336-2986a74b123mr22647065ad.48.1763105050899; Thu, 13 Nov 2025 23:24:10 -0800 (PST) Received: from postal.iol.unh.edu (postal.iol.unh.edu. [132.177.123.84]) by smtp-relay.gmail.com with ESMTPS id d9443c01a7336-2985c2346cesm4617035ad.11.2025.11.13.23.24.10 (version=TLS1_2 cipher=ECDHE-ECDSA-AES128-GCM-SHA256 bits=128/128); Thu, 13 Nov 2025 23:24:10 -0800 (PST) X-Relaying-Domain: iol.unh.edu Date: Thu, 13 Nov 2025 23:24:10 -0800 (PST) Message-ID: <6916d91a.170a0220.18610c.5f59SMTPIN_ADDED_MISSING@mx.google.com> Received: from [172.21.0.2] (unknown [172.18.0.240]) by postal.iol.unh.edu (Postfix) with ESMTP id 51FF86051830; Fri, 14 Nov 2025 02:24:10 -0500 (EST) Subject: |SUCCESS| pw158745 [PATCH] [v3] net/ice: fix statistics read error From: dpdklab@iol.unh.edu To: Test Report Cc: dpdk-test-reports@iol.unh.edu, Bruce Richardson In-Reply-To: <20251113074710.8251-1-zhichaox.zeng@intel.com> References: <20251113074710.8251-1-zhichaox.zeng@intel.com> Content-Type: text/plain X-BeenThere: test-report@dpdk.org X-Mailman-Version: 2.1.29 Precedence: list List-Id: automatic DPDK test reports List-Unsubscribe: , List-Archive: List-Post: List-Help: List-Subscribe: , Errors-To: test-report-bounces@dpdk.org Test-Label: iol-unit-amd64-testing Test-Status: SUCCESS http://dpdk.org/patch/158745 _Testing PASS_ Submitter: Zhichao Zeng Date: Thursday, November 13 2025 07:47:10 DPDK git baseline: Repo:dpdk-next-net-intel Branch: master CommitID:c63646d076330fb2ef3282cbd413aaf93f0509e6 158745 --> testing pass Upstream job id: Generic-VM-Unit-Test-DPDK#32523 Test environment and result as below: +-------------------------------+----------------+ | Environment | dpdk_unit_test | +===============================+================+ | CentOS Stream 9 | PASS | +-------------------------------+----------------+ | Debian GNU/Linux 12 | PASS | +-------------------------------+----------------+ | Fedora Linux 41 | PASS | +-------------------------------+----------------+ | Fedora Linux 42 | PASS | +-------------------------------+----------------+ | Fedora Linux 40 | PASS | +-------------------------------+----------------+ | CentOS Stream 10 | PASS | +-------------------------------+----------------+ | Red Hat Enterprise Linux 8.10 | PASS | +-------------------------------+----------------+ | Red Hat Enterprise Linux 9.5 | PASS | +-------------------------------+----------------+ | Ubuntu 24.04 | PASS | +-------------------------------+----------------+ | Ubuntu 22.04 | PASS | +-------------------------------+----------------+ | Ubuntu 20.04 | PASS | +-------------------------------+----------------+ | Windows Server 2022 | PASS | +-------------------------------+----------------+ CentOS Stream 9 Kernel: 5.15 Compiler: gcc gcc (GCC) 11.5.0 20240719 (Red Hat 11.5.0-11) Debian GNU/Linux 12 Kernel: 5.15 Compiler: gcc gcc (Debian 12.2.0-14+deb12u1) 12.2.0 Fedora Linux 41 Kernel: 5.15 Compiler: clang gcc (GCC) 14.3.1 20250523 (Red Hat 14.3.1-1) Fedora Linux 42 Kernel: 5.15 Compiler: gcc gcc (GCC) 15.2.1 20250808 (Red Hat 15.2.1-1) Fedora Linux 40 Kernel: 5.15 Compiler: clang gcc (GCC) 14.2.1 20240912 (Red Hat 14.2.1-3) CentOS Stream 10 Kernel: 5.15 Compiler: gcc gcc (GCC) 14.2.1 20250110 (Red Hat 14.2.1-8) Red Hat Enterprise Linux 8.10 Kernel: 5.15 Compiler: gcc gcc (GCC) 8.5.0 20210514 (Red Hat 8.5.0-22) Red Hat Enterprise Linux 9.5 Kernel: 5.15 Compiler: gcc gcc (GCC) 11.5.0 20240719 (Red Hat 11.5.0-2) Ubuntu 24.04 Kernel: 5.15 Compiler: gcc gcc (Ubuntu 13.3.0-6ubuntu2~24.04) 13.3.0 Ubuntu 22.04 Kernel: 5.15 Compiler: gcc gcc (Ubuntu 11.4.0-1ubuntu1~22.04) 11.4.0 Ubuntu 20.04 Kernel: 5.15 Compiler: gcc gcc (Ubuntu 9.4.0-1ubuntu1~20.04.2) 9.4.0 Windows Server 2022 Kernel: 10.0.20348.2031 Compiler: clang 15.0.7, gcc 14.1.0 (MinGW), and MSVC VS 19.39.33521 To view detailed results, visit: https://lab.dpdk.org/results/dashboard/patchsets/34565/ UNH-IOL DPDK Community Lab To manage your email subscriptions, visit: https://lab.dpdk.org/results/dashboard/preferences/subscriptions/