From mboxrd@z Thu Jan 1 00:00:00 1970 Return-Path: Received: from mails.dpdk.org (mails.dpdk.org [217.70.189.124]) by inbox.dpdk.org (Postfix) with ESMTP id 8776C48B04 for ; Fri, 14 Nov 2025 08:29:01 +0100 (CET) Received: from mails.dpdk.org (localhost [127.0.0.1]) by mails.dpdk.org (Postfix) with ESMTP id 5DCE840151; Fri, 14 Nov 2025 08:29:01 +0100 (CET) Received: from mail-io1-f98.google.com (mail-io1-f98.google.com [209.85.166.98]) by mails.dpdk.org (Postfix) with ESMTP id 8C4F140151 for ; Fri, 14 Nov 2025 08:29:00 +0100 (CET) Received: by mail-io1-f98.google.com with SMTP id ca18e2360f4ac-94895f6b144so75402739f.0 for ; Thu, 13 Nov 2025 23:29:00 -0800 (PST) DKIM-Signature: v=1; a=rsa-sha256; c=relaxed/relaxed; d=iol.unh.edu; s=unh-iol; t=1763105340; x=1763710140; darn=dpdk.org; h=cc:to:from:subject:message-id:date:from:to:cc:subject:date :message-id:reply-to; bh=qiXWLJgpNI4239ZctkFUMQRWQ4wWcT8miGhwGC8qcOk=; b=VfMmngu77fKfvhvxGkD47sxaCmtZccBJBEyMIdbVGgIiyaDQegQOMmkdeQkfhWFLDg /cD4CO51f5bVGACT7LeWYpqqfsraT3vy4AsaiphMX9qLM+KZu0is4SdC5XAj9AlM49jZ ypGTUv/MBRbCDFhozriZojhwugoGaAkUR480o= X-Google-DKIM-Signature: v=1; a=rsa-sha256; c=relaxed/relaxed; d=1e100.net; s=20230601; t=1763105340; x=1763710140; h=cc:to:from:subject:message-id:date:x-gm-gg:x-gm-message-state:from :to:cc:subject:date:message-id:reply-to; bh=qiXWLJgpNI4239ZctkFUMQRWQ4wWcT8miGhwGC8qcOk=; b=cYyfunekPT4DglRCEYnATwRK4h+iaAkyT71DPEgZRGdKwAY6XXsULq7ZVwr5tdGfdd kzTxukVb1cIxeKV60UNgpf4nGTCrNjBS4yEwVYwou2vwDrdPvNY0/cMzaykyU7xaOiKi /i7wPGmq6uweTQ5uOzseOT+N3D6nrlDHZqO1zn1fseCw9mgld5cqckXZwwcqFTiorsaF IBgOMpg5ULVrZGJ+zDal0HilwpLa1jYTvM5aWEGSO3oUj3B6yAO7TU/LPiwuaM29RERl Axf0afPjwLXj5zZGqDeSNtE/YuQLLkcrUfcDIoGjeZLEPfT0vFStNJtf0DnB6adkTG4F Qczw== X-Gm-Message-State: AOJu0YwO7g5ClFFC0aQ9CnmRCQPF2GhwOmQowZ0SUtwR4RxpSyY8PZzW H0cxlj7hGukbuv80hJm4nxlN96n8QdxAAHRCMpWf+CVqQixOoH7hdgWHJpuHxRJpdL0siP9QDY+ 4w1tqxnZU89OAubeNC9MdMOwT7+P3IW9mmgOAdYwu52bB0QFkyTEH X-Gm-Gg: ASbGncslr5QB/9X1wrrOFfwWorFK1/zgWLMIApD3TZRMnM1A5GY54oycB6ZlpY4MH8U rGdktwumB9Ar2+KGcFk2RHSzC7bK6HoSi7qmgqOTqCsRLAwHAnJqMJNPArXqpZzwXuG8jkGFc38 jBYM7JGYYE1xHGs3eE0S6RR0j6gIJ4E4uyhNWiJ/+2rS9zTcjM3tDShnDGudaE6+IlmvUl93QoR zJI79hEV21d6UQclsY2CxE9n8UxCeYtMza4Nc04/XPMHiANsaLCssTHcxTGXWn2rtETRFDYWIzr OR9aX7K4UhQyxTGi3bWv7b5KzPS4yqwUtFArXWDMzyf3NhphNl8+9DhDAbNqWNlSRoOvoMqWo+9 Sgem/6QEY X-Google-Smtp-Source: AGHT+IH/VfQwVqb4lAEC9b/RqpHl9PZpGCIptF9//NrbJ1pq/Dssllc8Xnyrn7dz8mufU9t746byl70jje7s X-Received: by 2002:a05:6602:6d89:b0:948:9e18:7d7b with SMTP id ca18e2360f4ac-948e0de6291mr330498639f.19.1763105339777; Thu, 13 Nov 2025 23:28:59 -0800 (PST) Received: from postal.iol.unh.edu (postal.iol.unh.edu. [2606:4100:3880:1234::84]) by smtp-relay.gmail.com with ESMTPS id ca18e2360f4ac-948d2bb758bsm25240839f.5.2025.11.13.23.28.59 (version=TLS1_2 cipher=ECDHE-ECDSA-AES128-GCM-SHA256 bits=128/128); Thu, 13 Nov 2025 23:28:59 -0800 (PST) X-Relaying-Domain: iol.unh.edu Date: Thu, 13 Nov 2025 23:28:59 -0800 (PST) Message-ID: <6916da3b.6b0a0220.1a3917.c09cSMTPIN_ADDED_MISSING@mx.google.com> Received: from [172.21.0.2] (unknown [172.18.0.240]) by postal.iol.unh.edu (Postfix) with ESMTP id EDDB460003E8; Fri, 14 Nov 2025 02:28:58 -0500 (EST) Subject: |WARNING| [GIT MASTER] 62f583c49bf67dd4d6733ece14e55fe6839e66d1 From: dpdklab@iol.unh.edu To: Test Report Cc: dpdk-test-reports@iol.unh.edu, Xueming Li , Christian Ehrhardt , Kevin Traynor , Luca Boccassi Content-Type: text/plain X-BeenThere: test-report@dpdk.org X-Mailman-Version: 2.1.29 Precedence: list List-Id: automatic DPDK test reports List-Unsubscribe: , List-Archive: List-Post: List-Help: List-Subscribe: , Errors-To: test-report-bounces@dpdk.org _Testing issues_ Branch: tags/v23.11 62f583c49bf67dd4d6733ece14e55fe6839e66d1 --> testing issues Upstream job id: Generic-Unit-Test-DPDK#392647 Test environment and result as below: +-------------------------------+----------------+ | Environment | dpdk_unit_test | +===============================+================+ | CentOS Stream 10 | PASS | +-------------------------------+----------------+ | Fedora Linux 40 | PASS | +-------------------------------+----------------+ | CentOS Stream 9 | PASS | +-------------------------------+----------------+ | Debian GNU/Linux 12 | PASS | +-------------------------------+----------------+ | Fedora Linux 41 | PASS | +-------------------------------+----------------+ | Ubuntu 20.04 | PASS | +-------------------------------+----------------+ | Fedora Linux 42 | PASS | +-------------------------------+----------------+ | Red Hat Enterprise Linux 9.5 | PASS | +-------------------------------+----------------+ | Ubuntu 22.04 | PASS | +-------------------------------+----------------+ | Red Hat Enterprise Linux 8.10 | PASS | +-------------------------------+----------------+ | Ubuntu 24.04 | PASS | +-------------------------------+----------------+ CentOS Stream 10 Kernel: 5.15 Compiler: gcc gcc (GCC) 14.2.1 20250110 (Red Hat 14.2.1-8) Fedora Linux 40 Kernel: 5.15 Compiler: clang gcc (GCC) 14.2.1 20240912 (Red Hat 14.2.1-3) CentOS Stream 9 Kernel: 5.15 Compiler: gcc gcc (GCC) 11.5.0 20240719 (Red Hat 11.5.0-11) Debian GNU/Linux 12 Kernel: 5.15 Compiler: gcc gcc (Debian 12.2.0-14+deb12u1) 12.2.0 Fedora Linux 41 Kernel: 5.15 Compiler: gcc gcc (GCC) 14.3.1 20250523 (Red Hat 14.3.1-1) Ubuntu 20.04 Kernel: 5.15 Compiler: gcc gcc (Ubuntu 9.4.0-1ubuntu1~20.04.2) 9.4.0 Fedora Linux 42 Kernel: 5.15 Compiler: gcc gcc (GCC) 15.2.1 20250808 (Red Hat 15.2.1-1) Red Hat Enterprise Linux 9.5 Kernel: 5.15 Compiler: gcc gcc (GCC) 11.5.0 20240719 (Red Hat 11.5.0-2) Ubuntu 22.04 Kernel: 5.15 Compiler: gcc gcc (Ubuntu 11.4.0-1ubuntu1~22.04) 11.4.0 Red Hat Enterprise Linux 8.10 Kernel: 5.15 Compiler: gcc gcc (GCC) 8.5.0 20210514 (Red Hat 8.5.0-22) Ubuntu 24.04 Kernel: 5.15 Compiler: gcc gcc (Ubuntu 13.3.0-6ubuntu2~24.04) 13.3.0 To view detailed results, visit: https://lab.dpdk.org/results/dashboard/tarballs/35593/ UNH-IOL DPDK Community Lab To manage your email subscriptions, visit: https://lab.dpdk.org/results/dashboard/preferences/subscriptions/