From mboxrd@z Thu Jan 1 00:00:00 1970 Return-Path: Received: from mails.dpdk.org (mails.dpdk.org [217.70.189.124]) by inbox.dpdk.org (Postfix) with ESMTP id 5EE1B48B04 for ; Fri, 14 Nov 2025 08:56:57 +0100 (CET) Received: from mails.dpdk.org (localhost [127.0.0.1]) by mails.dpdk.org (Postfix) with ESMTP id 5704840151; Fri, 14 Nov 2025 08:56:57 +0100 (CET) Received: from mail-il1-f228.google.com (mail-il1-f228.google.com [209.85.166.228]) by mails.dpdk.org (Postfix) with ESMTP id 31CCA40151 for ; Fri, 14 Nov 2025 08:56:55 +0100 (CET) Received: by mail-il1-f228.google.com with SMTP id e9e14a558f8ab-433770ba959so14047325ab.1 for ; Thu, 13 Nov 2025 23:56:55 -0800 (PST) DKIM-Signature: v=1; a=rsa-sha256; c=relaxed/relaxed; d=iol.unh.edu; s=unh-iol; t=1763107014; x=1763711814; darn=dpdk.org; h=references:in-reply-to:cc:to:from:subject:message-id:date:from:to :cc:subject:date:message-id:reply-to; bh=p3tJ13mzuwSmEJDsB/bljKCCVI71OV1iY/eL7W39eso=; b=cJDqMNpe70M3FizEM/ssUTcPEzSZ2o0ix51Zt4MCi7kqJW8+TlVod6aEI5XVpWScsb tVf4Std5HlzYwevsiTCJ64zTsqlWxowamHE0psHG/nkk6aPr6KRsVbHLYhOCKVirpQA/ RJlNOdrl9zk1y3LMP2cS1xkftcd9cMfy0Z0Q8= X-Google-DKIM-Signature: v=1; a=rsa-sha256; c=relaxed/relaxed; d=1e100.net; s=20230601; t=1763107014; x=1763711814; h=references:in-reply-to:cc:to:from:subject:message-id:date:x-gm-gg :x-gm-message-state:from:to:cc:subject:date:message-id:reply-to; bh=p3tJ13mzuwSmEJDsB/bljKCCVI71OV1iY/eL7W39eso=; b=NNfJlg7dmUvY72Yk1v5RR2yDf5kxYy4DfQzDDNrOdaY2xIc/3gJmrimaHlbZurWk43 EofR3UHH/z3kZ64rmGdyim7Bz5vqP+pViFHtbiGDgi5NVfiJLTfnkh6TYxSZ+84E/Nyd se/vNaqxg1OypZfk08qKUc4yhTPBGucnXiaeGYDId7K0FcAOHBptubyN2TGI3+MH4EDj MjL4DS5b7msmFvbTCoXwoof3JRcAVFPdiWNuVLflT8UkG912DmwU5VsXACVe3NwuCfuR wklgx9Bjs8WEFra0n8TdpFpZY/F7kDL3rFrNuw4ZXKzM3qH6axhFRVROynyQdV2Yz7R4 hSNQ== X-Gm-Message-State: AOJu0Yz9pU1Cdy5AS8lTAAJvfXLq+Wat1qsEagAMm1d8Ir+M5ISve6Va MB6/fVM1oVnEQPYRgDvyRTAgnp9kdVyILSfAPpsRtmCRTbYWJ0H6NRYI1+NCLJfDFD780mQzTMV 5umoQJdTbyPK28tiyz6qyghvpPaUS4nTAIcbEZbdeHjjw X-Gm-Gg: ASbGnctg2Az60Nqj0d+GquClRu5VASlOYqiY7ooSyuMBaF3aTxCbGX+XgpQMyYr7mJn Ugxm9z5joPCIJdS4Zufubuhb3ARmlhfY0SjTJ/9THm0aIUXuS6XdoDXOggQT0czhxU690eLy4aN b/sa+Ay6ZsMLDlK1jZZvN/88GuSHx6FAQFjj2Z+hHRE+YRH+rzN3H6GQBCuhkyt4ybxdZRc75LF y8uO21GOS8EofhWfr374Gegq4dUXUvzcvduxpv7xzixrdV95ipW6ODMTB+s4Ysz58kq7v41+dgG XVWBGnb3Oa5dTF1m9m/9f8TysCRB+T5G8ealb8jDVsLYP0ookt1pb57oY6eMN8hxfWhA1Rqr8u7 TmGSdRnnFBbTqxDjClRw5OwVjmV3+2q0= X-Google-Smtp-Source: AGHT+IFUGWEc1s55QZnRIjmrhxeR5NmhUbwRNLuPgbborAdL+cAKMU/9RS4ZDsjtBsmOy25/+laqX585sTSv X-Received: by 2002:a92:cd83:0:b0:433:78b8:943a with SMTP id e9e14a558f8ab-4348c867eeemr46154105ab.10.1763107014549; Thu, 13 Nov 2025 23:56:54 -0800 (PST) Received: from postal.iol.unh.edu (postal.iol.unh.edu. [132.177.123.84]) by smtp-relay.gmail.com with ESMTPS id e9e14a558f8ab-434833c6101sm3742885ab.3.2025.11.13.23.56.54 (version=TLS1_2 cipher=ECDHE-ECDSA-AES128-GCM-SHA256 bits=128/128); Thu, 13 Nov 2025 23:56:54 -0800 (PST) X-Relaying-Domain: iol.unh.edu Date: Thu, 13 Nov 2025 23:56:54 -0800 (PST) Message-ID: <6916e0c6.050a0220.12e066.14bdSMTPIN_ADDED_MISSING@mx.google.com> Received: from [172.21.0.2] (unknown [172.18.0.240]) by postal.iol.unh.edu (Postfix) with ESMTP id 1BCB76051830; Fri, 14 Nov 2025 02:56:54 -0500 (EST) Subject: |SUCCESS| pw158756-158759 [PATCH] [v4,4/4] bus/fslmc: add support fo From: dpdklab@iol.unh.edu To: Test Report Cc: dpdk-test-reports@iol.unh.edu, Stephen Hemminger In-Reply-To: <20251113114355.2027438-4-hemant.agrawal@nxp.com> References: <20251113114355.2027438-4-hemant.agrawal@nxp.com> Content-Type: text/plain X-BeenThere: test-report@dpdk.org X-Mailman-Version: 2.1.29 Precedence: list List-Id: automatic DPDK test reports List-Unsubscribe: , List-Archive: List-Post: List-Help: List-Subscribe: , Errors-To: test-report-bounces@dpdk.org Test-Label: iol-compile-amd64-testing Test-Status: SUCCESS http://dpdk.org/patch/158759 _Testing PASS_ Submitter: Hemant Agrawal Date: Thursday, November 13 2025 11:43:55 DPDK git baseline: Repo:dpdk-next-net Branch: master CommitID:29807269854f9bfc72f1323273de8e23adc724d4 158756-158759 --> testing pass Upstream job id: Windows-Compile-DPDK-VS#7536 Test environment and result as below: +-------------------------------+--------------------+------------------+-------------------+ | Environment | dpdk_meson_compile | dpdk_compile_ovs | dpdk_msvc_compile | +===============================+====================+==================+===================+ | Ubuntu 20.04 | PASS | SKIPPED | SKIPPED | +-------------------------------+--------------------+------------------+-------------------+ | FreeBSD 14.2 | PASS | SKIPPED | SKIPPED | +-------------------------------+--------------------+------------------+-------------------+ | Alpine Linux 3.22.0 | PASS | SKIPPED | SKIPPED | +-------------------------------+--------------------+------------------+-------------------+ | CentOS Stream 10 | PASS | SKIPPED | SKIPPED | +-------------------------------+--------------------+------------------+-------------------+ | CentOS Stream 9 | PASS | SKIPPED | SKIPPED | +-------------------------------+--------------------+------------------+-------------------+ | Debian GNU/Linux 12 | PASS | SKIPPED | SKIPPED | +-------------------------------+--------------------+------------------+-------------------+ | Fedora Linux 42 | PASS | PASS | SKIPPED | +-------------------------------+--------------------+------------------+-------------------+ | openSUSE Leap 15.6 | PASS | SKIPPED | SKIPPED | +-------------------------------+--------------------+------------------+-------------------+ | Red Hat Enterprise Linux 8.10 | PASS | SKIPPED | SKIPPED | +-------------------------------+--------------------+------------------+-------------------+ | Red Hat Enterprise Linux 9.5 | PASS | SKIPPED | SKIPPED | +-------------------------------+--------------------+------------------+-------------------+ | Ubuntu 22.04 | PASS | SKIPPED | SKIPPED | +-------------------------------+--------------------+------------------+-------------------+ | Ubuntu 24.04 | PASS | PASS | SKIPPED | +-------------------------------+--------------------+------------------+-------------------+ | Windows Server 2022 | SKIPPED | SKIPPED | PASS | +-------------------------------+--------------------+------------------+-------------------+ Ubuntu 20.04 Kernel: 4.19 Compiler: gcc gcc (Ubuntu 9.4.0-1ubuntu1~20.04.2) 9.4.0 FreeBSD 14.2 Kernel: 14.2-RELEASE Compiler: clang 18.1.6 Alpine Linux 3.22.0 Kernel: 5.15 Compiler: gcc gcc (Alpine 14.2.0) 14.2.0 CentOS Stream 10 Kernel: 5.15 Compiler: gcc gcc (GCC) 14.2.1 20250110 (Red Hat 14.2.1-8) CentOS Stream 9 Kernel: 5.15 Compiler: gcc gcc (GCC) 11.5.0 20240719 (Red Hat 11.5.0-11) Debian GNU/Linux 12 Kernel: 5.15 Compiler: gcc gcc (Debian 12.2.0-14+deb12u1) 12.2.0 Fedora Linux 42 Kernel: 5.15 Compiler: gcc gcc (GCC) 15.2.1 20250808 (Red Hat 15.2.1-1) openSUSE Leap 15.6 Kernel: 5.15 Compiler: gcc gcc (SUSE Linux) 7.5.0 Red Hat Enterprise Linux 8.10 Kernel: 5.15 Compiler: gcc gcc (GCC) 8.5.0 20210514 (Red Hat 8.5.0-22) Red Hat Enterprise Linux 9.5 Kernel: 5.15 Compiler: gcc gcc (GCC) 11.5.0 20240719 (Red Hat 11.5.0-2) Ubuntu 22.04 Kernel: 5.15 Compiler: gcc gcc (Ubuntu 11.4.0-1ubuntu1~22.04) 11.4.0 Ubuntu 24.04 Kernel: 5.15 Compiler: gcc gcc (Ubuntu 13.3.0-6ubuntu2~24.04) 13.3.0 Windows Server 2022 Kernel: 10.0.20348.2031 Compiler: clang 15.0.7, gcc 14.1.0 (MinGW), and MSVC VS 19.39.33521 To view detailed results, visit: https://lab.dpdk.org/results/dashboard/patchsets/34573/ UNH-IOL DPDK Community Lab To manage your email subscriptions, visit: https://lab.dpdk.org/results/dashboard/preferences/subscriptions/