From mboxrd@z Thu Jan 1 00:00:00 1970 Return-Path: Received: from mails.dpdk.org (mails.dpdk.org [217.70.189.124]) by inbox.dpdk.org (Postfix) with ESMTP id 3075548B04 for ; Fri, 14 Nov 2025 09:03:07 +0100 (CET) Received: from mails.dpdk.org (localhost [127.0.0.1]) by mails.dpdk.org (Postfix) with ESMTP id 1150940151; Fri, 14 Nov 2025 09:03:07 +0100 (CET) Received: from mail-vk1-f225.google.com (mail-vk1-f225.google.com [209.85.221.225]) by mails.dpdk.org (Postfix) with ESMTP id BA2EC40151 for ; Fri, 14 Nov 2025 09:03:05 +0100 (CET) Received: by mail-vk1-f225.google.com with SMTP id 71dfb90a1353d-55b26332196so13535e0c.3 for ; Fri, 14 Nov 2025 00:03:05 -0800 (PST) DKIM-Signature: v=1; a=rsa-sha256; c=relaxed/relaxed; d=iol.unh.edu; s=unh-iol; t=1763107385; x=1763712185; darn=dpdk.org; h=references:in-reply-to:cc:to:from:subject:message-id:date:from:to :cc:subject:date:message-id:reply-to; bh=XS8IQEXmjEImHsELIfmnqSXARx+hf4e4OAXc6BZm2vQ=; b=aD+agCLHUnHB/u1fkBJrJ29dRegmR8J7FYNotEnQ/f3+CbC7FvsGeyrAlO7qJirsUu 9Bl8IuXurq6staCce3bDGXozn+1mRuLLlza6FLPgAMCqFaDNXROOC/WuPumhynxUGAOC krmHLZGya/6qZMgF61c8vYFAGBYF7SmBGSG/c= X-Google-DKIM-Signature: v=1; a=rsa-sha256; c=relaxed/relaxed; d=1e100.net; s=20230601; t=1763107385; x=1763712185; h=references:in-reply-to:cc:to:from:subject:message-id:date:x-gm-gg :x-gm-message-state:from:to:cc:subject:date:message-id:reply-to; bh=XS8IQEXmjEImHsELIfmnqSXARx+hf4e4OAXc6BZm2vQ=; b=MrFRpLNVtwk5maunZCYMjv0mGSI2vR4Je5RyWEwxrDwIl847FnQu8SnpiERXyNjnRI vSeKgboM+twMelZ6WIBzh2Q/uaeZFlnHMOW1yokNRbjbYXByIoD20vYBDtBgW6MHL8TI buAWxDo0bT9b1RRZYsQGyF+FJUYf2/ZAFSTFbYBOrneBaXoFzeiK2u6kYbQ9j5geaUhu EqeArzWSTdM0CVLXUuyk04qeVQiqcn8G1aUCXSSmHqgSBeaD3Uy/2tV/AcFqusd9gL/X aQSc0WRM55RVbS+hxt6hGzpd03RdpTRXcOkSMpGqyG8srL0l00Rhrq1H2WY7sqtC5Q1/ 17nQ== X-Gm-Message-State: AOJu0Yw9kUEcGTRW/eM3Ft68ubJidrfOt79CBKJbXsVhOlIXLtt0dquK Qr64JHvZqFqVdjh4BiLSQ3Y2aAAeLHrHGdIw8u3IQiJImV4ueHMYuOnUwzVyDsG7ObeVsJMZQpj akI9lnDUtYTF/C3k2ZEI1xhVPmrvPPNA/yXAQL5yc8O1k X-Gm-Gg: ASbGncu9rFyvE33vOeIz3f+Sx3oxH96A5yC1ycOVqxQIoOObnCm8PmE0oZJ1jNZNJEO IkdZr0lvrDLbFgiEcrCiWhXvcJaevaMANmU8kEFo32QIrZNxS7LE/Q/89mNKXst7wPNFSwuZ/WB waveRRMRKdnzzuASqF38QZOyeForkkQ+LioHSE6ySex1HkV7u450kyEymN5IHbXcP68p6NidyI/ gNyFiYIE5OlmFkcsUtZxw9AEEOpD8MCAcQ7oBAgCmP7L5tv7sPcf8kfHEPYcVWRezKEJZB6+ur/ KScPZmotmRm11Dlvdm57vv+3aiP4X8o0FBtlTCa3QYzfEnoucRRGEbIEdnpw/4JcClXNGHwxYUG z5DZJSG4tOk0EwgD45w08EUYn62SbEIk= X-Google-Smtp-Source: AGHT+IFS+EOX0QokhUoHS7QrLSxZMUXkanGOcs+P/8F2B3YNucq7UX+6UByMtPluxj7L6OCPPvwJ3OF6Imqe X-Received: by 2002:a05:6122:1d9e:b0:559:7294:da85 with SMTP id 71dfb90a1353d-55b1bef1daemr803693e0c.12.1763107385091; Fri, 14 Nov 2025 00:03:05 -0800 (PST) Received: from postal.iol.unh.edu (postal.iol.unh.edu. [132.177.123.84]) by smtp-relay.gmail.com with ESMTPS id 71dfb90a1353d-55b0f491920sm473390e0c.8.2025.11.14.00.03.05 (version=TLS1_2 cipher=ECDHE-ECDSA-AES128-GCM-SHA256 bits=128/128); Fri, 14 Nov 2025 00:03:05 -0800 (PST) X-Relaying-Domain: iol.unh.edu Date: Fri, 14 Nov 2025 00:03:05 -0800 (PST) Message-ID: <6916e239.050a0220.2c0f69.7309SMTPIN_ADDED_MISSING@mx.google.com> Received: from [172.21.0.3] (unknown [172.18.0.240]) by postal.iol.unh.edu (Postfix) with ESMTP id BE5C46050A61; Fri, 14 Nov 2025 03:03:04 -0500 (EST) Subject: |SUCCESS| pw158777-158778 [PATCH] [2/2] net/iavf: check Rx timestamp From: dpdklab@iol.unh.edu To: Test Report Cc: dpdk-test-reports@iol.unh.edu, Bruce Richardson In-Reply-To: <20251113-jk-dpdk-iavf-rx-timestamping-improvements-v1-2-3d9a0168087b@intel.com> References: <20251113-jk-dpdk-iavf-rx-timestamping-improvements-v1-2-3d9a0168087b@intel.com> Content-Type: text/plain X-BeenThere: test-report@dpdk.org X-Mailman-Version: 2.1.29 Precedence: list List-Id: automatic DPDK test reports List-Unsubscribe: , List-Archive: List-Post: List-Help: List-Subscribe: , Errors-To: test-report-bounces@dpdk.org Test-Label: iol-compile-amd64-testing Test-Status: SUCCESS http://dpdk.org/patch/158778 _Testing PASS_ Submitter: Jacob Keller Date: Thursday, November 13 2025 21:33:45 DPDK git baseline: Repo:dpdk-next-net-intel Branch: master CommitID:e5357d609907d504f4705e4899f3dad43cb4b70f 158777-158778 --> testing pass Upstream job id: Windows-Compile-DPDK-Native#32314 Test environment and result as below: +-------------------------------+--------------------+-------------------------+ | Environment | dpdk_meson_compile | dpdk_llvm_clang_compile | +===============================+====================+=========================+ | Ubuntu 20.04 | PASS | SKIPPED | +-------------------------------+--------------------+-------------------------+ | FreeBSD 14.2 | PASS | SKIPPED | +-------------------------------+--------------------+-------------------------+ | Red Hat Enterprise Linux 8.10 | PASS | SKIPPED | +-------------------------------+--------------------+-------------------------+ | Windows Server 2022 | SKIPPED | PASS | +-------------------------------+--------------------+-------------------------+ Ubuntu 20.04 Kernel: 4.19 Compiler: gcc gcc (Ubuntu 9.4.0-1ubuntu1~20.04.2) 9.4.0 FreeBSD 14.2 Kernel: 14.2-RELEASE Compiler: clang 18.1.6 Red Hat Enterprise Linux 8.10 Kernel: 5.15 Compiler: gcc gcc (GCC) 8.5.0 20210514 (Red Hat 8.5.0-22) Windows Server 2022 Kernel: 10.0.20348.2031 Compiler: clang 15.0.7, gcc 14.1.0 (MinGW), and MSVC VS 19.39.33521 To view detailed results, visit: https://lab.dpdk.org/results/dashboard/patchsets/34584/ UNH-IOL DPDK Community Lab To manage your email subscriptions, visit: https://lab.dpdk.org/results/dashboard/preferences/subscriptions/