From mboxrd@z Thu Jan 1 00:00:00 1970 Return-Path: Received: from mails.dpdk.org (mails.dpdk.org [217.70.189.124]) by inbox.dpdk.org (Postfix) with ESMTP id 3B2FF48B04 for ; Fri, 14 Nov 2025 09:11:19 +0100 (CET) Received: from mails.dpdk.org (localhost [127.0.0.1]) by mails.dpdk.org (Postfix) with ESMTP id 1395340151; Fri, 14 Nov 2025 09:11:19 +0100 (CET) Received: from mail-pj1-f98.google.com (mail-pj1-f98.google.com [209.85.216.98]) by mails.dpdk.org (Postfix) with ESMTP id 92F2140151 for ; Fri, 14 Nov 2025 09:11:17 +0100 (CET) Received: by mail-pj1-f98.google.com with SMTP id 98e67ed59e1d1-34374febdefso1660508a91.0 for ; Fri, 14 Nov 2025 00:11:17 -0800 (PST) DKIM-Signature: v=1; a=rsa-sha256; c=relaxed/relaxed; d=iol.unh.edu; s=unh-iol; t=1763107877; x=1763712677; darn=dpdk.org; h=references:in-reply-to:cc:to:from:subject:message-id:date:from:to :cc:subject:date:message-id:reply-to; bh=3d5DdNlnDcpiJW5jAwx7EVUGLeMCEboR1hSYLhweJs8=; b=KUpJi+sMGz1KRArvlPTijvAPi6W5TJW+Y31nb5Jj6mZPkVUhQamjnBfabJvWmO8FBo hjCi+8sFlsYltR5oFk0BLjB6Z4kyiFKlNIQUv+Isi2zVAxgoo3abL9QZ1uCXMA2Cxdc2 e2uy41MqT3MhYXtW667/S8ZH0LnAl6fRpz9Y0= X-Google-DKIM-Signature: v=1; a=rsa-sha256; c=relaxed/relaxed; d=1e100.net; s=20230601; t=1763107877; x=1763712677; h=references:in-reply-to:cc:to:from:subject:message-id:date:x-gm-gg :x-gm-message-state:from:to:cc:subject:date:message-id:reply-to; bh=3d5DdNlnDcpiJW5jAwx7EVUGLeMCEboR1hSYLhweJs8=; b=A01LEsg4s/kfaEuylqGdg2yL/0t6P0Db1wk5QgUjOrLRxiSNc17MBp5HQOolFvxO4E dB+ZTWMKkMG59H+Y9RC3dE9oUjaTkIheMdinQWSTPerhhU+q3kxOs4qppQW/FgSdChj8 D+N1WSAULUshjtuMR7Cd1CfdNmp4iuKnnX2xKlvfkPz7x5OM0Vx+0yZYmW8WkfTUuNIA WdlLMKdHG9p9TRzjqqRdqm21O2DE2MxUXwdLt7k38YHvHbiTzmObJLDPJat6w4VhgZ8M hfkz35QceXwfrDV+z5OU6DSvJvjWbKX2MKHeeik8cDoO3MRpSpizCysdiorUnrqyhIMR zjuA== X-Gm-Message-State: AOJu0YwWzlLChkiomEDwLSuiCMxb6etXsxp7m/bHJdZIMrLfT6ANKd/S yCHlz+Ngva5uglGK/a66DiMgDJUlg0LTLvc02gNMB02xsoFIBDhNjdMezy+v91qqh/f+MAIwx5t D7VrShh+NhNhb13ZhmsZQJUdX2V/dmbn+5ZPu/L2C8xeMAipSoOm6+TrNVQKq X-Gm-Gg: ASbGncvH/qtX/Tip1KwvDiDRzgUl93YsKJiupX3WR/5x+5gDKCVYA/Icu6lEGMyZ6Aa qSwb7Ej44A6OJCjW2aXgvmi8nu8sPl49StN04w9ksCEGRbWTCzPuTn872phYnpORfHCHr8ltd7E Tv7DAaXsb3HSZeMNyGZCQCSH3w0kY9rgzLcmi8YqjZxLAzVE1VF3y1BJ1f0BeD1pigA6PMkAf7N bJyc6H1tSNBqGKGvpD7Gdu2DAAvoi+7vvawFkH+EFPORZfLb6Q/3zGPkz+phQiNiKt+LZUKKNsG 7g+nVG3QLR+HXPk5TXEgSEF8YIeNL2icyyizv7jFVpxe8ZakWoV8g3KT77vE3yEYm+hI8rEc7WX Z6VtJ3eU/ X-Google-Smtp-Source: AGHT+IE7ojm6URtXDzL3iN1se69pqQVzzk7OuNDroCQBbMisUD9b2SFZ+yioJDMjhWC1E0TNeME2bVFrwPaF X-Received: by 2002:a17:90b:17cc:b0:341:194:5e7a with SMTP id 98e67ed59e1d1-343fa74b7eamr2789853a91.29.1763107876638; Fri, 14 Nov 2025 00:11:16 -0800 (PST) Received: from postal.iol.unh.edu (postal.iol.unh.edu. [2606:4100:3880:1234::84]) by smtp-relay.gmail.com with ESMTPS id 98e67ed59e1d1-343ed3810ccsm473944a91.0.2025.11.14.00.11.16 (version=TLS1_2 cipher=ECDHE-ECDSA-AES128-GCM-SHA256 bits=128/128); Fri, 14 Nov 2025 00:11:16 -0800 (PST) X-Relaying-Domain: iol.unh.edu Date: Fri, 14 Nov 2025 00:11:16 -0800 (PST) Message-ID: <6916e424.170a0220.37bcb5.6ad3SMTPIN_ADDED_MISSING@mx.google.com> Received: from [172.21.0.2] (unknown [172.18.0.240]) by postal.iol.unh.edu (Postfix) with ESMTP id DE19260003E7; Fri, 14 Nov 2025 03:11:15 -0500 (EST) Subject: |SUCCESS| pw158746 [PATCH] app/proc-info: allow overriding defaults From: dpdklab@iol.unh.edu To: Test Report Cc: dpdk-test-reports@iol.unh.edu In-Reply-To: <20251112130326.2674728-1-mprajapat@marvell.com> References: <20251112130326.2674728-1-mprajapat@marvell.com> Content-Type: text/plain X-BeenThere: test-report@dpdk.org X-Mailman-Version: 2.1.29 Precedence: list List-Id: automatic DPDK test reports List-Unsubscribe: , List-Archive: List-Post: List-Help: List-Subscribe: , Errors-To: test-report-bounces@dpdk.org Test-Label: iol-unit-amd64-testing Test-Status: SUCCESS http://dpdk.org/patch/158746 _Testing PASS_ Submitter: Mohit Kumar Parjapat Date: Wednesday, November 12 2025 13:03:13 DPDK git baseline: Repo:dpdk Branch: master CommitID:be0112878b4fc3a1b918370ed2fe615c52039d77 158746 --> testing pass Upstream job id: Generic-VM-Unit-Test-DPDK#32524 Test environment and result as below: +-------------------------------+----------------+ | Environment | dpdk_unit_test | +===============================+================+ | Debian GNU/Linux 12 | PASS | +-------------------------------+----------------+ | Fedora Linux 40 | PASS | +-------------------------------+----------------+ | Fedora Linux 41 | PASS | +-------------------------------+----------------+ | CentOS Stream 9 | PASS | +-------------------------------+----------------+ | CentOS Stream 10 | PASS | +-------------------------------+----------------+ | Red Hat Enterprise Linux 8.10 | PASS | +-------------------------------+----------------+ | Fedora Linux 42 | PASS | +-------------------------------+----------------+ | Ubuntu 24.04 | PASS | +-------------------------------+----------------+ | Ubuntu 22.04 | PASS | +-------------------------------+----------------+ | Red Hat Enterprise Linux 9.5 | PASS | +-------------------------------+----------------+ | Ubuntu 20.04 | PASS | +-------------------------------+----------------+ | Windows Server 2022 | PASS | +-------------------------------+----------------+ Debian GNU/Linux 12 Kernel: 5.15 Compiler: gcc gcc (Debian 12.2.0-14+deb12u1) 12.2.0 Fedora Linux 40 Kernel: 5.15 Compiler: clang gcc (GCC) 14.2.1 20240912 (Red Hat 14.2.1-3) Fedora Linux 41 Kernel: 5.15 Compiler: gcc gcc (GCC) 14.3.1 20250523 (Red Hat 14.3.1-1) CentOS Stream 9 Kernel: 5.15 Compiler: gcc gcc (GCC) 11.5.0 20240719 (Red Hat 11.5.0-11) CentOS Stream 10 Kernel: 5.15 Compiler: gcc gcc (GCC) 14.2.1 20250110 (Red Hat 14.2.1-8) Red Hat Enterprise Linux 8.10 Kernel: 5.15 Compiler: gcc gcc (GCC) 8.5.0 20210514 (Red Hat 8.5.0-22) Fedora Linux 42 Kernel: 5.15 Compiler: gcc gcc (GCC) 15.2.1 20250808 (Red Hat 15.2.1-1) Ubuntu 24.04 Kernel: 5.15 Compiler: gcc gcc (Ubuntu 13.3.0-6ubuntu2~24.04) 13.3.0 Ubuntu 22.04 Kernel: 5.15 Compiler: gcc gcc (Ubuntu 11.4.0-1ubuntu1~22.04) 11.4.0 Red Hat Enterprise Linux 9.5 Kernel: 5.15 Compiler: gcc gcc (GCC) 11.5.0 20240719 (Red Hat 11.5.0-2) Ubuntu 20.04 Kernel: 5.15 Compiler: gcc gcc (Ubuntu 9.4.0-1ubuntu1~20.04.2) 9.4.0 Windows Server 2022 Kernel: 10.0.20348.2031 Compiler: clang 15.0.7, gcc 14.1.0 (MinGW), and MSVC VS 19.39.33521 To view detailed results, visit: https://lab.dpdk.org/results/dashboard/patchsets/34566/ UNH-IOL DPDK Community Lab To manage your email subscriptions, visit: https://lab.dpdk.org/results/dashboard/preferences/subscriptions/