From mboxrd@z Thu Jan 1 00:00:00 1970 Return-Path: Received: from mails.dpdk.org (mails.dpdk.org [217.70.189.124]) by inbox.dpdk.org (Postfix) with ESMTP id EAAAC48B04 for ; Fri, 14 Nov 2025 09:20:49 +0100 (CET) Received: from mails.dpdk.org (localhost [127.0.0.1]) by mails.dpdk.org (Postfix) with ESMTP id D697240151; Fri, 14 Nov 2025 09:20:49 +0100 (CET) Received: from mail-il1-f226.google.com (mail-il1-f226.google.com [209.85.166.226]) by mails.dpdk.org (Postfix) with ESMTP id 643E340151 for ; Fri, 14 Nov 2025 09:20:48 +0100 (CET) Received: by mail-il1-f226.google.com with SMTP id e9e14a558f8ab-4336f8e97c3so15377855ab.3 for ; Fri, 14 Nov 2025 00:20:48 -0800 (PST) DKIM-Signature: v=1; a=rsa-sha256; c=relaxed/relaxed; d=iol.unh.edu; s=unh-iol; t=1763108447; x=1763713247; darn=dpdk.org; h=references:in-reply-to:cc:to:from:subject:message-id:date:from:to :cc:subject:date:message-id:reply-to; bh=7nIDzwJcNgerYTyEUyC6vIKRjlUQQmpZYCSDHJZDBK0=; b=g+4EUlwfzWvGSSJar5k6dvwjOFpZd4+9/eIpEPvy8+ZVb1KHgGGuy4nodJ4Hyj2oje rrfti9PdSk9QA/+v0k3jIDTlpgDdXDMJIVp6CujgKyPDJx7rDMLhqVtg3SSYV7Wq1Gsa OcYbtjNAvF7lSTc+Qsg1DsdpkTaNRghYMyNb0= X-Google-DKIM-Signature: v=1; a=rsa-sha256; c=relaxed/relaxed; d=1e100.net; s=20230601; t=1763108447; x=1763713247; h=references:in-reply-to:cc:to:from:subject:message-id:date:x-gm-gg :x-gm-message-state:from:to:cc:subject:date:message-id:reply-to; bh=7nIDzwJcNgerYTyEUyC6vIKRjlUQQmpZYCSDHJZDBK0=; b=qCTKx+CUS+fe0gdl6iIG90sMlj2LzOTEaQGY9cg12ydxZOiYe3jSGZ8WLFx/msVMRc m9cb0Cnn9TMpyeQAADTftPagjUhB7MRTKx4S0YGl5HjzlggXqsK5Oc2a8LMxDY4gTXtX sWagsBqJ0On845GdBtkIz9Beqbo5yVwHYQKsiMdNxiPTnuAPXW2T38j6/mE5cxOGTe1t Wh4Wdp3lV9PpJSRafgsiP5YuQA7fPsDSvccxLtS6XGmxAp5t6930wVkxhXqD8JBcjFAr ncqXG9XupgrSBTagYM2eqjRSib0bc8JWvinWF18DPD74PkHfnMoL5PAH+ksrgyPt3gSm nRJA== X-Gm-Message-State: AOJu0YzvUw8KmiYdcaJSGCbcTqKF6v6bmRsVuP+Tg7DnCavKJj25vsUD 8kKZNb3eZQqoAbfzVvw/KvSaVeq3PG7jSyYIk5BYC7ZzwkSqlEyL8Ysg5dXvJHGm/RGVJEuPCus gJnmrZZQsqkQorZcEvzGWhfKSb/mvrqoVqiO3L0jrAv7dCCxSLKYtXHQdnDDt X-Gm-Gg: ASbGncv7mkQiFfkvfJ4wnPAbjd0Iufhf5uXACLIFqPlXM7lCKKcSLUKeIRc7LYSKDDa 95NZznTUsKXB5pu5voVCKQ/TSR9ONs2Wbx1oQDVUram0Eb/hiUdEMDvu9nbewoAX25stAy8uVoo C4EphsrJy1O4DG2eR/M2dLCaas9B7mc5TyXsaQTpf35/vvEwqzKL3Y6BP4Jsllr8f7z/hnBZZHB 4Lw4T+F7njKn7oWH74QNisd+RdSCa5V8WLTIyO+WddV5l3weP3Rf6aoQrCK5nxrgeNhewCaDh9y fACOLSGWpl1V++xFz/GePZol1e7gbgv1lDUMjQ/NqgiqxzeP2Pufc2RzCd6Xe+AAi19wDIeqHTA kH55IJbxZ X-Google-Smtp-Source: AGHT+IEjm99Syzl2+mRTQ53WhTA3Mygliv2GclQNHOyyHYEBJdliEDLGojH0qM4Rj+Pp7/c0NETJnQpCDPMF X-Received: by 2002:a05:6e02:2309:b0:433:7f29:929e with SMTP id e9e14a558f8ab-4348c95cef4mr35174195ab.31.1763108447666; Fri, 14 Nov 2025 00:20:47 -0800 (PST) Received: from postal.iol.unh.edu (postal.iol.unh.edu. [2606:4100:3880:1234::84]) by smtp-relay.gmail.com with ESMTPS id e9e14a558f8ab-434839f98b6sm3954855ab.31.2025.11.14.00.20.47 (version=TLS1_2 cipher=ECDHE-ECDSA-AES128-GCM-SHA256 bits=128/128); Fri, 14 Nov 2025 00:20:47 -0800 (PST) X-Relaying-Domain: iol.unh.edu Date: Fri, 14 Nov 2025 00:20:47 -0800 (PST) Message-ID: <6916e65f.050a0220.1a89c8.2cf5SMTPIN_ADDED_MISSING@mx.google.com> Received: from [172.21.0.2] (unknown [172.18.0.240]) by postal.iol.unh.edu (Postfix) with ESMTP id 086DF6051830; Fri, 14 Nov 2025 03:20:47 -0500 (EST) Subject: |SUCCESS| pw158746 [PATCH] app/proc-info: allow overriding defaults From: dpdklab@iol.unh.edu To: Test Report Cc: dpdk-test-reports@iol.unh.edu In-Reply-To: <20251112130326.2674728-1-mprajapat@marvell.com> References: <20251112130326.2674728-1-mprajapat@marvell.com> Content-Type: text/plain X-BeenThere: test-report@dpdk.org X-Mailman-Version: 2.1.29 Precedence: list List-Id: automatic DPDK test reports List-Unsubscribe: , List-Archive: List-Post: List-Help: List-Subscribe: , Errors-To: test-report-bounces@dpdk.org Test-Label: iol-unit-amd64-testing Test-Status: SUCCESS http://dpdk.org/patch/158746 _Testing PASS_ Submitter: Mohit Kumar Parjapat Date: Wednesday, November 12 2025 13:03:13 DPDK git baseline: Repo:dpdk Branch: master CommitID:be0112878b4fc3a1b918370ed2fe615c52039d77 158746 --> testing pass Upstream job id: Generic-VM-Unit-Test-DPDK#32525 Test environment and result as below: +-------------------------------+----------------+ | Environment | dpdk_unit_test | +===============================+================+ | Debian GNU/Linux 12 | PASS | +-------------------------------+----------------+ | Fedora Linux 40 | PASS | +-------------------------------+----------------+ | Fedora Linux 41 | PASS | +-------------------------------+----------------+ | CentOS Stream 9 | PASS | +-------------------------------+----------------+ | CentOS Stream 10 | PASS | +-------------------------------+----------------+ | Red Hat Enterprise Linux 8.10 | PASS | +-------------------------------+----------------+ | Fedora Linux 42 | PASS | +-------------------------------+----------------+ | Ubuntu 24.04 | PASS | +-------------------------------+----------------+ | Ubuntu 22.04 | PASS | +-------------------------------+----------------+ | Red Hat Enterprise Linux 9.5 | PASS | +-------------------------------+----------------+ | Ubuntu 20.04 | PASS | +-------------------------------+----------------+ | Windows Server 2022 | PASS | +-------------------------------+----------------+ Debian GNU/Linux 12 Kernel: 5.15 Compiler: gcc gcc (Debian 12.2.0-14+deb12u1) 12.2.0 Fedora Linux 40 Kernel: 5.15 Compiler: clang gcc (GCC) 14.2.1 20240912 (Red Hat 14.2.1-3) Fedora Linux 41 Kernel: 5.15 Compiler: gcc gcc (GCC) 14.3.1 20250523 (Red Hat 14.3.1-1) CentOS Stream 9 Kernel: 5.15 Compiler: gcc gcc (GCC) 11.5.0 20240719 (Red Hat 11.5.0-11) CentOS Stream 10 Kernel: 5.15 Compiler: gcc gcc (GCC) 14.2.1 20250110 (Red Hat 14.2.1-8) Red Hat Enterprise Linux 8.10 Kernel: 5.15 Compiler: gcc gcc (GCC) 8.5.0 20210514 (Red Hat 8.5.0-22) Fedora Linux 42 Kernel: 5.15 Compiler: gcc gcc (GCC) 15.2.1 20250808 (Red Hat 15.2.1-1) Ubuntu 24.04 Kernel: 5.15 Compiler: gcc gcc (Ubuntu 13.3.0-6ubuntu2~24.04) 13.3.0 Ubuntu 22.04 Kernel: 5.15 Compiler: gcc gcc (Ubuntu 11.4.0-1ubuntu1~22.04) 11.4.0 Red Hat Enterprise Linux 9.5 Kernel: 5.15 Compiler: gcc gcc (GCC) 11.5.0 20240719 (Red Hat 11.5.0-2) Ubuntu 20.04 Kernel: 5.15 Compiler: gcc gcc (Ubuntu 9.4.0-1ubuntu1~20.04.2) 9.4.0 Windows Server 2022 Kernel: 10.0.20348.2031 Compiler: clang 15.0.7, gcc 14.1.0 (MinGW), and MSVC VS 19.39.33521 To view detailed results, visit: https://lab.dpdk.org/results/dashboard/patchsets/34566/ UNH-IOL DPDK Community Lab To manage your email subscriptions, visit: https://lab.dpdk.org/results/dashboard/preferences/subscriptions/