From mboxrd@z Thu Jan 1 00:00:00 1970 Return-Path: Received: from mails.dpdk.org (mails.dpdk.org [217.70.189.124]) by inbox.dpdk.org (Postfix) with ESMTP id 2CD2C48B04 for ; Fri, 14 Nov 2025 09:23:10 +0100 (CET) Received: from mails.dpdk.org (localhost [127.0.0.1]) by mails.dpdk.org (Postfix) with ESMTP id 2724D40151; Fri, 14 Nov 2025 09:23:10 +0100 (CET) Received: from mail-yw1-f228.google.com (mail-yw1-f228.google.com [209.85.128.228]) by mails.dpdk.org (Postfix) with ESMTP id C33D240151 for ; Fri, 14 Nov 2025 09:23:08 +0100 (CET) Received: by mail-yw1-f228.google.com with SMTP id 00721157ae682-78677ff31c2so14775047b3.2 for ; Fri, 14 Nov 2025 00:23:08 -0800 (PST) DKIM-Signature: v=1; a=rsa-sha256; c=relaxed/relaxed; d=iol.unh.edu; s=unh-iol; t=1763108588; x=1763713388; darn=dpdk.org; h=references:in-reply-to:cc:to:from:subject:message-id:date:from:to :cc:subject:date:message-id:reply-to; bh=yxX2bhfOlayj0SuVUF+r27Bg1OYCby1WcgLr9Miwgq8=; b=XxmZA9gSWK38/fY4qbJqwxNVymPprCP0ObCLtEw9rXB0L9684aDniKA3AgqKPBpSWC cZsN9TvppNhmeiUZ8+A8mYOZaB4E1kBZZ9FWGzQehcVPOcEUEdy9Zxc8vIXwuiF0BXEj fdghQvIUbDGDnp9ot0RAy1zcW6x9PMWTsYROc= X-Google-DKIM-Signature: v=1; a=rsa-sha256; c=relaxed/relaxed; d=1e100.net; s=20230601; t=1763108588; x=1763713388; h=references:in-reply-to:cc:to:from:subject:message-id:date:x-gm-gg :x-gm-message-state:from:to:cc:subject:date:message-id:reply-to; bh=yxX2bhfOlayj0SuVUF+r27Bg1OYCby1WcgLr9Miwgq8=; b=vMF+57f4hAvgdc6ARqBx0Hc9vsdODguGB+RVDLUEX0K0YioTkZbJxZTa6vPOWHK0xi yMdLczU18TZQ4CuIuu39Xu6457Pv/p8VtbOt4Ph0dywCDwOTas3kYCzoYmWDzw81mT8w 0vNwpHp4AwapooKWhuJF2HnX+BJU1rSyBfr8zRNcdU9ZccMrqmTr02Z7dVAGXLKCPANo RIyVmYmdYDC2Bj4j39M+TJ6sTiTSeJhPUYusjEwJZEKs1LegH1qBnTaEopECWHbViHBE evFx2V+qnNdzlI2EKeVuDJ0uAUecQJTJkagkc/HLkSMkO2ROqxXdbVr0HuOAE6tigbru xWIw== X-Gm-Message-State: AOJu0YwCUF6g5iTssnaZsZcwBHg7S/t8rAjOy/G9w4GWoS6SAycseic5 aeA6Mo9T9tis7lpK2IT4XMFBopoFBVlqsaRcKgO2DNtRrWQdelxhdO2r7fpbcQ7ZQYi/1+Kj20B VfF/oCDRvurU2K+UrN/t4nrAOrqGhQ4MzFgZDB6McJXgCwC2IbrL0R9qZwwwj X-Gm-Gg: ASbGncvBhJ4WWharxQRTISI1yjIFwDMMWpCFAfeccCnd6wGCabjRMmQpoo8FS5/d2ee abPJLBT/d6f+QrCsk5VhwUAjJsZWy7v6Yu6BrNAG3ktlR5Fhewnx4FoSPEzWr7pu3UbzdhzkDfe XEi/RQUL7Vn9b68HbhpuZT1Whyq+NDduYL4axfuhdKd7ngF2A4rRRQRfxSIpFBml5G0KC1v98X1 JAPoqrlrmDDTJK7itcO+O0zbVv0lAl7in92sVohEDDquClxtxzFNoOKuyEZNlm+FurFLXhqZ70p a3jwdVh4/4Sy3ex4mUQlgwYdp00VE/yIe05OvooZ+0b+kpsKNa2YbSQtZzpo/4Gin32gr81B8PU nWV3HuV+q X-Google-Smtp-Source: AGHT+IEt28XxCkyFu64Mgw3y/QKGAuNyh3v7YmpqazfrhQJKhMr166XlfCKbZy0uU5NmceKWtrEaxlbzHcvN X-Received: by 2002:a05:690e:2445:b0:640:d174:3839 with SMTP id 956f58d0204a3-641e76276f5mr1532442d50.36.1763108588034; Fri, 14 Nov 2025 00:23:08 -0800 (PST) Received: from postal.iol.unh.edu (postal.iol.unh.edu. [2606:4100:3880:1234::84]) by smtp-relay.gmail.com with ESMTPS id 00721157ae682-78821e32abdsm2227377b3.14.2025.11.14.00.23.07 (version=TLS1_2 cipher=ECDHE-ECDSA-AES128-GCM-SHA256 bits=128/128); Fri, 14 Nov 2025 00:23:08 -0800 (PST) X-Relaying-Domain: iol.unh.edu Date: Fri, 14 Nov 2025 00:23:08 -0800 (PST) Message-ID: <6916e6ec.050a0220.28274b.a5b8SMTPIN_ADDED_MISSING@mx.google.com> Received: from [172.21.0.2] (unknown [172.18.0.240]) by postal.iol.unh.edu (Postfix) with ESMTP id B17DB6051830; Fri, 14 Nov 2025 03:23:07 -0500 (EST) Subject: |SUCCESS| pw158782 [PATCH] examples/ipsec-secgw: add support for SM4 From: dpdklab@iol.unh.edu To: Test Report Cc: dpdk-test-reports@iol.unh.edu In-Reply-To: <20251114014616.43476-1-sunyang.wu@jaguarmicro.com> References: <20251114014616.43476-1-sunyang.wu@jaguarmicro.com> Content-Type: text/plain X-BeenThere: test-report@dpdk.org X-Mailman-Version: 2.1.29 Precedence: list List-Id: automatic DPDK test reports List-Unsubscribe: , List-Archive: List-Post: List-Help: List-Subscribe: , Errors-To: test-report-bounces@dpdk.org Test-Label: iol-unit-amd64-testing Test-Status: SUCCESS http://dpdk.org/patch/158782 _Testing PASS_ Submitter: Sunyang Wu Date: Friday, November 14 2025 01:46:16 DPDK git baseline: Repo:dpdk Branch: master CommitID:be0112878b4fc3a1b918370ed2fe615c52039d77 158782 --> testing pass Upstream job id: Generic-Unit-Test-DPDK#392707 Test environment and result as below: +-------------------------------+----------------+ | Environment | dpdk_unit_test | +===============================+================+ | CentOS Stream 10 | PASS | +-------------------------------+----------------+ | Debian GNU/Linux 12 | PASS | +-------------------------------+----------------+ | CentOS Stream 9 | PASS | +-------------------------------+----------------+ | Fedora Linux 40 | PASS | +-------------------------------+----------------+ | Ubuntu 22.04 | PASS | +-------------------------------+----------------+ | Fedora Linux 41 | PASS | +-------------------------------+----------------+ | Red Hat Enterprise Linux 8.10 | PASS | +-------------------------------+----------------+ | Fedora Linux 42 | PASS | +-------------------------------+----------------+ | Ubuntu 20.04 | PASS | +-------------------------------+----------------+ | Red Hat Enterprise Linux 9.5 | PASS | +-------------------------------+----------------+ | Ubuntu 24.04 | PASS | +-------------------------------+----------------+ CentOS Stream 10 Kernel: 5.15 Compiler: gcc gcc (GCC) 14.2.1 20250110 (Red Hat 14.2.1-8) Debian GNU/Linux 12 Kernel: 5.15 Compiler: gcc gcc (Debian 12.2.0-14+deb12u1) 12.2.0 CentOS Stream 9 Kernel: 5.15 Compiler: gcc gcc (GCC) 11.5.0 20240719 (Red Hat 11.5.0-11) Fedora Linux 40 Kernel: 5.15 Compiler: gcc gcc (GCC) 14.2.1 20240912 (Red Hat 14.2.1-3) Ubuntu 22.04 Kernel: 5.15 Compiler: gcc gcc (Ubuntu 11.4.0-1ubuntu1~22.04) 11.4.0 Fedora Linux 41 Kernel: 5.15 Compiler: gcc gcc (GCC) 14.3.1 20250523 (Red Hat 14.3.1-1) Red Hat Enterprise Linux 8.10 Kernel: 5.15 Compiler: gcc gcc (GCC) 8.5.0 20210514 (Red Hat 8.5.0-22) Fedora Linux 42 Kernel: 5.15 Compiler: clang gcc (GCC) 15.2.1 20250808 (Red Hat 15.2.1-1) Ubuntu 20.04 Kernel: 5.15 Compiler: gcc gcc (Ubuntu 9.4.0-1ubuntu1~20.04.2) 9.4.0 Red Hat Enterprise Linux 9.5 Kernel: 5.15 Compiler: gcc gcc (GCC) 11.5.0 20240719 (Red Hat 11.5.0-2) Ubuntu 24.04 Kernel: 5.15 Compiler: gcc gcc (Ubuntu 13.3.0-6ubuntu2~24.04) 13.3.0 To view detailed results, visit: https://lab.dpdk.org/results/dashboard/patchsets/34588/ UNH-IOL DPDK Community Lab To manage your email subscriptions, visit: https://lab.dpdk.org/results/dashboard/preferences/subscriptions/