From mboxrd@z Thu Jan 1 00:00:00 1970 Return-Path: Received: from mails.dpdk.org (mails.dpdk.org [217.70.189.124]) by inbox.dpdk.org (Postfix) with ESMTP id 43D6448B04 for ; Fri, 14 Nov 2025 09:46:46 +0100 (CET) Received: from mails.dpdk.org (localhost [127.0.0.1]) by mails.dpdk.org (Postfix) with ESMTP id 2F8D340151; Fri, 14 Nov 2025 09:46:46 +0100 (CET) Received: from mail-pf1-f228.google.com (mail-pf1-f228.google.com [209.85.210.228]) by mails.dpdk.org (Postfix) with ESMTP id 0562940151 for ; Fri, 14 Nov 2025 09:46:44 +0100 (CET) Received: by mail-pf1-f228.google.com with SMTP id d2e1a72fcca58-7b8eff36e3bso2234869b3a.2 for ; Fri, 14 Nov 2025 00:46:44 -0800 (PST) DKIM-Signature: v=1; a=rsa-sha256; c=relaxed/relaxed; d=iol.unh.edu; s=unh-iol; t=1763110004; x=1763714804; darn=dpdk.org; h=references:in-reply-to:cc:to:from:subject:message-id:date:from:to :cc:subject:date:message-id:reply-to; bh=TRG8UYdLqFi/oUBtBuelWox0aQZrUKSu+iPBNTGC5+A=; b=Cy1d4N6V6EjAe+W9EoQQf1pVHRciJ/mzbHhY6i4p/8nCqMdLjianMtJ1GcRvyJqM4F 9/6m0WafbV/mbw2vTxYCO7j6sY2Sb6vKE6cAgj+2DAlKb2GcZ9D0eh6EQQqAxozCKwLa Qk7JgyVk6gHaPtN8X5ZcMyzsQOcqz80Tm5PSk= X-Google-DKIM-Signature: v=1; a=rsa-sha256; c=relaxed/relaxed; d=1e100.net; s=20230601; t=1763110004; x=1763714804; h=references:in-reply-to:cc:to:from:subject:message-id:date:x-gm-gg :x-gm-message-state:from:to:cc:subject:date:message-id:reply-to; bh=TRG8UYdLqFi/oUBtBuelWox0aQZrUKSu+iPBNTGC5+A=; b=FWLBQpR6hjIgzQdaHnpCUCCT33Ib0mn1W/bctDw9lWtPl0bMFRPPQitW3FGyCy7d+Y 0eQN3DmsYXViIezaT5Cf2YzZsbO3w8EEr5rDIulrvg3rY9GEprbA1XI6qlY+4XKjJb4P 3xTa7/gdTS8PSEyAa8jsyZe2KidbovEpk7GIVVkRgxl8xTqeND6FQyUej+ADrKiQoX6H qs9ufxZF/29iRwy8PEWw2Mx/g0CCGBGpWwO/1hUFsG4a3zzT9YO65PXFe4HRqP6Wabiz QYS90NaayJ+gfHVFGIJHLmfyzrYmhglk94nC5veG0tGF1xzN90CfpTDhKHvfQb5wBR89 A1+A== X-Gm-Message-State: AOJu0YyAelWbRLBHj7X1oVJ02HUqCmSKxTjEOPuJ5+Zuc9GMcsTNxgi/ HkR2oL3rQQu0mXI1xpBwp2ezhJ9+weVCLOEiFUfzt9xH3TR5julMmvvUVir708i/8ZMzXsnwgR7 m5uvPepnlOv+xK0Ln+uvhwqljPr2VkjARx8QKrC5OJeUj X-Gm-Gg: ASbGncvsNKzA0OaP0ehjjEKvX4qKlbGnxUl8CV53mWFzqGvJS5p1S0SqG1L1tq7lhVW iLwt9kDhU4us2TDEpmSsDY1hNl5gxXXasEPZH9STzJ27htgDJyrrqxlB40hs7C5fwQIVTosdFei LnpXka3cpNFORFLgFIrQIBrVbeYNrigaGrylwBpJBOhvFt03uow2Z5tPiPuDpsCzk3zZHOIGS16 mfNlhEiSlBl6FX2EsXrt1SwILGGSxdEDCfAKd3DRDzeFzbN90YRiAR0RKpdbvd2MZOyVsgTwa93 YCsH1ImebH/oW0O206J1nzmSEuIpzeFmfBIJ1L+i+AWTE+woncU7QDGaRN4a/Lf16UOoHqtwqgV H12V14E8P3BwNOSAfAhLRIgQhGj8aUs8= X-Google-Smtp-Source: AGHT+IH4VXFIY5xr4DO26+zrgQ+MlCN5W7oEyszLuUlpJw6q6AXVuY20B9ljtW9P1e490Qb5mkubkFZiIEjy X-Received: by 2002:a05:7022:3a0d:b0:119:e56b:c760 with SMTP id a92af1059eb24-11b4120f9e7mr601670c88.37.1763110003942; Fri, 14 Nov 2025 00:46:43 -0800 (PST) Received: from postal.iol.unh.edu (postal.iol.unh.edu. [132.177.123.84]) by smtp-relay.gmail.com with ESMTPS id a92af1059eb24-11b060912fbsm176063c88.4.2025.11.14.00.46.43 (version=TLS1_2 cipher=ECDHE-ECDSA-AES128-GCM-SHA256 bits=128/128); Fri, 14 Nov 2025 00:46:43 -0800 (PST) X-Relaying-Domain: iol.unh.edu Date: Fri, 14 Nov 2025 00:46:43 -0800 (PST) Message-ID: <6916ec73.050a0220.37d94d.8965SMTPIN_ADDED_MISSING@mx.google.com> Received: from [172.21.0.2] (unknown [172.18.0.240]) by postal.iol.unh.edu (Postfix) with ESMTP id 490406050A61; Fri, 14 Nov 2025 03:46:42 -0500 (EST) Subject: |SUCCESS| pw158761-158764 [PATCH] [v5,4/4] vhost_user: Function defs From: dpdklab@iol.unh.edu To: Test Report Cc: dpdk-test-reports@iol.unh.edu, Chenbo Xia , Maxime Coquelin In-Reply-To: <20251113124210.2913846-5-pravin.bathija@dell.com> References: <20251113124210.2913846-5-pravin.bathija@dell.com> Content-Type: text/plain X-BeenThere: test-report@dpdk.org X-Mailman-Version: 2.1.29 Precedence: list List-Id: automatic DPDK test reports List-Unsubscribe: , List-Archive: List-Post: List-Help: List-Subscribe: , Errors-To: test-report-bounces@dpdk.org Test-Label: iol-compile-amd64-testing Test-Status: SUCCESS http://dpdk.org/patch/158764 _Testing PASS_ Submitter: Bathija, Pravin Date: Thursday, November 13 2025 12:42:10 DPDK git baseline: Repo:dpdk-next-virtio Branch: master CommitID:6b37c26a95388aa41bb5267c7c42f604fd571a38 158761-158764 --> testing pass Upstream job id: Windows-Compile-DPDK-VS#7537 Test environment and result as below: +-------------------------------+--------------------+------------------+-------------------+ | Environment | dpdk_meson_compile | dpdk_compile_ovs | dpdk_msvc_compile | +===============================+====================+==================+===================+ | FreeBSD 14.2 | PASS | SKIPPED | SKIPPED | +-------------------------------+--------------------+------------------+-------------------+ | Ubuntu 20.04 | PASS | SKIPPED | SKIPPED | +-------------------------------+--------------------+------------------+-------------------+ | CentOS Stream 9 | PASS | SKIPPED | SKIPPED | +-------------------------------+--------------------+------------------+-------------------+ | CentOS Stream 10 | PASS | SKIPPED | SKIPPED | +-------------------------------+--------------------+------------------+-------------------+ | Debian GNU/Linux 12 | PASS | SKIPPED | SKIPPED | +-------------------------------+--------------------+------------------+-------------------+ | Fedora Linux 42 | PASS | PASS | SKIPPED | +-------------------------------+--------------------+------------------+-------------------+ | openSUSE Leap 15.6 | PASS | SKIPPED | SKIPPED | +-------------------------------+--------------------+------------------+-------------------+ | Red Hat Enterprise Linux 8.10 | PASS | SKIPPED | SKIPPED | +-------------------------------+--------------------+------------------+-------------------+ | Red Hat Enterprise Linux 9.5 | PASS | SKIPPED | SKIPPED | +-------------------------------+--------------------+------------------+-------------------+ | Ubuntu 22.04 | PASS | SKIPPED | SKIPPED | +-------------------------------+--------------------+------------------+-------------------+ | Ubuntu 24.04 | PASS | PASS | SKIPPED | +-------------------------------+--------------------+------------------+-------------------+ | Alpine Linux 3.22.0 | PASS | SKIPPED | SKIPPED | +-------------------------------+--------------------+------------------+-------------------+ | Windows Server 2022 | SKIPPED | SKIPPED | PASS | +-------------------------------+--------------------+------------------+-------------------+ FreeBSD 14.2 Kernel: 14.2-RELEASE Compiler: clang 18.1.6 Ubuntu 20.04 Kernel: 4.19 Compiler: gcc gcc (Ubuntu 9.4.0-1ubuntu1~20.04.2) 9.4.0 CentOS Stream 9 Kernel: 5.15 Compiler: gcc gcc (GCC) 11.5.0 20240719 (Red Hat 11.5.0-11) CentOS Stream 10 Kernel: 5.15 Compiler: gcc gcc (GCC) 14.2.1 20250110 (Red Hat 14.2.1-8) Debian GNU/Linux 12 Kernel: 5.15 Compiler: gcc gcc (Debian 12.2.0-14+deb12u1) 12.2.0 Fedora Linux 42 Kernel: 5.15 Compiler: clang gcc (GCC) 15.2.1 20250808 (Red Hat 15.2.1-1) openSUSE Leap 15.6 Kernel: 5.15 Compiler: gcc gcc (SUSE Linux) 7.5.0 Red Hat Enterprise Linux 8.10 Kernel: 5.15 Compiler: gcc gcc (GCC) 8.5.0 20210514 (Red Hat 8.5.0-22) Red Hat Enterprise Linux 9.5 Kernel: 5.15 Compiler: gcc gcc (GCC) 11.5.0 20240719 (Red Hat 11.5.0-2) Ubuntu 22.04 Kernel: 5.15 Compiler: gcc gcc (Ubuntu 11.4.0-1ubuntu1~22.04) 11.4.0 Ubuntu 24.04 Kernel: 5.15 Compiler: gcc gcc (Ubuntu 13.3.0-6ubuntu2~24.04) 13.3.0 Alpine Linux 3.22.0 Kernel: 5.15 Compiler: gcc gcc (Alpine 14.2.0) 14.2.0 Windows Server 2022 Kernel: 10.0.20348.2031 Compiler: clang 15.0.7, gcc 14.1.0 (MinGW), and MSVC VS 19.39.33521 To view detailed results, visit: https://lab.dpdk.org/results/dashboard/patchsets/34574/ UNH-IOL DPDK Community Lab To manage your email subscriptions, visit: https://lab.dpdk.org/results/dashboard/preferences/subscriptions/