From mboxrd@z Thu Jan 1 00:00:00 1970 Return-Path: Received: from mails.dpdk.org (mails.dpdk.org [217.70.189.124]) by inbox.dpdk.org (Postfix) with ESMTP id 3586848B04 for ; Fri, 14 Nov 2025 09:56:51 +0100 (CET) Received: from mails.dpdk.org (localhost [127.0.0.1]) by mails.dpdk.org (Postfix) with ESMTP id 19D8340151; Fri, 14 Nov 2025 09:56:51 +0100 (CET) Received: from mail-pg1-f227.google.com (mail-pg1-f227.google.com [209.85.215.227]) by mails.dpdk.org (Postfix) with ESMTP id A48C840151 for ; Fri, 14 Nov 2025 09:56:49 +0100 (CET) Received: by mail-pg1-f227.google.com with SMTP id 41be03b00d2f7-bb2447d11ceso1036190a12.0 for ; Fri, 14 Nov 2025 00:56:49 -0800 (PST) DKIM-Signature: v=1; a=rsa-sha256; c=relaxed/relaxed; d=iol.unh.edu; s=unh-iol; t=1763110609; x=1763715409; darn=dpdk.org; h=references:in-reply-to:cc:to:from:subject:message-id:date:from:to :cc:subject:date:message-id:reply-to; bh=FwHRHt9Egkz4qZvWDsEg4WH9OxfDHSRRWBbSFNDrFtA=; b=IaGudn5pVf0J56W3vWtkEwc4gMVWWCqK/Tn6oSpX7bf6XmD/a4rSRDw21U7MZOMyF9 X3lhpYRgJ8Thz73TuVVl/hj8iXRLw9l2W7floFQUA9es/TGJYods1IpZpNupnL4GvZvU 5sC26DVqTN2sp1+oHTRORhoSKcOWleEy+psoo= X-Google-DKIM-Signature: v=1; a=rsa-sha256; c=relaxed/relaxed; d=1e100.net; s=20230601; t=1763110609; x=1763715409; h=references:in-reply-to:cc:to:from:subject:message-id:date:x-gm-gg :x-gm-message-state:from:to:cc:subject:date:message-id:reply-to; bh=FwHRHt9Egkz4qZvWDsEg4WH9OxfDHSRRWBbSFNDrFtA=; b=V8RhACtQa4sRPbTW6PEs3U7cTrZCH0ivIW4FpBQpSCWMQ6xMkQQQ0jvHzAMPd3/thn DpgQWeRIUg0vSS9rudSbF7UOTotuhnXzNdtTM+flPHgu0+buWHgi/LNK0rA7cO9U89UO NMks8zOVYPUOseUf3FWx1hiyECUPajYcALgoKAWa21gpKcYekTo5bCiIelrRLhrCanDm dofmLzReJPjSRp4lCsW8vBVEoxtIgBafgB9PwsIfybF+3p61MJKrMpONRiQ4tPoFDh2v +sEvdg+IJZky2Gozn5yfg3TAWj0XX74Ad/NZsrIMOAxKnSAIQ4aimwz6Dt0MmqepV0Tr 7xjw== X-Gm-Message-State: AOJu0YwiKFfoNn2hLvlWZhjT8l7U+pl5U0+pgXHLSHOZTivVP5haTizA Tow3uMgOzK/i7oO1q6fz+8eJ2ZUcyAEXRNUMwiV8pzF0wHHao50kWpMK96ybMgqFK8jj6lYOear hqYTjcdQyEaRk2nbdCuLInNdnlj00MiVZ8RMk+iFVK5s2lfPmgdKEQLoXXxWr X-Gm-Gg: ASbGncucq1Vu6XdVxowE7QWgia7G6x6tvCoUaUgQ9Xhc33uiOHpWu/8NW8ItcKY1iF2 79wMjn55QuyRDL/nJdLioP65Cm+oRsxAp10mFTywRGJACQ8SBVCT/UDiei9vweiRM69kqP6nI7X jlQ1cOJEiRg8m7Wk+eSPmU7mnCqpxeQ9dzx80n6fJSNwDdM0LrDUOQyemNHJ2z8K1MEJgtulYB7 QOfwJnOGioZyrHLeGkvB8cPLSs2PV8qEgbwbtgAyBGSkp+WKNRGAmeMBFMK+M/Alfip7WOKCFqg /QTySNnqObrWScrLlnuMO7U+Zv+ql+dlQSzFveSpu2tWUQZEEEufMgpbcRpcvoiapjZSqK4thpA 2Sq1LiNfl X-Google-Smtp-Source: AGHT+IH2YHDZXX7eZ4rwMeTTJjkJHwIAcMz7mhvCHcqNFCOoPTt7+JD6xJKVSd50Ty82M/vL+L2N9yeycRD4 X-Received: by 2002:a05:7301:903:b0:2a4:3592:c604 with SMTP id 5a478bee46e88-2a4abb25f30mr783226eec.21.1763110608564; Fri, 14 Nov 2025 00:56:48 -0800 (PST) Received: from postal.iol.unh.edu (postal.iol.unh.edu. [2606:4100:3880:1234::84]) by smtp-relay.gmail.com with ESMTPS id 5a478bee46e88-2a49dad2627sm251795eec.2.2025.11.14.00.56.48 (version=TLS1_2 cipher=ECDHE-ECDSA-AES128-GCM-SHA256 bits=128/128); Fri, 14 Nov 2025 00:56:48 -0800 (PST) X-Relaying-Domain: iol.unh.edu Date: Fri, 14 Nov 2025 00:56:48 -0800 (PST) Message-ID: <6916eed0.050a0220.259e27.b961SMTPIN_ADDED_MISSING@mx.google.com> Received: from [172.21.0.2] (unknown [172.18.0.240]) by postal.iol.unh.edu (Postfix) with ESMTP id 99CFC6050A61; Fri, 14 Nov 2025 03:56:47 -0500 (EST) Subject: |SUCCESS| pw158751 [PATCH] [v2] examples/flow_filtering: add more sn From: dpdklab@iol.unh.edu To: Test Report Cc: dpdk-test-reports@iol.unh.edu In-Reply-To: <20251113101347.162908-1-shperetz@nvidia.com> References: <20251113101347.162908-1-shperetz@nvidia.com> Content-Type: text/plain X-BeenThere: test-report@dpdk.org X-Mailman-Version: 2.1.29 Precedence: list List-Id: automatic DPDK test reports List-Unsubscribe: , List-Archive: List-Post: List-Help: List-Subscribe: , Errors-To: test-report-bounces@dpdk.org Test-Label: iol-unit-amd64-testing Test-Status: SUCCESS http://dpdk.org/patch/158751 _Testing PASS_ Submitter: Shani Peretz Date: Thursday, November 13 2025 10:13:44 DPDK git baseline: Repo:dpdk Branch: master CommitID:be0112878b4fc3a1b918370ed2fe615c52039d77 158751 --> testing pass Upstream job id: Generic-VM-Unit-Test-DPDK#32526 Test environment and result as below: +-------------------------------+----------------+ | Environment | dpdk_unit_test | +===============================+================+ | Fedora Linux 40 | PASS | +-------------------------------+----------------+ | CentOS Stream 9 | PASS | +-------------------------------+----------------+ | Fedora Linux 41 | PASS | +-------------------------------+----------------+ | CentOS Stream 10 | PASS | +-------------------------------+----------------+ | Red Hat Enterprise Linux 8.10 | PASS | +-------------------------------+----------------+ | Fedora Linux 42 | PASS | +-------------------------------+----------------+ | Debian GNU/Linux 12 | PASS | +-------------------------------+----------------+ | Red Hat Enterprise Linux 9.5 | PASS | +-------------------------------+----------------+ | Ubuntu 22.04 | PASS | +-------------------------------+----------------+ | Ubuntu 24.04 | PASS | +-------------------------------+----------------+ | Ubuntu 20.04 | PASS | +-------------------------------+----------------+ | Windows Server 2022 | PASS | +-------------------------------+----------------+ Fedora Linux 40 Kernel: 5.15 Compiler: gcc gcc (GCC) 14.2.1 20240912 (Red Hat 14.2.1-3) CentOS Stream 9 Kernel: 5.15 Compiler: gcc gcc (GCC) 11.5.0 20240719 (Red Hat 11.5.0-11) Fedora Linux 41 Kernel: 5.15 Compiler: gcc gcc (GCC) 14.3.1 20250523 (Red Hat 14.3.1-1) CentOS Stream 10 Kernel: 5.15 Compiler: gcc gcc (GCC) 14.2.1 20250110 (Red Hat 14.2.1-8) Red Hat Enterprise Linux 8.10 Kernel: 5.15 Compiler: gcc gcc (GCC) 8.5.0 20210514 (Red Hat 8.5.0-22) Fedora Linux 42 Kernel: 5.15 Compiler: gcc gcc (GCC) 15.2.1 20250808 (Red Hat 15.2.1-1) Debian GNU/Linux 12 Kernel: 5.15 Compiler: gcc gcc (Debian 12.2.0-14+deb12u1) 12.2.0 Red Hat Enterprise Linux 9.5 Kernel: 5.15 Compiler: gcc gcc (GCC) 11.5.0 20240719 (Red Hat 11.5.0-2) Ubuntu 22.04 Kernel: 5.15 Compiler: gcc gcc (Ubuntu 11.4.0-1ubuntu1~22.04) 11.4.0 Ubuntu 24.04 Kernel: 5.15 Compiler: gcc gcc (Ubuntu 13.3.0-6ubuntu2~24.04) 13.3.0 Ubuntu 20.04 Kernel: 5.15 Compiler: gcc gcc (Ubuntu 9.4.0-1ubuntu1~20.04.2) 9.4.0 Windows Server 2022 Kernel: 10.0.20348.2031 Compiler: clang 15.0.7, gcc 14.1.0 (MinGW), and MSVC VS 19.39.33521 To view detailed results, visit: https://lab.dpdk.org/results/dashboard/patchsets/34567/ UNH-IOL DPDK Community Lab To manage your email subscriptions, visit: https://lab.dpdk.org/results/dashboard/preferences/subscriptions/