From mboxrd@z Thu Jan 1 00:00:00 1970 Return-Path: Received: from mails.dpdk.org (mails.dpdk.org [217.70.189.124]) by inbox.dpdk.org (Postfix) with ESMTP id E40A748B06 for ; Fri, 14 Nov 2025 10:03:10 +0100 (CET) Received: from mails.dpdk.org (localhost [127.0.0.1]) by mails.dpdk.org (Postfix) with ESMTP id C44B140151; Fri, 14 Nov 2025 10:03:10 +0100 (CET) Received: from mail-pj1-f98.google.com (mail-pj1-f98.google.com [209.85.216.98]) by mails.dpdk.org (Postfix) with ESMTP id AF5A240151 for ; Fri, 14 Nov 2025 10:03:08 +0100 (CET) Received: by mail-pj1-f98.google.com with SMTP id 98e67ed59e1d1-3418ad69672so1303513a91.3 for ; Fri, 14 Nov 2025 01:03:08 -0800 (PST) DKIM-Signature: v=1; a=rsa-sha256; c=relaxed/relaxed; d=iol.unh.edu; s=unh-iol; t=1763110988; x=1763715788; darn=dpdk.org; h=references:in-reply-to:cc:to:from:subject:message-id:date:from:to :cc:subject:date:message-id:reply-to; bh=sGsYu/rHqFeg8TZR4U7hOkkPoPDhZfhCFqMGvKPiOHs=; b=elXlAkBZuQtuHa6JiAVRj6NXh0xPQQTgHVdgYkv0gLClUqp4xHHjXfPi4GCNU4Qf52 ifD9VxUmjp8ZtHoaYTzulM5W04LU2MEV8zMy+qMMWFyOHsXgxxIlA3SYB3g1C7SXHz62 DuJmpkwTQh3FTiveksTCYShWTPARbwmrebFqA= X-Google-DKIM-Signature: v=1; a=rsa-sha256; c=relaxed/relaxed; d=1e100.net; s=20230601; t=1763110988; x=1763715788; h=references:in-reply-to:cc:to:from:subject:message-id:date:x-gm-gg :x-gm-message-state:from:to:cc:subject:date:message-id:reply-to; bh=sGsYu/rHqFeg8TZR4U7hOkkPoPDhZfhCFqMGvKPiOHs=; b=RZ09rfLL2IC7C6NLuY2CtM2Nbiua3/23ACZGivfQJHQRmqDFr0F+ZL+KqvKYn9AKtR TBpDFab15zPZ5uKeT7gqm1IOqBZVKdqIfyLquw1NqJMh8kKrd/QXxpIAeJ4U62zMix9U NDAJNMDAEtryxyz1VNXTkUpIsdlhb7w255QfrjhtP3N3/Oa+YZZQb+mglOSBC2frlqr/ m5bmlFI9NrBrDcGu6PEZWnbEofE5wOqXpY61PSZYCOk6el8QwtLto1Ut910Nx9sHnJGt n95KJhRZ/0v2++ijJY6QeCB8ZhYGXMZVXJdXN/7ak+XFgthlK4J5dam8sj2oa9VmLhtN WTxg== X-Gm-Message-State: AOJu0YzykpEUmMDsvnuGV7Jin5SBTzgyFThRkVDlg4P/4o+ZQ+0Qp17K ebSjY2vqsh/R8Wx+JR+5AhZxV6Td7dFrHIPstoz01QyQ2uAQ4rOM1TjQbQINrrADxOtZpfQFtZ+ ccePeNLRZnXeGahfc+jCA8f+B56F02VjUrzOpQvTRLQwb X-Gm-Gg: ASbGncudf8q4zIh1+0RXekwTiONhTaIFvwydrU7suhV1JZgrisMEX6xCqIWRFelkCVp 9+kjrw6RbSFmXjm95FH7RlMw9B4TOTl2xMbL6fHgoCSeBKGpKA5lbVjSvrNTZpyzhLTfLPWpHEB BzrMOqWqCnwCDlW6Wba1jxPsYtkCpQMhmFl2pHnPHKLrEoo4l0ybvkk0JLGLrjyxJRpTYy0sU7V stkNXkzRhN2Q/uw7uotW0wduD4uh/ubjwre9bZAl4ki7Kw984QIfxtChJjnf4U3XbVOv4rjIGIc hPiikg1RCVOAu4jAKL1JVXVLqTB/yckL54ZyZebdpI89Sfbc5Wekr9+WFwLBSinI2WRv7FbQdWV 12MYz9twoyuVHaA+vlKzsFWnHt2ZTUKw= X-Google-Smtp-Source: AGHT+IFRhHmiKOzpqZEXPfLvILvIfJFJ4IR5y0QmoNQFZm/SJyaXMkENyu7PWDKbuge1hEwavchWZLcAP8h7 X-Received: by 2002:a17:90b:5407:b0:340:54a1:d703 with SMTP id 98e67ed59e1d1-343fa754ba4mr2414904a91.35.1763110987738; Fri, 14 Nov 2025 01:03:07 -0800 (PST) Received: from postal.iol.unh.edu (postal.iol.unh.edu. [132.177.123.84]) by smtp-relay.gmail.com with ESMTPS id 41be03b00d2f7-bc36de0985esm326234a12.2.2025.11.14.01.03.07 (version=TLS1_2 cipher=ECDHE-ECDSA-AES128-GCM-SHA256 bits=128/128); Fri, 14 Nov 2025 01:03:07 -0800 (PST) X-Relaying-Domain: iol.unh.edu Date: Fri, 14 Nov 2025 01:03:07 -0800 (PST) Message-ID: <6916f04b.630a0220.9912.fc98SMTPIN_ADDED_MISSING@mx.google.com> Received: from [172.21.0.2] (unknown [172.18.0.240]) by postal.iol.unh.edu (Postfix) with ESMTP id 010176050A61; Fri, 14 Nov 2025 04:03:06 -0500 (EST) Subject: |SUCCESS| pw158751 [PATCH] [v2] examples/flow_filtering: add more sn From: dpdklab@iol.unh.edu To: Test Report Cc: dpdk-test-reports@iol.unh.edu In-Reply-To: <20251113101347.162908-1-shperetz@nvidia.com> References: <20251113101347.162908-1-shperetz@nvidia.com> Content-Type: text/plain X-BeenThere: test-report@dpdk.org X-Mailman-Version: 2.1.29 Precedence: list List-Id: automatic DPDK test reports List-Unsubscribe: , List-Archive: List-Post: List-Help: List-Subscribe: , Errors-To: test-report-bounces@dpdk.org Test-Label: iol-unit-amd64-testing Test-Status: SUCCESS http://dpdk.org/patch/158751 _Testing PASS_ Submitter: Shani Peretz Date: Thursday, November 13 2025 10:13:44 DPDK git baseline: Repo:dpdk Branch: master CommitID:be0112878b4fc3a1b918370ed2fe615c52039d77 158751 --> testing pass Upstream job id: Generic-VM-Unit-Test-DPDK#32527 Test environment and result as below: +-------------------------------+----------------+ | Environment | dpdk_unit_test | +===============================+================+ | Fedora Linux 40 | PASS | +-------------------------------+----------------+ | CentOS Stream 9 | PASS | +-------------------------------+----------------+ | Fedora Linux 41 | PASS | +-------------------------------+----------------+ | CentOS Stream 10 | PASS | +-------------------------------+----------------+ | Red Hat Enterprise Linux 8.10 | PASS | +-------------------------------+----------------+ | Fedora Linux 42 | PASS | +-------------------------------+----------------+ | Debian GNU/Linux 12 | PASS | +-------------------------------+----------------+ | Red Hat Enterprise Linux 9.5 | PASS | +-------------------------------+----------------+ | Ubuntu 22.04 | PASS | +-------------------------------+----------------+ | Ubuntu 24.04 | PASS | +-------------------------------+----------------+ | Ubuntu 20.04 | PASS | +-------------------------------+----------------+ | Windows Server 2022 | PASS | +-------------------------------+----------------+ Fedora Linux 40 Kernel: 5.15 Compiler: gcc gcc (GCC) 14.2.1 20240912 (Red Hat 14.2.1-3) CentOS Stream 9 Kernel: 5.15 Compiler: gcc gcc (GCC) 11.5.0 20240719 (Red Hat 11.5.0-11) Fedora Linux 41 Kernel: 5.15 Compiler: gcc gcc (GCC) 14.3.1 20250523 (Red Hat 14.3.1-1) CentOS Stream 10 Kernel: 5.15 Compiler: gcc gcc (GCC) 14.2.1 20250110 (Red Hat 14.2.1-8) Red Hat Enterprise Linux 8.10 Kernel: 5.15 Compiler: gcc gcc (GCC) 8.5.0 20210514 (Red Hat 8.5.0-22) Fedora Linux 42 Kernel: 5.15 Compiler: gcc gcc (GCC) 15.2.1 20250808 (Red Hat 15.2.1-1) Debian GNU/Linux 12 Kernel: 5.15 Compiler: gcc gcc (Debian 12.2.0-14+deb12u1) 12.2.0 Red Hat Enterprise Linux 9.5 Kernel: 5.15 Compiler: gcc gcc (GCC) 11.5.0 20240719 (Red Hat 11.5.0-2) Ubuntu 22.04 Kernel: 5.15 Compiler: gcc gcc (Ubuntu 11.4.0-1ubuntu1~22.04) 11.4.0 Ubuntu 24.04 Kernel: 5.15 Compiler: gcc gcc (Ubuntu 13.3.0-6ubuntu2~24.04) 13.3.0 Ubuntu 20.04 Kernel: 5.15 Compiler: gcc gcc (Ubuntu 9.4.0-1ubuntu1~20.04.2) 9.4.0 Windows Server 2022 Kernel: 10.0.20348.2031 Compiler: clang 15.0.7, gcc 14.1.0 (MinGW), and MSVC VS 19.39.33521 To view detailed results, visit: https://lab.dpdk.org/results/dashboard/patchsets/34567/ UNH-IOL DPDK Community Lab To manage your email subscriptions, visit: https://lab.dpdk.org/results/dashboard/preferences/subscriptions/