From mboxrd@z Thu Jan 1 00:00:00 1970 Return-Path: Received: from mails.dpdk.org (mails.dpdk.org [217.70.189.124]) by inbox.dpdk.org (Postfix) with ESMTP id F05B448B06 for ; Fri, 14 Nov 2025 10:16:39 +0100 (CET) Received: from mails.dpdk.org (localhost [127.0.0.1]) by mails.dpdk.org (Postfix) with ESMTP id EB31440151; Fri, 14 Nov 2025 10:16:39 +0100 (CET) Received: from mail-pl1-f226.google.com (mail-pl1-f226.google.com [209.85.214.226]) by mails.dpdk.org (Postfix) with ESMTP id D666540151 for ; Fri, 14 Nov 2025 10:16:37 +0100 (CET) Received: by mail-pl1-f226.google.com with SMTP id d9443c01a7336-29555b384acso19184275ad.1 for ; Fri, 14 Nov 2025 01:16:37 -0800 (PST) DKIM-Signature: v=1; a=rsa-sha256; c=relaxed/relaxed; d=iol.unh.edu; s=unh-iol; t=1763111797; x=1763716597; darn=dpdk.org; h=references:in-reply-to:cc:to:from:subject:message-id:date:from:to :cc:subject:date:message-id:reply-to; bh=om9CGzIpBkulYDE1KBKzjAmP1ApaS3m19UZftZh4MVU=; b=hSxoR6gOye8gviG7Z3N5TPWYl2SxSI4Z0EAhAgdTVRzmxX+cwXTDUuK4GWyZtmEQIQ EA/jOFR2TYcdgULH9JSL+bH/EX4sBP1+g9rVSkyP97Stpb6CyTAUcWnZKZ0MoYsRkK60 WiPcozK/krmiFiKZw2TvygzCvYj49Fvha23Yw= X-Google-DKIM-Signature: v=1; a=rsa-sha256; c=relaxed/relaxed; d=1e100.net; s=20230601; t=1763111797; x=1763716597; h=references:in-reply-to:cc:to:from:subject:message-id:date:x-gm-gg :x-gm-message-state:from:to:cc:subject:date:message-id:reply-to; bh=om9CGzIpBkulYDE1KBKzjAmP1ApaS3m19UZftZh4MVU=; b=sNN9UhMETbADKSnVtanGr3v8R34wS723WVqO+rkMkQjfKRI55Sl0HrmTWvntYC87tb IOZP9GNOTqfSZE6dckLgf9TJDH6rka0QPJxxC5WI2EabO1rlccLNFY2JYBN1rqAabrmu SmXihDH7uJP9IIrVpnYbmPZQ1WG9LnSlvxgrbcKMoIyTf9cDKYryBdq2XspQ9H2twC3r SDdUYLpIiKMlxBIutLgyc8pMuN5LwUD9aQTswCXC6T88yiuszuYBQlejPyKofP6rCVKl /A2HwXtHFT06FPOm7VsC/V1IQGSNAYku6eJNUruiLPUV+XthvEib74A6bFNf5UhDP/Oz wagQ== X-Gm-Message-State: AOJu0Yw/q8hoKWE7oNDeclhJh2WQPT38v8omsEKoZPTsb55jTaQP4F4k Aim7VO5kgwNg86GeR98gLhkat092FlDVjpxe0Blmn1BI24DWjjOS0mW388VzSkjOaGccn/dyD12 NjVd5TSX8YP+BuUAUQbZGCkFp1t3TXtm0CirlZ/AyGScn X-Gm-Gg: ASbGnct+onOHpk7S6wcSosMGTkPChMJcsF/brcRcIHq4Jf/Wx24/OglH/BYE5LJRCuH z/wAoNwXc0TVeSVWWbw/U5bC9ET53ULnEes65BTpUNcw2y7OBS7v6topPmLncJdepxT23/70XTk GFwbDFOZAiQTcCjVZYQeB7LdUKlBUStXZ65PlEfiFIv8GlDJyVO6pLTm9opjz6ndX/8k6E3F987 c9BPTmSdCSf3tHPwaKOdE6qGIZuAZOzvV0HB7sKkLwdzzaJIuBFKxhlWzn2Fxxbcn9v/EP0xT74 k1j6Qjq2cRUqNJ0R42bBBh0QhluFWrR10IR1KRVNybCKkx6Jmtje02XojDQtV195dgrPzAgd6LP J+XFq1F9sZOih8DEhjfYUzvT/O+USVhM= X-Google-Smtp-Source: AGHT+IGyteZEV4LEQ4uahCRkrF2TG26LsKJy8P5qihhxL5ps5I1DitBkESkLOvNIRhju+XwYewH974jXOeYy X-Received: by 2002:a17:903:230a:b0:295:94e1:91da with SMTP id d9443c01a7336-2986a73b093mr25669105ad.33.1763111796998; Fri, 14 Nov 2025 01:16:36 -0800 (PST) Received: from postal.iol.unh.edu (postal.iol.unh.edu. [132.177.123.84]) by smtp-relay.gmail.com with ESMTPS id 98e67ed59e1d1-343ed4c95d5sm602260a91.2.2025.11.14.01.16.36 (version=TLS1_2 cipher=ECDHE-ECDSA-AES128-GCM-SHA256 bits=128/128); Fri, 14 Nov 2025 01:16:36 -0800 (PST) X-Relaying-Domain: iol.unh.edu Date: Fri, 14 Nov 2025 01:16:36 -0800 (PST) Message-ID: <6916f374.170a0220.1a1beb.cdf3SMTPIN_ADDED_MISSING@mx.google.com> Received: from [172.21.0.2] (unknown [172.18.0.240]) by postal.iol.unh.edu (Postfix) with ESMTP id 3A8DA6050A61; Fri, 14 Nov 2025 04:16:36 -0500 (EST) Subject: |SUCCESS| pw158753 [PATCH] net/intel: rename variable in Rx select t From: dpdklab@iol.unh.edu To: Test Report Cc: dpdk-test-reports@iol.unh.edu, Bruce Richardson In-Reply-To: <20251113103012.3782264-1-ciara.loftus@intel.com> References: <20251113103012.3782264-1-ciara.loftus@intel.com> Content-Type: text/plain X-BeenThere: test-report@dpdk.org X-Mailman-Version: 2.1.29 Precedence: list List-Id: automatic DPDK test reports List-Unsubscribe: , List-Archive: List-Post: List-Help: List-Subscribe: , Errors-To: test-report-bounces@dpdk.org Test-Label: iol-compile-arm64-testing Test-Status: SUCCESS http://dpdk.org/patch/158753 _Testing PASS_ Submitter: Ciara Loftus Date: Thursday, November 13 2025 10:30:12 DPDK git baseline: Repo:dpdk-next-net-intel Branch: master CommitID:123703be5bdd0fa45e4fda14f36a0d941d1f7e63 158753 --> testing pass Upstream job id: Generic-DPDK-Compile-Meson#443938 Test environment and result as below: +------------------------------+--------------------+ | Environment | dpdk_meson_compile | +==============================+====================+ | Ubuntu 20.04 | PASS | +------------------------------+--------------------+ | Red Hat Enterprise Linux 9.5 | PASS | +------------------------------+--------------------+ | Debian GNU/Linux 12 | PASS | +------------------------------+--------------------+ | Fedora Linux 42 | PASS | +------------------------------+--------------------+ | Ubuntu 22.04 | PASS | +------------------------------+--------------------+ | Ubuntu 24.04 | PASS | +------------------------------+--------------------+ | CentOS Stream 9 | PASS | +------------------------------+--------------------+ | CentOS Stream 10 | PASS | +------------------------------+--------------------+ Ubuntu 20.04 Kernel: 5.15 Compiler: aarch64-linux-gnu-gcc gcc (Ubuntu 9.4.0-1ubuntu1~20.04.2) 9.4.0 Red Hat Enterprise Linux 9.5 Kernel: 5.4 Compiler: gcc gcc (GCC) 11.5.0 20240719 (Red Hat 11.5.0-2) Debian GNU/Linux 12 Kernel: 5.4 Compiler: gcc gcc (Debian 12.2.0-14+deb12u1) 12.2.0 Fedora Linux 42 Kernel: 5.4 Compiler: gcc gcc (GCC) 15.2.1 20250808 (Red Hat 15.2.1-1) Ubuntu 22.04 Kernel: 5.4 Compiler: gcc gcc (Ubuntu 11.4.0-1ubuntu1~22.04) 11.4.0 Ubuntu 24.04 Kernel: 5.4 Compiler: gcc gcc (Ubuntu 13.3.0-6ubuntu2~24.04) 13.3.0 CentOS Stream 9 Kernel: 5.4 Compiler: gcc gcc (GCC) 11.5.0 20240719 (Red Hat 11.5.0-11) CentOS Stream 10 Kernel: 5.4 Compiler: gcc gcc (GCC) 14.2.1 20250110 (Red Hat 14.2.1-8) To view detailed results, visit: https://lab.dpdk.org/results/dashboard/patchsets/34570/ UNH-IOL DPDK Community Lab To manage your email subscriptions, visit: https://lab.dpdk.org/results/dashboard/preferences/subscriptions/