From mboxrd@z Thu Jan 1 00:00:00 1970 Return-Path: Received: from mails.dpdk.org (mails.dpdk.org [217.70.189.124]) by inbox.dpdk.org (Postfix) with ESMTP id 0F07F48B06 for ; Fri, 14 Nov 2025 10:17:07 +0100 (CET) Received: from mails.dpdk.org (localhost [127.0.0.1]) by mails.dpdk.org (Postfix) with ESMTP id 0AD3140151; Fri, 14 Nov 2025 10:17:07 +0100 (CET) Received: from mail-pf1-f226.google.com (mail-pf1-f226.google.com [209.85.210.226]) by mails.dpdk.org (Postfix) with ESMTP id 0A81D40151 for ; Fri, 14 Nov 2025 10:17:05 +0100 (CET) Received: by mail-pf1-f226.google.com with SMTP id d2e1a72fcca58-7b89c1ce9easo1655158b3a.2 for ; Fri, 14 Nov 2025 01:17:04 -0800 (PST) DKIM-Signature: v=1; a=rsa-sha256; c=relaxed/relaxed; d=iol.unh.edu; s=unh-iol; t=1763111824; x=1763716624; darn=dpdk.org; h=references:in-reply-to:cc:to:from:subject:message-id:date:from:to :cc:subject:date:message-id:reply-to; bh=Lt4sGeiuAMZOyURsjJz78Rli32PaoA7f0zdFVqI++Iw=; b=cIJ+2JRe2ermyFDWdUqJDYcFyoFLaYSrrW6sDobH1WdO0uQbBIBvUbeapzF5kdW5R/ vE9KUa9o3qoInwGiRz/h2X33dvizaQfzDNWV1ia5OOOdFkEUG0QjxojUgpEai8XB+n5a LeOoymK6ftY50l5NpzYAu1cFh1wInrHDkOzC0= X-Google-DKIM-Signature: v=1; a=rsa-sha256; c=relaxed/relaxed; d=1e100.net; s=20230601; t=1763111824; x=1763716624; h=references:in-reply-to:cc:to:from:subject:message-id:date:x-gm-gg :x-gm-message-state:from:to:cc:subject:date:message-id:reply-to; bh=Lt4sGeiuAMZOyURsjJz78Rli32PaoA7f0zdFVqI++Iw=; b=lm8zNNmaae/O/SAJv3e4ZqlCB5axDG0WFvqbSNgtqkhPp31Kr7FIBjc4TZpQPcGclk 7QjIeaX/gpaeMTVtZjeXr2Uhh6299w7kirYlmEyZc8o65PVNaGw4vlLAOvCqW0hMI5wb +NCDB2lqDKXo9oHGDQUpJj7UHCfni2b3yYpFb3qMBH1gMTrjk6qNapZVKuo6rne8Uv8d ItL5F49uOWtfxmu9lMsa/+wi+PS9PeUZyjRHltoW5BMjnppjSsYxiMZKvjj2yeNSOMf3 abMdRNEMutNptcB3HIgVDRpTFVnA+E95pQ9R9d5j2K7gRccdFAsmAG/SDrQHdeF4ps7w qQZw== X-Gm-Message-State: AOJu0Yzh7FYnSG1GWmx3YnlTcmgVcNVhEaQWrd/aPOUOjoWtnoQWznEM hOC4yIqRXvyuXrErzaQIFo0HttJM/SYalAeG5TMwA/G6nEqlhbiVGusUb63lYZXr92ifXiAGksw vJgqBQklG458r4IlgX2voMXw3V3zayWpN0e2m60nr4R2j X-Gm-Gg: ASbGncuT0CNYfnI4trc7t85u43ER+wXb+8aLKedfVOCy7Db3JLN2P09XbBiyrZ3F7TS aQUqzVePx31gzjy6CNvQ4zL5rLZr4un4zXFldyAZb28xHXpf0chDqoUdPXmDiaUkpXviFbqa0KZ A5X6lkJ2mqsayB2lLYT4GTu8qOZ4uWy4ltZpe2+0+/o36CWZcD+Xj+LHJ+ydjyN2CnFVCic63Qq nFhsJ1/o9OS5HD/ufkwo95f682mzVCRPA6ywHItVQJz0pQZ7Ih9fa1DNTHf55HP3fCWbL6HHAGr wW9JG8IWJixtXNj8+71DpW2lL35dJ1lEm8iPPxjk4MSu2DJqXLWQd2oN6VsxHlRHysuRtbAA/Ug eGsW1C7ng00DjK+DDTFn/9Qiim8TTzBE= X-Google-Smtp-Source: AGHT+IGJxliNSOq81tJlZC2C+1YthpOqxHqWABpIyYKdaorZ4UgZMa0ymAewvqtshDqI8NObaykW00v8X5kd X-Received: by 2002:a05:6a20:5042:b0:35b:c903:1db3 with SMTP id adf61e73a8af0-35bc9031de5mr2551441637.6.1763111824148; Fri, 14 Nov 2025 01:17:04 -0800 (PST) Received: from postal.iol.unh.edu (postal.iol.unh.edu. [132.177.123.84]) by smtp-relay.gmail.com with ESMTPS id 41be03b00d2f7-bc374cab105sm336241a12.9.2025.11.14.01.17.04 (version=TLS1_2 cipher=ECDHE-ECDSA-AES128-GCM-SHA256 bits=128/128); Fri, 14 Nov 2025 01:17:04 -0800 (PST) X-Relaying-Domain: iol.unh.edu Date: Fri, 14 Nov 2025 01:17:04 -0800 (PST) Message-ID: <6916f390.050a0220.305d00.1333SMTPIN_ADDED_MISSING@mx.google.com> Received: from [172.21.0.3] (unknown [172.18.0.240]) by postal.iol.unh.edu (Postfix) with ESMTP id 55D006050A61; Fri, 14 Nov 2025 04:17:03 -0500 (EST) Subject: |SUCCESS| pw158754 [PATCH] net/ice: add MAC anti-spoof disable optio From: dpdklab@iol.unh.edu To: Test Report Cc: dpdk-test-reports@iol.unh.edu, Bruce Richardson In-Reply-To: <20251113105914.34949-1-anurag.mandal@intel.com> References: <20251113105914.34949-1-anurag.mandal@intel.com> Content-Type: text/plain X-BeenThere: test-report@dpdk.org X-Mailman-Version: 2.1.29 Precedence: list List-Id: automatic DPDK test reports List-Unsubscribe: , List-Archive: List-Post: List-Help: List-Subscribe: , Errors-To: test-report-bounces@dpdk.org Test-Label: iol-compile-arm64-testing Test-Status: SUCCESS http://dpdk.org/patch/158754 _Testing PASS_ Submitter: Anurag Mandal Date: Thursday, November 13 2025 10:59:14 DPDK git baseline: Repo:dpdk-next-net-intel Branch: master CommitID:123703be5bdd0fa45e4fda14f36a0d941d1f7e63 158754 --> testing pass Upstream job id: Generic-DPDK-Compile-Meson#443972 Test environment and result as below: +------------------------------+--------------------+ | Environment | dpdk_meson_compile | +==============================+====================+ | Red Hat Enterprise Linux 9.5 | PASS | +------------------------------+--------------------+ | Ubuntu 20.04 | PASS | +------------------------------+--------------------+ | Debian GNU/Linux 12 | PASS | +------------------------------+--------------------+ | Fedora Linux 42 | PASS | +------------------------------+--------------------+ | Ubuntu 22.04 | PASS | +------------------------------+--------------------+ | Ubuntu 24.04 | PASS | +------------------------------+--------------------+ | CentOS Stream 9 | PASS | +------------------------------+--------------------+ | CentOS Stream 10 | PASS | +------------------------------+--------------------+ Red Hat Enterprise Linux 9.5 Kernel: 5.4 Compiler: gcc gcc (GCC) 11.5.0 20240719 (Red Hat 11.5.0-2) Ubuntu 20.04 Kernel: 5.15 Compiler: aarch64-linux-gnu-gcc gcc (Ubuntu 9.4.0-1ubuntu1~20.04.2) 9.4.0 Debian GNU/Linux 12 Kernel: 5.4 Compiler: gcc gcc (Debian 12.2.0-14+deb12u1) 12.2.0 Fedora Linux 42 Kernel: 5.4 Compiler: gcc gcc (GCC) 15.2.1 20250808 (Red Hat 15.2.1-1) Ubuntu 22.04 Kernel: 5.4 Compiler: gcc gcc (Ubuntu 11.4.0-1ubuntu1~22.04) 11.4.0 Ubuntu 24.04 Kernel: 5.4 Compiler: gcc gcc (Ubuntu 13.3.0-6ubuntu2~24.04) 13.3.0 CentOS Stream 9 Kernel: 5.4 Compiler: gcc gcc (GCC) 11.5.0 20240719 (Red Hat 11.5.0-11) CentOS Stream 10 Kernel: 5.4 Compiler: gcc gcc (GCC) 14.2.1 20250110 (Red Hat 14.2.1-8) To view detailed results, visit: https://lab.dpdk.org/results/dashboard/patchsets/34571/ UNH-IOL DPDK Community Lab To manage your email subscriptions, visit: https://lab.dpdk.org/results/dashboard/preferences/subscriptions/