From mboxrd@z Thu Jan 1 00:00:00 1970 Return-Path: Received: from mails.dpdk.org (mails.dpdk.org [217.70.189.124]) by inbox.dpdk.org (Postfix) with ESMTP id 282A348B06 for ; Fri, 14 Nov 2025 10:17:54 +0100 (CET) Received: from mails.dpdk.org (localhost [127.0.0.1]) by mails.dpdk.org (Postfix) with ESMTP id 22B8B40151; Fri, 14 Nov 2025 10:17:54 +0100 (CET) Received: from mail-yx1-f98.google.com (mail-yx1-f98.google.com [74.125.224.98]) by mails.dpdk.org (Postfix) with ESMTP id E8FC740151 for ; Fri, 14 Nov 2025 10:17:52 +0100 (CET) Received: by mail-yx1-f98.google.com with SMTP id 956f58d0204a3-63fc6115d65so1710557d50.0 for ; Fri, 14 Nov 2025 01:17:52 -0800 (PST) DKIM-Signature: v=1; a=rsa-sha256; c=relaxed/relaxed; d=iol.unh.edu; s=unh-iol; t=1763111872; x=1763716672; darn=dpdk.org; h=references:in-reply-to:cc:to:from:subject:message-id:date:from:to :cc:subject:date:message-id:reply-to; bh=honQWRzDeD40IoC9jUbrPl0y7ri+U8aKE4xYcppXzUc=; b=F7JnP5QjOqf2IJXLNXIuRMhnJbIbwhcmfx4IVp4pQxAUS/JAqe+fmTRIsMVo6CYMSE 4AF5Me5pMfCaWxOW/R1UjL6evUb+Q4gTh/rq/X4z8cVCdLUH2ujNuz1TXKe/IojDXWxy A7aIGEoHzHMYFxSTVZEaOdrd5mNHzIt/hna2Y= X-Google-DKIM-Signature: v=1; a=rsa-sha256; c=relaxed/relaxed; d=1e100.net; s=20230601; t=1763111872; x=1763716672; h=references:in-reply-to:cc:to:from:subject:message-id:date:x-gm-gg :x-gm-message-state:from:to:cc:subject:date:message-id:reply-to; bh=honQWRzDeD40IoC9jUbrPl0y7ri+U8aKE4xYcppXzUc=; b=XqiVS8uqGYxNbDV90MRmz+uq2NHJAqZI2MDdX1EH5baa3MMwU73adebvQmiekPIKcI guWSoAdCXQsAzBDKwltLEKK9yUsmRSmmPjNvaZR1jC3ItrvtFKOPgsJzF70ZbiQCfwCx dhRKdgIy2X3gkKkPfW6wUx2PeFq9CjmK/YdgOKGpMKlO+BakCAL79vhrS76dJly8n3AT v/Kol/SvYjrnXr3Gbp4nCPBpCidwaNezl24J8D+PN8obJ8d3U4e3mXemkzR9bUZHyZK3 Z/Xh7WDJaCFdXboxrko4oV+SSYP1m0CC0lKQ+Afcc3L+YpDCGMF9qLiXoqrur9Q3ccJo NIyw== X-Gm-Message-State: AOJu0YwD1iORHsPLjaSJJeCtnNZ6hp1nmHkl0OzIu/5m+JpcIiKkGXB5 Jpb/5mXeaMk/SuhHF5VkIf3xCc4FXlcuxnhcgpK0aEY3GS0HaQS1jrjmgfUnMHLbHy+x5azZr3b 2Pc35fOCeFolqj9HNRC/S8YkpVr8+p5FYWyszaYAQMfLEvFjX7obxoJzhEXtt X-Gm-Gg: ASbGncsPjKKGXr/Srx1vAtKZKErZ1d+ut6APRWTfaSP2WYEBWXoJFN6dtz/+XpPY0kX kCh1TKV5o8sD7URTggVgzSuaKRxzcmbn+1/uwA4IIpfreRA3hxrZfcbcziAqN5DzsCXcx2Tge1K IakuHwQjicndSUP6FD0hKeU+S25G0ZP/tEOD1bL8aiJFBwTLwJ3hsWkEytyihoFEOrnsAS2PSjV WImhGoSeFMh2uYKY/9ipzrZJy3kde3+rvmlZ7Ub4MrHSj1VzmDUDdifkIG1LdT8K8Gp9vprZ2JX 5VTeNcAR6amICia6VleIry0yPIPeIcDutdfWWXVDYNBaZ/0BQEGIn5sXRUCLBrcAL2D2MUzRrkR AH/d2IIHh X-Google-Smtp-Source: AGHT+IEW64XQF3+E2pToZZe2T3z81bRK7FLh+eUJGv0zQ+fAdr1VzooxiIaTDuFARx07seBfkCVpshKf+3yT X-Received: by 2002:a05:690e:15d8:b0:63f:bf2b:5756 with SMTP id 956f58d0204a3-641e74e36e2mr1659435d50.24.1763111872131; Fri, 14 Nov 2025 01:17:52 -0800 (PST) Received: from postal.iol.unh.edu (postal.iol.unh.edu. [2606:4100:3880:1234::84]) by smtp-relay.gmail.com with ESMTPS id 956f58d0204a3-6410ea07158sm352692d50.4.2025.11.14.01.17.52 (version=TLS1_2 cipher=ECDHE-ECDSA-AES128-GCM-SHA256 bits=128/128); Fri, 14 Nov 2025 01:17:52 -0800 (PST) X-Relaying-Domain: iol.unh.edu Date: Fri, 14 Nov 2025 01:17:52 -0800 (PST) Message-ID: <6916f3c0.530a0220.cb393.0cdbSMTPIN_ADDED_MISSING@mx.google.com> Received: from [172.21.0.2] (unknown [172.18.0.240]) by postal.iol.unh.edu (Postfix) with ESMTP id C07B56050A61; Fri, 14 Nov 2025 04:17:51 -0500 (EST) Subject: |SUCCESS| pw158752 [PATCH] ethdev: add GENEVE encapsulation and deca From: dpdklab@iol.unh.edu To: Test Report Cc: dpdk-test-reports@iol.unh.edu, Stephen Hemminger In-Reply-To: <20251113102158.48040-1-sunyang.wu@jaguarmicro.com> References: <20251113102158.48040-1-sunyang.wu@jaguarmicro.com> Content-Type: text/plain X-BeenThere: test-report@dpdk.org X-Mailman-Version: 2.1.29 Precedence: list List-Id: automatic DPDK test reports List-Unsubscribe: , List-Archive: List-Post: List-Help: List-Subscribe: , Errors-To: test-report-bounces@dpdk.org Test-Label: iol-compile-arm64-testing Test-Status: SUCCESS http://dpdk.org/patch/158752 _Testing PASS_ Submitter: Sunyang Wu Date: Thursday, November 13 2025 10:21:58 DPDK git baseline: Repo:dpdk-next-net Branch: master CommitID:29807269854f9bfc72f1323273de8e23adc724d4 158752 --> testing pass Upstream job id: Generic-DPDK-Compile-Meson#443921 Test environment and result as below: +------------------------------+--------------------+ | Environment | dpdk_meson_compile | +==============================+====================+ | Red Hat Enterprise Linux 9.5 | PASS | +------------------------------+--------------------+ | Ubuntu 20.04 | PASS | +------------------------------+--------------------+ | Debian GNU/Linux 12 | PASS | +------------------------------+--------------------+ | Fedora Linux 42 | PASS | +------------------------------+--------------------+ | Ubuntu 22.04 | PASS | +------------------------------+--------------------+ | CentOS Stream 9 | PASS | +------------------------------+--------------------+ | Ubuntu 24.04 | PASS | +------------------------------+--------------------+ | CentOS Stream 10 | PASS | +------------------------------+--------------------+ Red Hat Enterprise Linux 9.5 Kernel: 5.4 Compiler: gcc gcc (GCC) 11.5.0 20240719 (Red Hat 11.5.0-2) Ubuntu 20.04 Kernel: 5.15 Compiler: aarch64-linux-gnu-gcc gcc (Ubuntu 9.4.0-1ubuntu1~20.04.2) 9.4.0 Debian GNU/Linux 12 Kernel: 5.4 Compiler: gcc gcc (Debian 12.2.0-14+deb12u1) 12.2.0 Fedora Linux 42 Kernel: 5.4 Compiler: gcc gcc (GCC) 15.2.1 20250808 (Red Hat 15.2.1-1) Ubuntu 22.04 Kernel: 5.4 Compiler: gcc gcc (Ubuntu 11.4.0-1ubuntu1~22.04) 11.4.0 CentOS Stream 9 Kernel: 5.4 Compiler: gcc gcc (GCC) 11.5.0 20240719 (Red Hat 11.5.0-11) Ubuntu 24.04 Kernel: 5.4 Compiler: gcc gcc (Ubuntu 13.3.0-6ubuntu2~24.04) 13.3.0 CentOS Stream 10 Kernel: 5.4 Compiler: gcc gcc (GCC) 14.2.1 20250110 (Red Hat 14.2.1-8) To view detailed results, visit: https://lab.dpdk.org/results/dashboard/patchsets/34569/ UNH-IOL DPDK Community Lab To manage your email subscriptions, visit: https://lab.dpdk.org/results/dashboard/preferences/subscriptions/